BEGIN:VCALENDAR
VERSION:2.0
PRODID:-//Murphy Deals - ECPv6.15.20//NONSGML v1.0//EN
CALSCALE:GREGORIAN
METHOD:PUBLISH
X-ORIGINAL-URL:https://murphydeals.com
X-WR-CALDESC:Events for Murphy Deals
REFRESH-INTERVAL;VALUE=DURATION:PT1H
X-Robots-Tag:noindex
X-PUBLISHED-TTL:PT1H
BEGIN:VTIMEZONE
TZID:America/Phoenix
BEGIN:STANDARD
TZOFFSETFROM:-0700
TZOFFSETTO:-0700
TZNAME:MST
DTSTART:20220101T000000
END:STANDARD
END:VTIMEZONE
BEGIN:VEVENT
DTSTART;TZID=America/Phoenix:20230425T183000
DTEND;TZID=America/Phoenix:20230425T213000
DTSTAMP:20260425T190727
CREATED:20230424T162202Z
LAST-MODIFIED:20230424T162202Z
UID:10007586-1682447400-1682458200@murphydeals.com
SUMMARY:Spirit Guide Oracle Reads
DESCRIPTION:Spirit Guide Oracle Reading\n\n\nAllow me to take you on a journey to meet your guides\, connect with Spirit\, through an uplifting\, encouraging intuitive oracle reading. We’ll begin with our breath\, intention setting and incorporate medicine cards\, crystals\, sound healing\, our inner voice and the opportunity to receive a personalized\, audio guided meditation/ drawing/painting. \nYou will receive an inspirational Oracle medicine card reading and a personalized drawing/painting of your spirit guide/s. \n \nStarting Investment $3\,500 \n \n Original works/ art and canvas hand crafted.  \n \nEco friendly recyclable wood  30×40\, 36×48\, 48×60
URL:https://murphydeals.com/event/spirit-guide-oracle-reads-2/
LOCATION:2100 McCulloch Blvd N\, 2100 McCulloch Boulevard North\, Lake Havasu City\, AZ\, 86403\, United States
ATTACH;FMTTYPE=image/jpeg:https://murphydeals.com/wp-content/uploads/2023/04/6679e6cd593a9e12866e6b9a53a6f0c6-1.jpg
END:VEVENT
BEGIN:VEVENT
DTSTART;TZID=America/Phoenix:20230425T183000
DTEND;TZID=America/Phoenix:20230425T213000
DTSTAMP:20260425T190727
CREATED:20230424T162200Z
LAST-MODIFIED:20230424T162200Z
UID:10007585-1682447400-1682458200@murphydeals.com
SUMMARY:Spirit Guide Oracle Reads
DESCRIPTION:Spirit Guide Oracle Reading\n\n\nAllow me to take you on a journey to meet your guides\, connect with Spirit\, through an uplifting\, encouraging intuitive oracle reading. We’ll begin with our breath\, intention setting and incorporate medicine cards\, crystals\, sound healing\, our inner voice and the opportunity to receive a personalized\, audio guided meditation/ drawing/painting. \nYou will receive an inspirational Oracle medicine card reading and a personalized drawing/painting of your spirit guide/s. \n \nStarting Investment $3\,500 \n \n Original works/ art and canvas hand crafted.  \n \nEco friendly recyclable wood  30×40\, 36×48\, 48×60
URL:https://murphydeals.com/event/spirit-guide-oracle-reads/
LOCATION:2100 McCulloch Blvd N\, 2100 McCulloch Boulevard North\, Lake Havasu City\, AZ\, 86403\, United States
ATTACH;FMTTYPE=image/jpeg:https://murphydeals.com/wp-content/uploads/2023/04/6679e6cd593a9e12866e6b9a53a6f0c6.jpg
END:VEVENT
END:VCALENDAR