BEGIN:VCALENDAR
VERSION:2.0
PRODID:-//Murphy Deals - ECPv6.15.20//NONSGML v1.0//EN
CALSCALE:GREGORIAN
METHOD:PUBLISH
X-ORIGINAL-URL:https://murphydeals.com
X-WR-CALDESC:Events for Murphy Deals
REFRESH-INTERVAL;VALUE=DURATION:PT1H
X-Robots-Tag:noindex
X-PUBLISHED-TTL:PT1H
BEGIN:VTIMEZONE
TZID:America/Phoenix
BEGIN:STANDARD
TZOFFSETFROM:-0700
TZOFFSETTO:-0700
TZNAME:MST
DTSTART:20220101T000000
END:STANDARD
END:VTIMEZONE
BEGIN:VEVENT
DTSTART;TZID=America/Phoenix:20230329T170000
DTEND;TZID=America/Phoenix:20230329T190000
DTSTAMP:20260425T145525
CREATED:20230221T201702Z
LAST-MODIFIED:20230306T170954Z
UID:10007234-1680109200-1680116400@murphydeals.com
SUMMARY:Air Control Home Services Open House Hiring Event
DESCRIPTION:
URL:https://murphydeals.com/event/air-control-home-services-open-house-hiring-event/
LOCATION:air control
CATEGORIES:Event
ATTACH;FMTTYPE=image/jpeg:https://murphydeals.com/wp-content/uploads/2023/02/Hiringevent-e1677010609297.jpg
END:VEVENT
END:VCALENDAR