BEGIN:VCALENDAR
VERSION:2.0
PRODID:-//Murphy Deals - ECPv6.15.20//NONSGML v1.0//EN
CALSCALE:GREGORIAN
METHOD:PUBLISH
X-WR-CALNAME:Murphy Deals
X-ORIGINAL-URL:https://murphydeals.com
X-WR-CALDESC:Events for Murphy Deals
REFRESH-INTERVAL;VALUE=DURATION:PT1H
X-Robots-Tag:noindex
X-PUBLISHED-TTL:PT1H
BEGIN:VTIMEZONE
TZID:America/Phoenix
BEGIN:STANDARD
TZOFFSETFROM:-0700
TZOFFSETTO:-0700
TZNAME:MST
DTSTART:20210101T000000
END:STANDARD
END:VTIMEZONE
BEGIN:VEVENT
DTSTART;TZID=America/Phoenix:20221209T180000
DTEND;TZID=America/Phoenix:20221209T220000
DTSTAMP:20260425T162254
CREATED:20221129T000225Z
LAST-MODIFIED:20221129T000225Z
UID:10006653-1670608800-1670623200@murphydeals.com
SUMMARY:Voices of the River Concert Gala
DESCRIPTION:Enter For Your Chance To Win a Pair of Tickets!
URL:https://murphydeals.com/event/voices-of-the-river-concert-gala/
LOCATION:Aqarius Casino & Resort
CATEGORIES:Music | Concerts
ATTACH;FMTTYPE=image/jpeg:https://murphydeals.com/wp-content/uploads/2022/11/VOTR-Graphic-Murphy-Deals-e1669680118890.jpg
END:VEVENT
END:VCALENDAR