BEGIN:VCALENDAR
VERSION:2.0
PRODID:-//Murphy Deals - ECPv6.15.20//NONSGML v1.0//EN
CALSCALE:GREGORIAN
METHOD:PUBLISH
X-WR-CALNAME:Murphy Deals
X-ORIGINAL-URL:https://murphydeals.com
X-WR-CALDESC:Events for Murphy Deals
REFRESH-INTERVAL;VALUE=DURATION:PT1H
X-Robots-Tag:noindex
X-PUBLISHED-TTL:PT1H
BEGIN:VTIMEZONE
TZID:America/Phoenix
BEGIN:STANDARD
TZOFFSETFROM:-0700
TZOFFSETTO:-0700
TZNAME:MST
DTSTART:20210101T000000
END:STANDARD
END:VTIMEZONE
BEGIN:VEVENT
DTSTART;TZID=America/Phoenix:20230601T173000
DTEND;TZID=America/Phoenix:20230601T203000
DTSTAMP:20260423T111402
CREATED:20230501T215822Z
LAST-MODIFIED:20230501T215822Z
UID:10007761-1685640600-1685651400@murphydeals.com
SUMMARY:33rd Annual Chef’s Food Fest at the Aquarius Resort in Laughlin
DESCRIPTION:We at the Laughlin Chamber of Commerce cordially invite you to join us at the 33rd Annual Chef’s Food Fest! \nThe Chef’s Food Fest is well known as a leading community experience and has been a sellout each year\, for the past three decades! During the evening our guests will enjoy endless courses\, fine beverages\, and exquisite confections prepared by some of our area’s top chefs and mixologists. \nThe 33rd Annual Chef’s Food Fest will be taking place\, Thursday\, June 1st at The Aquarius Casino Resort in Laughlin\, NV and will be themed “Flavors of New England”. Following suit with the following years themes; “Flavors of the Islands” 2019\, “Flavors of the Deep South” 2018\, & “Flavors of the Desert” in 2017. \nIn 2017\, we introduced the first ever “secret ingredient” – Prickly Pear Cactus was a required ingredient to be used in at least one of the Chef’s masterpieces in order to be judged. This year will also have a secret ingredient! The secret ingredient will be announced at a later date and expected to be used in at least one of your edible presentations. The best use of this ingredient will win the newest trophy category; “Best use of Secret Ingredient”! We will continue with the previous years “Best Booth”\, “Best Food”\, “Best Dessert”\, and “Best Drink”. \nAs you may know\, this evening also features a live charity auction that benefits the River Fund\, Inc. This sensational event is one of the Laughlin Chamber’s major fundraising events. Each year\, the Laughlin Chamber makes a commitment to donate a minimum of $15\,000 to the River Fund\, Inc.\, and in some past years we have been able to donate over $20\,000! \nThe 33rd Annual Chef’s Food Fest tickets are on sale NOW! $100 per person or $1000 for a reserved table of 10. They will go fast\, so do not wait! If you would like to sit with your friends & family\, please consider purchasing a reserved table of 10 as there will be assigned seating. \nIf you or your business are interested in participating in this year’s event\, you can still sign up! We are now also accepting charity auction donations as well as sponsorships. If you would like more information about this topic\, please contact Michelle Talley at 702-298-2214 ext 3.  \n\n\n\nEvent Location:\n\n\nAquarius Casino Resort\n\n\nDate/Time Information:\n\n\nThursday\, June 1st at 5:30 p.m.\n\n\nContact Information:\n\n\n702-298-2214 Ext 3\n\n\nFees/Admission:\n\n\n$100 per ticket / $1000 per table\n\n\n***This is a 21+ Event!***
URL:https://murphydeals.com/event/33rd-annual-chefs-food-fest-at-the-aquarius-resort-in-laughlin/
LOCATION:Aquarius Casino Resort\, 1900 S Casino Dr\, Laughlin\, NV\, 89029\, United States
CATEGORIES:Event
ATTACH;FMTTYPE=image/jpeg:https://murphydeals.com/wp-content/uploads/2023/05/annual-chefs-food-fest-2023_6B8AAC97-0FED-129F-DAE-1-e1682978164164.jpg
END:VEVENT
BEGIN:VEVENT
DTSTART;TZID=America/Phoenix:20230419T100000
DTEND;TZID=America/Phoenix:20230419T130000
DTSTAMP:20260423T111402
CREATED:20230417T174419Z
LAST-MODIFIED:20230417T174419Z
UID:10007526-1681898400-1681909200@murphydeals.com
SUMMARY:Job Fair at the Aquarius Pavilion in Laughlin
DESCRIPTION:
URL:https://murphydeals.com/event/job-fair-at-the-aquarius-pavilion-in-laughlin/
LOCATION:Aquarius Casino Resort\, 1900 S Casino Dr\, Laughlin\, NV\, 89029\, United States
CATEGORIES:Event
ATTACH;FMTTYPE=image/jpeg:https://murphydeals.com/wp-content/uploads/2023/04/aquarius-1-e1681753297385.jpg
END:VEVENT
BEGIN:VEVENT
DTSTART;TZID=America/Phoenix:20221113T090000
DTEND;TZID=America/Phoenix:20221113T180000
DTSTAMP:20260423T111402
CREATED:20221010T192435Z
LAST-MODIFIED:20221010T192435Z
UID:10006401-1668330000-1668362400@murphydeals.com
SUMMARY:Annual UFO Symposium at Aquarius Casino Resort
DESCRIPTION:StarworksUSA is founded in support of both the research & inquiry into the UFO phenomenon and those who have had the profound experience of contact with extraterrestrial life. Our conferences are designed to change the perception of ET contact. We promote the belief that contact is a unique form of communication and integration with our galactic neighbors which defies explanation of time and space. \nAquarius Casino Resort \n1900 S Casino Dr\, Laughlin\, NV 89029 \n 
URL:https://murphydeals.com/event/annual-ufo-symposium-at-aquarius-casino-resort/2022-11-13/
LOCATION:Aquarius Casino Resort\, 1900 S Casino Dr\, Laughlin\, NV\, 89029\, United States
CATEGORIES:Event
ATTACH;FMTTYPE=image/jpeg:https://murphydeals.com/wp-content/uploads/2022/10/ufo-e1665429449375.jpg
END:VEVENT
BEGIN:VEVENT
DTSTART;TZID=America/Phoenix:20221112T190000
DTEND;TZID=America/Phoenix:20221112T233000
DTSTAMP:20260423T111402
CREATED:20221031T213740Z
LAST-MODIFIED:20221031T213740Z
UID:10006532-1668279600-1668295800@murphydeals.com
SUMMARY:Laurie Cook & The Heat playing at Aquarius Splash Lounge
DESCRIPTION:NOVEMBER 10\, 2022 – NOVEMBER 12\, 2022\nSPLASH LOUNGE\nLead by the beautiful and talented singer and songwriter\, Laurie Cook\, she and her awesome band will keep you dancing all night long to a variety of music styles. \nTHURSDAY – SATURDAY \n7PM-MIDNIGHT
URL:https://murphydeals.com/event/laurie-cook-the-heat-playing-at-aquarius-splash-lounge/2022-11-12/
LOCATION:Aquarius Casino Resort\, 1900 S Casino Dr\, Laughlin\, NV\, 89029\, United States
CATEGORIES:Music | Concerts
ATTACH;FMTTYPE=image/jpeg:https://murphydeals.com/wp-content/uploads/2022/10/lauriecook-e1667252214954.jpg
END:VEVENT
BEGIN:VEVENT
DTSTART;TZID=America/Phoenix:20221112T090000
DTEND;TZID=America/Phoenix:20221112T180000
DTSTAMP:20260423T111402
CREATED:20221010T192435Z
LAST-MODIFIED:20221010T192435Z
UID:10006400-1668243600-1668276000@murphydeals.com
SUMMARY:Annual UFO Symposium at Aquarius Casino Resort
DESCRIPTION:StarworksUSA is founded in support of both the research & inquiry into the UFO phenomenon and those who have had the profound experience of contact with extraterrestrial life. Our conferences are designed to change the perception of ET contact. We promote the belief that contact is a unique form of communication and integration with our galactic neighbors which defies explanation of time and space. \nAquarius Casino Resort \n1900 S Casino Dr\, Laughlin\, NV 89029 \n 
URL:https://murphydeals.com/event/annual-ufo-symposium-at-aquarius-casino-resort/2022-11-12/
LOCATION:Aquarius Casino Resort\, 1900 S Casino Dr\, Laughlin\, NV\, 89029\, United States
CATEGORIES:Event
ATTACH;FMTTYPE=image/jpeg:https://murphydeals.com/wp-content/uploads/2022/10/ufo-e1665429449375.jpg
END:VEVENT
END:VCALENDAR