BEGIN:VCALENDAR
VERSION:2.0
PRODID:-//Murphy Deals - ECPv6.15.20//NONSGML v1.0//EN
CALSCALE:GREGORIAN
METHOD:PUBLISH
X-WR-CALNAME:Murphy Deals
X-ORIGINAL-URL:https://murphydeals.com
X-WR-CALDESC:Events for Murphy Deals
REFRESH-INTERVAL;VALUE=DURATION:PT1H
X-Robots-Tag:noindex
X-PUBLISHED-TTL:PT1H
BEGIN:VTIMEZONE
TZID:America/Phoenix
BEGIN:STANDARD
TZOFFSETFROM:-0700
TZOFFSETTO:-0700
TZNAME:MST
DTSTART:20220101T000000
END:STANDARD
END:VTIMEZONE
BEGIN:VEVENT
DTSTART;TZID=America/Phoenix:20230505T150000
DTEND;TZID=America/Phoenix:20230505T210000
DTSTAMP:20260425T110341
CREATED:20230123T203016Z
LAST-MODIFIED:20230123T203016Z
UID:10006840-1683298800-1683320400@murphydeals.com
SUMMARY:Da Taco Fest in Bullhead City
DESCRIPTION:Happening on: \nFri May 5 2023 at 3:00 pm to 9:00 pm \nThe Bullhead Area Chamber of Commerce is proud to present “Da Taco Fest”. An event to promote our members and their ability to cook the best taco in our Tri-State-state area! Music\, dancing\, and good times for all as we kick off the summer of 2023!
URL:https://murphydeals.com/event/da-taco-fest-in-bullhead-city/
LOCATION:Bullhead Area Chamber of Commerce  Auditorium\, 1251 Hwy 95\, Bullhead City\, AZ\, 86429\, United States
CATEGORIES:Event
ATTACH;FMTTYPE=image/jpeg:https://murphydeals.com/wp-content/uploads/2022/12/tacofest-2-e1674505591663.jpg
END:VEVENT
BEGIN:VEVENT
DTSTART;TZID=America/Phoenix:20230421T120000
DTEND;TZID=America/Phoenix:20230421T130000
DTSTAMP:20260425T110341
CREATED:20230404T175019Z
LAST-MODIFIED:20230404T175019Z
UID:10007440-1682078400-1682082000@murphydeals.com
SUMMARY:Spring-Speed Networking Event at Bullhead Chambers of Commerce in Bullhead
DESCRIPTION:Event Description:\n\n\nSpring – Speed Networking Event\nWhen: Friday\, April 21\nTime: 12pm-1pm (Check in begins at 11:45)\nWhere: 1251 Hwy 95 Bullhead City\, AZ (Conference Room)\nWho: Open to Chamber members and their employees\nRSVP by April 18th – limited seats available \n\nLet’s Grow Your Business Connections\nMore Leads – More Referral’s – More Business\nAbout: \nSpeed Networking is an efficient face-to-face professional networking model that enables participants to make lots of new contacts through one-on-one focused conversations lasting just 2-3 minute time frames. \nDon’t forget to bring your business cards! \nSnacks and Water Available \nrsvp to: membership@bullheadchamber.com
URL:https://murphydeals.com/event/spring-speed-networking-event-at-bullhead-chambers-of-commerce-in-bullhead/
LOCATION:Bullhead Area Chamber of Commerce  Auditorium\, 1251 Hwy 95\, Bullhead City\, AZ\, 86429\, United States
CATEGORIES:Event
ATTACH;FMTTYPE=image/jpeg:https://murphydeals.com/wp-content/uploads/2023/04/Speed-Networking-Event-1-e1680630594603.jpg
END:VEVENT
BEGIN:VEVENT
DTSTART;TZID=America/Phoenix:20230115T080000
DTEND;TZID=America/Phoenix:20230115T140000
DTSTAMP:20260425T110341
CREATED:20230109T213302Z
LAST-MODIFIED:20230109T221342Z
UID:10006901-1673769600-1673791200@murphydeals.com
SUMMARY:Swap meet & Community Carnival in Bullhead
DESCRIPTION:NEW LOCATION!  We have moved to an indoor location for the winter months as it is a little cold and the weather is unpredictable.  We will be using the bottom floor of the Bullhead Area Chamber of Commerce. \nThis will also now be a TWO day event (Saturday and Sunday)  from 8:00-2:00 both days.   We have space for 60 vendors! \nIf you need assistance getting a BHC Business lic you can follow the instructions in this link. \nSpaces are 10×10  Your space will be $60 each (This is the price for both days included.  You must commit to staying open and at your booth for the entire time and for both days) . \nMake Bullhead Better is a non-profit\, so all the proceeds from the vendor spaces go to help pay for insurance\, cleaning\, music\, kids zone\, and lunch for volunteers) . \nThis event reaches a wide variety of demographics in our community with music\, a kids zone as well as swap meet vendors\, new and handmade items\, and a wide variety of community resources and non-profits involved.  Food trucks and food vendors will also make this a wonderful opportunity for people to get out and meet new people and support small businesses. \nThe theme is Classy\, NOT Trashy…so there will be no items on the ground unless it is furniture or something very heavy that can’t be put on a table.  It will be clean and well-organized.
URL:https://murphydeals.com/event/24209/2023-01-15/
LOCATION:Bullhead Area Chamber of Commerce  Auditorium\, 1251 Hwy 95\, Bullhead City\, AZ\, 86429\, United States
CATEGORIES:Event
ATTACH;FMTTYPE=image/jpeg:https://murphydeals.com/wp-content/uploads/2023/01/swap-1-e1673302536853.jpeg
END:VEVENT
BEGIN:VEVENT
DTSTART;TZID=America/Phoenix:20230114T080000
DTEND;TZID=America/Phoenix:20230114T140000
DTSTAMP:20260425T110341
CREATED:20230109T213302Z
LAST-MODIFIED:20230109T221342Z
UID:10006900-1673683200-1673704800@murphydeals.com
SUMMARY:Swap meet & Community Carnival in Bullhead
DESCRIPTION:NEW LOCATION!  We have moved to an indoor location for the winter months as it is a little cold and the weather is unpredictable.  We will be using the bottom floor of the Bullhead Area Chamber of Commerce. \nThis will also now be a TWO day event (Saturday and Sunday)  from 8:00-2:00 both days.   We have space for 60 vendors! \nIf you need assistance getting a BHC Business lic you can follow the instructions in this link. \nSpaces are 10×10  Your space will be $60 each (This is the price for both days included.  You must commit to staying open and at your booth for the entire time and for both days) . \nMake Bullhead Better is a non-profit\, so all the proceeds from the vendor spaces go to help pay for insurance\, cleaning\, music\, kids zone\, and lunch for volunteers) . \nThis event reaches a wide variety of demographics in our community with music\, a kids zone as well as swap meet vendors\, new and handmade items\, and a wide variety of community resources and non-profits involved.  Food trucks and food vendors will also make this a wonderful opportunity for people to get out and meet new people and support small businesses. \nThe theme is Classy\, NOT Trashy…so there will be no items on the ground unless it is furniture or something very heavy that can’t be put on a table.  It will be clean and well-organized.
URL:https://murphydeals.com/event/24209/2023-01-14/
LOCATION:Bullhead Area Chamber of Commerce  Auditorium\, 1251 Hwy 95\, Bullhead City\, AZ\, 86429\, United States
CATEGORIES:Event
ATTACH;FMTTYPE=image/jpeg:https://murphydeals.com/wp-content/uploads/2023/01/swap-1-e1673302536853.jpeg
END:VEVENT
END:VCALENDAR