BEGIN:VCALENDAR
VERSION:2.0
PRODID:-//Murphy Deals - ECPv6.15.20//NONSGML v1.0//EN
CALSCALE:GREGORIAN
METHOD:PUBLISH
X-WR-CALNAME:Murphy Deals
X-ORIGINAL-URL:https://murphydeals.com
X-WR-CALDESC:Events for Murphy Deals
REFRESH-INTERVAL;VALUE=DURATION:PT1H
X-Robots-Tag:noindex
X-PUBLISHED-TTL:PT1H
BEGIN:VTIMEZONE
TZID:America/Phoenix
BEGIN:STANDARD
TZOFFSETFROM:-0700
TZOFFSETTO:-0700
TZNAME:MST
DTSTART:20220101T000000
END:STANDARD
END:VTIMEZONE
BEGIN:VEVENT
DTSTART;TZID=America/Phoenix:20230622T170000
DTEND;TZID=America/Phoenix:20230622T200000
DTSTAMP:20260425T123155
CREATED:20230522T194021Z
LAST-MODIFIED:20230522T194021Z
UID:10007838-1687453200-1687464000@murphydeals.com
SUMMARY:Bingo at Bullhead Mohave Valley Association of REALTORS Conference Center
DESCRIPTION:Event Description:\n\nCharity TBD 6 Bingo Cards Including blackout for $25.00 Extra set of 6 cards Including blackout for $10.00 Daubers for $2.00 each. Complementary Water & Popcorn will be provided!! Tickets will be sold at the door\, DEBIT\, cash Pre-pay at the Association Office by stopping in and see Nicole or Dana or contacting us at 928-758-4808!!\n\n\nLocation:\n\nBullhead Mohave Valley Association of REALTORS Conference Center 837 Hancock Rd Bullhead City AZ 86442\n\n\n\nDate/Time Information:\n\nThursday June 22nd Doors open at 5pm Bingo calling starts at 5:30pm\n\n\n\nContact Information:\n\nTickets will be sold at the door\, DEBIT\, cash Pre-pay at the Association Office by stopping in and see Nicole or Dana or contacting us at 928-758-4808!!\nSend an Email\n\n\n\nFees/Admission:\n\n6 Bingo Cards Including blackout for $25.00 Extra set of 6 cards Including blackout for $10.00 Daubers for $2.00 each. Complementary Water & Popcorn will be provided!! Tickets will be sold at the door\, DEBIT\, cash Pre-pay at the Association Office by stopping in and see Nicole or Dana or contacting us at 928-758-4808!!
URL:https://murphydeals.com/event/bingo-at-bullhead-mohave-valley-association-of-realtors-conference-center/
LOCATION:Bullhead Mohave Valley Association of REALTORS Conference Center\, 837 Hancock Rd\, Bullhead City\, AZ\, 86442\, United States
CATEGORIES:Event
ATTACH;FMTTYPE=image/jpeg:https://murphydeals.com/wp-content/uploads/2023/05/yellow-and-red-bingo-boards-or-playing-cards-for-w-2022-11-12-14-56-43-utc-1-e1684784335500.jpg
END:VEVENT
END:VCALENDAR