BEGIN:VCALENDAR
VERSION:2.0
PRODID:-//Murphy Deals - ECPv6.15.20//NONSGML v1.0//EN
CALSCALE:GREGORIAN
METHOD:PUBLISH
X-WR-CALNAME:Murphy Deals
X-ORIGINAL-URL:https://murphydeals.com
X-WR-CALDESC:Events for Murphy Deals
REFRESH-INTERVAL;VALUE=DURATION:PT1H
X-Robots-Tag:noindex
X-PUBLISHED-TTL:PT1H
BEGIN:VTIMEZONE
TZID:America/Phoenix
BEGIN:STANDARD
TZOFFSETFROM:-0700
TZOFFSETTO:-0700
TZNAME:MST
DTSTART:20220101T000000
END:STANDARD
END:VTIMEZONE
BEGIN:VEVENT
DTSTART;TZID=America/Phoenix:20230408T090000
DTEND;TZID=America/Phoenix:20230408T110000
DTSTAMP:20260425T110607
CREATED:20230403T175245Z
LAST-MODIFIED:20230403T175245Z
UID:10007423-1680944400-1680951600@murphydeals.com
SUMMARY:Easter Egg Hunt at Burgers By the Bridge
DESCRIPTION:
URL:https://murphydeals.com/event/easter-egg-hunt-at-burgers-by-the-bridge/
LOCATION:Burgers by the Bridge\, 410 English Village\, Lake Havasu City\, AZ\, 86403\, United States
CATEGORIES:Event
ATTACH;FMTTYPE=image/jpeg:https://murphydeals.com/wp-content/uploads/2023/04/easteregghuntburgersby-1-e1680544215130.jpg
END:VEVENT
END:VCALENDAR