BEGIN:VCALENDAR
VERSION:2.0
PRODID:-//Murphy Deals - ECPv6.15.20//NONSGML v1.0//EN
CALSCALE:GREGORIAN
METHOD:PUBLISH
X-ORIGINAL-URL:https://murphydeals.com
X-WR-CALDESC:Events for Murphy Deals
REFRESH-INTERVAL;VALUE=DURATION:PT1H
X-Robots-Tag:noindex
X-PUBLISHED-TTL:PT1H
BEGIN:VTIMEZONE
TZID:America/Phoenix
BEGIN:STANDARD
TZOFFSETFROM:-0700
TZOFFSETTO:-0700
TZNAME:MST
DTSTART:20220101T000000
END:STANDARD
END:VTIMEZONE
BEGIN:VEVENT
DTSTART;TZID=America/Phoenix:20241007T080000
DTEND;TZID=America/Phoenix:20241013T170000
DTSTAMP:20260425T062422
CREATED:20240819T225143Z
LAST-MODIFIED:20240819T225143Z
UID:10009907-1728288000-1728838800@murphydeals.com
SUMMARY:IJSBA WORLD FINALS
DESCRIPTION:Racing begins on Monday\, October 7- October 13 for the 43rd Annual IJSBA World Finals in Lake Havasu City\, AZ at Crazy Horse Campground. \nThe IJSBA World Finals is a water competition of PWC’s on the lake which include both standup and sit down. \nSaturday\, October 12\, under the London Bridge in Lake Havasu\, is the freestyle competition which starts after sunset. \nQuestions about the event should be directed to the IJSBA by emailing info@ijsba.com or by calling +1-714-751-8695 on Monday through Thursday’s from 9:00 am to 5:00 pm\, Pacific Standard Time.
URL:https://murphydeals.com/event/ijsba-world-finals/
LOCATION:Crazy Horse Campgrounds\, 1534 Beachcomber Blvd\, Lake Havasu City\, 86403\, United States
CATEGORIES:Event,Jet Ski Event,Live On Location,Sports | Activities,Watersports
ATTACH;FMTTYPE=image/png:https://murphydeals.com/wp-content/uploads/2024/08/isjba.png
END:VEVENT
BEGIN:VEVENT
DTSTART;TZID=America/Phoenix:20230506T090000
DTEND;TZID=America/Phoenix:20230506T170000
DTSTAMP:20260425T062422
CREATED:20230221T232157Z
LAST-MODIFIED:20230221T232157Z
UID:10007249-1683363600-1683392400@murphydeals.com
SUMMARY:Arizona Adaptive Watersports Day at Crazy Horse Campgrounds
DESCRIPTION:Arizona Adaptive Water Sports (AAWS) is hosting its third annual event on the Colorado River! \nFamilies with children ages 3 and up and adults with physical and cognitive challanges are invited to attend! Participants must be one year post-injury unless cleared by a physcian to participate in all activities except fishing and boating. \nAdaptive equipment and trained event staff will assist participants in water skiing\, kayaking and tubing near the gorgeous Crazy Horse Campground\, along the Colorado River! \nCost is $55 per day per participant. For no additional charge\, family\, friends and caregivers are welcome to attend with you during your fun day. \nTo register\, visit the event calendar at AAWS.
URL:https://murphydeals.com/event/arizona-adaptive-watersports-day-at-crazy-horse-campgrounds/2023-05-06/
LOCATION:Crazy Horse Campgrounds\, 1534 Beachcomber Blvd\, Lake Havasu City\, 86403\, United States
CATEGORIES:Event
ATTACH;FMTTYPE=image/jpeg:https://murphydeals.com/wp-content/uploads/2023/02/aaw-1-e1677021359194.jpg
END:VEVENT
BEGIN:VEVENT
DTSTART;TZID=America/Phoenix:20230505T090000
DTEND;TZID=America/Phoenix:20230505T170000
DTSTAMP:20260425T062422
CREATED:20230221T232157Z
LAST-MODIFIED:20230221T232157Z
UID:10007248-1683277200-1683306000@murphydeals.com
SUMMARY:Arizona Adaptive Watersports Day at Crazy Horse Campgrounds
DESCRIPTION:Arizona Adaptive Water Sports (AAWS) is hosting its third annual event on the Colorado River! \nFamilies with children ages 3 and up and adults with physical and cognitive challanges are invited to attend! Participants must be one year post-injury unless cleared by a physcian to participate in all activities except fishing and boating. \nAdaptive equipment and trained event staff will assist participants in water skiing\, kayaking and tubing near the gorgeous Crazy Horse Campground\, along the Colorado River! \nCost is $55 per day per participant. For no additional charge\, family\, friends and caregivers are welcome to attend with you during your fun day. \nTo register\, visit the event calendar at AAWS.
URL:https://murphydeals.com/event/arizona-adaptive-watersports-day-at-crazy-horse-campgrounds/2023-05-05/
LOCATION:Crazy Horse Campgrounds\, 1534 Beachcomber Blvd\, Lake Havasu City\, 86403\, United States
CATEGORIES:Event
ATTACH;FMTTYPE=image/jpeg:https://murphydeals.com/wp-content/uploads/2023/02/aaw-1-e1677021359194.jpg
END:VEVENT
END:VCALENDAR