BEGIN:VCALENDAR
VERSION:2.0
PRODID:-//Murphy Deals - ECPv6.15.20//NONSGML v1.0//EN
CALSCALE:GREGORIAN
METHOD:PUBLISH
X-WR-CALNAME:Murphy Deals
X-ORIGINAL-URL:https://murphydeals.com
X-WR-CALDESC:Events for Murphy Deals
REFRESH-INTERVAL;VALUE=DURATION:PT1H
X-Robots-Tag:noindex
X-PUBLISHED-TTL:PT1H
BEGIN:VTIMEZONE
TZID:America/Phoenix
BEGIN:STANDARD
TZOFFSETFROM:-0700
TZOFFSETTO:-0700
TZNAME:MST
DTSTART:20210101T000000
END:STANDARD
END:VTIMEZONE
BEGIN:VEVENT
DTSTART;TZID=America/Phoenix:20230218T190000
DTEND;TZID=America/Phoenix:20230218T213000
DTSTAMP:20260425T072840
CREATED:20221205T211132Z
LAST-MODIFIED:20230207T000505Z
UID:10006785-1676746800-1676755800@murphydeals.com
SUMMARY:Grand Funk Railroad at The Edge Pavilion in Laughlin
DESCRIPTION:WIN TICKETS\nGrand Funk Railroad\, the high-energy five-piece American rock group of the 70s\, will rock out with fans when they hit the stage at The Edge Pavilion\, formerly the E Center\, located at Edgewater Casino Resort. \nThe internationally acclaimed group will perform their crowd-pleasing rock hits at Laughlin’s premier live entertainment and special event venue on Saturday\, Feb. 18\, 2023. Originating from Flint\, Michigan in 1969\, the top selling American rock group includes original founding members Don Brewer and bassist Mel Schacher; singer Max Carl; lead guitarist Bruce Kulick; and keyboardist Tim Cashion. Widely known as “The American Band\,” \nGrand Funk Railroad is known for producing an innovative signature sound\, soulful vocals\, muscular instrumentation and forceful pop melodies that were later adopted by legendary bands such as Foreigner\, Journey\, Van Halen and Bon Jovi. Throughout their career\, Grand Funk Railroad has had 19 charted singles\, eight Top 40 hits and two No. 1 singles in “We’re an American Band” and “Locomotion\,” both selling more than one million each. \nThe group has now accumulated 13 gold and 10 platinum records with record sales in excess of 25 million copies sold worldwide. A testament to the group’s influence and staying power\, mega-hits such as “We’re An American Band\,” “I’m Your Captain/Closer To Home\,” “Locomotion\,” and “Some Kind Of Wonderful” continue to receive airplay on classic rock radio stations. \nCLICK HERE AND ENTER FOR YOUR CHANCE TO WIN TICKETS! \nGET TICKETS
URL:https://murphydeals.com/event/grand-funk-railroad-at-the-edge-pavilion-in-laughlin/
LOCATION:Edge Pavilion\, 2020 S Casino Drive\, Laughlin\, 89029\, 89029
CATEGORIES:Music | Concerts
ATTACH;FMTTYPE=image/jpeg:https://murphydeals.com/wp-content/uploads/2020/01/GFR2-e1672935916273.jpg
END:VEVENT
BEGIN:VEVENT
DTSTART;TZID=America/Phoenix:20230121T190000
DTEND;TZID=America/Phoenix:20230121T233000
DTSTAMP:20260425T072840
CREATED:20220517T234002Z
LAST-MODIFIED:20230104T233706Z
UID:10001611-1674327600-1674343800@murphydeals.com
SUMMARY:TOMMY JAMES & THE SHONDELLS at the Edge Pavilion in Laughlin
DESCRIPTION:TOMMY JAMES & THE SHONDELLS\nJANUARY 21\, 2023\nEDGE PAVILION IN LAUGHLIN\, NV\nTickets from $40 \nTommy James & The Shondells have cemented themselves as living legends and creators of sensational music for the past 60 years. Since breaking onto the music scene in 1964\, the group has sold over 100 million records worldwide\, earned two No. 1 hits\, including the infamous and RIAA Gold-certified record “Hanky Panky” and “Crimson and Clover”; notched 24 singles on Billboard’s Top 40 and earned five songs on the Top 10. In 2008\, Tommy James & The Shondells were honored and inducted into the Michigan Rock and Roll Legends Hall of Fame. \nCLICK HERE AND ENTER FOR YOUR CHANCE TO WIN TICKETS! \nBUY TICKETS
URL:https://murphydeals.com/event/tommy-james-the-shondells/
LOCATION:Edge Pavilion\, 2020 S Casino Drive\, Laughlin\, 89029\, 89029
CATEGORIES:Music | Concerts
ATTACH;FMTTYPE=image/webp:https://murphydeals.com/wp-content/uploads/2022/05/2000-e1652919233790.webp
END:VEVENT
BEGIN:VEVENT
DTSTART;TZID=America/Phoenix:20230114T190000
DTEND;TZID=America/Phoenix:20230114T230000
DTSTAMP:20260425T072840
CREATED:20220926T195316Z
LAST-MODIFIED:20230104T224936Z
UID:10006082-1673722800-1673737200@murphydeals.com
SUMMARY:Lorrie Morgan and Pam Tillis at the Edge Pavilion
DESCRIPTION:From children of country music royalty to Grand Ole Opry members\, award-winning singers and songwriters Lorrie Morgan and Pam Tillis will bring their highly successful Grits & Glamour Tour to Laughlin. Combined they have recorded 28 top 10 hits\, sold more than 18 million records and 12 No. 1 songs. There have been GRAMMY Awards\, CMA Awards\, movie credits\, television appearances and Broadway performances. \nCLICK HERE FOR YOUR CHANCE TO WIN TICKETS!
URL:https://murphydeals.com/event/lorrie-morgan-and-pam-tillis/
LOCATION:Edge Pavilion\, 2020 S Casino Drive\, Laughlin\, 89029\, 89029
CATEGORIES:Event,Music | Concerts
ATTACH;FMTTYPE=image/jpeg:https://murphydeals.com/wp-content/uploads/2022/09/LoriandPam-e1664481625303.jpg
END:VEVENT
BEGIN:VEVENT
DTSTART;TZID=America/Phoenix:20221210T190000
DTEND;TZID=America/Phoenix:20221210T230000
DTSTAMP:20260425T072840
CREATED:20220926T194912Z
LAST-MODIFIED:20221129T212026Z
UID:10006081-1670698800-1670713200@murphydeals.com
SUMMARY:Country Comeback Tour at Edgewater E Center
DESCRIPTION:The Country Comeback Tour features  Shenandoah and artists Billy Dean and Wade Hayes at the E-Center. \nGrammy\, CMA and ACM-winning hitmakers Shenandoah\, fueled by Marty Raybon’s distinctive vocals and the band’s skilled musicianship\, are celebrated for delivering hits such as “Two Dozen Roses\,” “Church on Cumberland Road” and “Next to You\, Next to Me.”  Today\, the legacy continues as original members Raybon and Mike McGuire launch a new chapter in Shenandoah’s storied career with The Country Comeback Tour. Known as a modern-day American Troubadour\, Billy Deanhas performed and toured with some of the industry’s biggest country music stars. \nThe Grammy nominated and ACM award-winning artist joins Shenandoah and Wade Hayes on stages across the country. Dean’s music has become a soundtrack to lives everywhere with hits such as “Billy the Kid\,” “We Just Disagree” and ACM Song of the Year\, “Somewhere in My Broken Heart.” Wade Hayes was in his early 20s when he began churning out enduring hits\, including “Old Enough to Know Better\,” “I’m Still Dancing with You” and “On a Good Night.” Inspired by surviving cancer twice\, his recent work\, “Go Live Your Life\,” is an upbeat anthem about making the most of every day and reveling in the things that bring you happiness.
URL:https://murphydeals.com/event/country-comeback-tour/
LOCATION:Edge Pavilion\, 2020 S Casino Drive\, Laughlin\, 89029\, 89029
CATEGORIES:Event,Music | Concerts
ATTACH;FMTTYPE=image/jpeg:https://murphydeals.com/wp-content/uploads/2022/09/Country-Comeback-e1669756801421.jpg
END:VEVENT
BEGIN:VEVENT
DTSTART;TZID=America/Phoenix:20221126T190000
DTEND;TZID=America/Phoenix:20221126T230000
DTSTAMP:20260425T072840
CREATED:20220926T194123Z
LAST-MODIFIED:20221115T202615Z
UID:10006080-1669489200-1669503600@murphydeals.com
SUMMARY:Sara Evans at Edgewater E Center
DESCRIPTION:As the fifth most-played female artist on country radio for nearly two decades\, multi-platinum entertainer Sara Evans is still at the top of her game. She has amassed five No. 1 singles including “No Place That Far\,” “Suds in The Bucket\, “A Real Fine Place to Start\,” “Born to Fly\,” and “A Little Bit Stronger\,” which spent two weeks in the top spot and was certified platinum by the R.I.A.A. Her work has earned her the prestigious Academy of Country Music Top Female vocalist accolade as well as numerous American Music Awards and Billboard Music Awards\, as well as Country Music Association\, CMT and Grammy Award nominations. In addition\, the CMA awarded her hit chart-topping single “Born to Fly\,” from her landmark double-platinum album of the same name\, Video of the Year. \nGET TICKETS
URL:https://murphydeals.com/event/sara-evans/
LOCATION:Edge Pavilion\, 2020 S Casino Drive\, Laughlin\, 89029\, 89029
CATEGORIES:Event,Music | Concerts
ATTACH;FMTTYPE=image/jpeg:https://murphydeals.com/wp-content/uploads/2022/09/SaraEvans-e1668543757476.jpg
END:VEVENT
END:VCALENDAR