BEGIN:VCALENDAR
VERSION:2.0
PRODID:-//Murphy Deals - ECPv6.15.20//NONSGML v1.0//EN
CALSCALE:GREGORIAN
METHOD:PUBLISH
X-WR-CALNAME:Murphy Deals
X-ORIGINAL-URL:https://murphydeals.com
X-WR-CALDESC:Events for Murphy Deals
REFRESH-INTERVAL;VALUE=DURATION:PT1H
X-Robots-Tag:noindex
X-PUBLISHED-TTL:PT1H
BEGIN:VTIMEZONE
TZID:America/Phoenix
BEGIN:STANDARD
TZOFFSETFROM:-0700
TZOFFSETTO:-0700
TZNAME:MST
DTSTART:20220101T000000
END:STANDARD
END:VTIMEZONE
BEGIN:VEVENT
DTSTART;TZID=America/Phoenix:20230121T100000
DTEND;TZID=America/Phoenix:20230121T140000
DTSTAMP:20260425T092845
CREATED:20220602T225116Z
LAST-MODIFIED:20221206T234058Z
UID:10001636-1674295200-1674309600@murphydeals.com
SUMMARY:Arizona Concealed Carry Permit Course-Kingman
DESCRIPTION:This course will provide you with the required training in order to apply for your Arizona CCW permit from AZ DPS.\n\n\n\nThe course will cover defensive pistol selection\, ethics of use of force\, legal information\, basic firearms knowledge\, and what to do before\, during\, and after a defensive shooting incident\, and legal information pertaining to use\, carry\, purchase\, and ownership of a firearm. Your instructor\, Chris Lutgen is a certified NRA Instructor. \nWhile this is a non-shooting course\, it will satisfy Arizona DPS training requirements to obtain your permit. NO FIREARM is needed for this course. NO FIREARMS or AMMUNINTION is allowed in the classroom. You MUST BE 21 years or older to take this course. \nWhile we are a constitutional carry state\, and we do not need a CCW to carry concealed\, the following are some benefits to having a CCW: \n– Reciprocity: several states recognize the Arizona CCW permit and will allow you to carry concealed in their states with your permit. Nevada is one of these states. \n– Faster processing for firearms purchases \n– The more you have in your corner if you have to defend yourself in court\, the better \n– Be able to carry into alcohol serving establishments concealed \n– Serves as a way of informing a police officer you have a firearm without having to say the word “gun” when interacting with them. \nSpace is limited\, so reserve your spot\, today!! AZ DPS\, Concealed Carry Application will be given out when you check in the day of the class. \n$30 per person (if registered and paid for on Eventbrite by 11:59 pm day before class)\, $45 at the door (CASH ONLY). If you wish to register and pay at the door contact Chris at the number below to reserve your seat. \nWe will have someone on site to do fingerprints for an additional $20 (CASH ONLY). The CCW Permit Unit of AZ DPS will not accept any clearance cards\, including the DPS fingerprint cards. New fingerprint cards MUST be submitted with your application. \nPlease contact Chris Lutgen at 928-486-3039 for any questions. \n***Refund Policy*** \nNo refunds will be issued for this course. In the event you are unable to attend\, you will be scheduled at the next available class in your area. \nFAQs \nAre there ID or minimum age requirements to enter the event? \n-You must be 21 years of age to take this course. \nAre there any other fees beyond the class fee or fingerprints? \n-You will need to submit a $60 cashiers check or money order with your application. This is fee is made payable to AZ DPS and covers the cost of your background check and permit. \nHow can I contact the organizer with any questions? \n-You can contact Chris Lutgen by phone or text with any questions you may have regarding this class. \nPhone: (928) 486 – 3039 \nWhat’s the refund policy? \nAll sales are final\, no refunds will be issued. In the event that you can not make the class please contact Chris and you will be reschedule for the next class near you. \nDo I have to bring my printed ticket to the event? \n-No\, you do not need to bring your printed tickets. \nIs it ok if the name on my ticket or registration doesn’t match the person who attends? \n-No\, in order to have your certificate ready on the day of the event please call and let us know how you want your name to appear on your certificate.
URL:https://murphydeals.com/event/arizona-concealed-carry-permit-course-bullhead-city-az/
LOCATION:Elks Lodge Bpo\, 900 Gates Avenue\, Kingman\, 86401
CATEGORIES:Event
ATTACH;FMTTYPE=image/jpeg:https://murphydeals.com/wp-content/uploads/2022/06/736a65d597d3a2753aca379b13ebbcf0.jpg
END:VEVENT
END:VCALENDAR