BEGIN:VCALENDAR
VERSION:2.0
PRODID:-//Murphy Deals - ECPv6.15.20//NONSGML v1.0//EN
CALSCALE:GREGORIAN
METHOD:PUBLISH
X-WR-CALNAME:Murphy Deals
X-ORIGINAL-URL:https://murphydeals.com
X-WR-CALDESC:Events for Murphy Deals
REFRESH-INTERVAL;VALUE=DURATION:PT1H
X-Robots-Tag:noindex
X-PUBLISHED-TTL:PT1H
BEGIN:VTIMEZONE
TZID:America/Phoenix
BEGIN:STANDARD
TZOFFSETFROM:-0700
TZOFFSETTO:-0700
TZNAME:MST
DTSTART:20220101T000000
END:STANDARD
END:VTIMEZONE
BEGIN:VEVENT
DTSTART;TZID=America/Phoenix:20230903T190000
DTEND;TZID=America/Phoenix:20230903T210000
DTSTAMP:20260425T082201
CREATED:20230626T201043Z
LAST-MODIFIED:20230626T201043Z
UID:10008302-1693767600-1693774800@murphydeals.com
SUMMARY:Doug Swanson at  Hooch's 66 Bar & Grill
DESCRIPTION:Doug “Mug” Swanson – Bass\nDoug grew up in Venice Beach California\, has played with some of the best in the Blues/Rock world. He was the house Bass player at Babes & Ricky’s Inn (L.A.’s oldest blues club) 1997-2003. After relocating to Nashville TN in 2011\, he quickly became an in- demand touring/session Bass player. Doug has performed with Jackson Browne\, Keb Mo\, Paul Oscher\, Ry Cooder\, Tommy Cash (Johnny’s brother)\, Anson Funderburgh w/ Sam Myers\, Kim Wilson\, Dave Alvin\, Kenny Neal\, Denny Freeman\, Jimmy Hall\, Curtis Salgado\, Junior Watson\, Rick Holmstrom\, Kirk Fletcher\, Kid Ramos & Sugar Ray Rayford. 1st Place winner 20TH IBC 2004 Memphis\, Performed at 25th and 27th W.C. Handy Blues Awards Memphis\, Performed at 33rd Annual Blues Music Awards Memphis\, 3rd Annual All Access Music Awards 2005 Los Angeles Best Blues Group/Artist. Doug is endorsed by Ernie Ball\, Quilter Bass Amps and Dickies Clothing. \n  \n 
URL:https://murphydeals.com/event/doug-swanson-at-hoochs-66-bar-grill/2023-09-03/
LOCATION:Hooch’s 66 Bar & Grill\, 5035 E Powell Lake Rd\, Topock\, AZ\, 86436
CATEGORIES:Music | Concerts
ATTACH;FMTTYPE=image/jpeg:https://murphydeals.com/wp-content/uploads/2023/06/doug.mug_.swanson-1-e1687810165597.jpg
END:VEVENT
BEGIN:VEVENT
DTSTART;TZID=America/Phoenix:20230902T190000
DTEND;TZID=America/Phoenix:20230902T210000
DTSTAMP:20260425T082201
CREATED:20230626T201043Z
LAST-MODIFIED:20230626T201043Z
UID:10008301-1693681200-1693688400@murphydeals.com
SUMMARY:Doug Swanson at  Hooch's 66 Bar & Grill
DESCRIPTION:Doug “Mug” Swanson – Bass\nDoug grew up in Venice Beach California\, has played with some of the best in the Blues/Rock world. He was the house Bass player at Babes & Ricky’s Inn (L.A.’s oldest blues club) 1997-2003. After relocating to Nashville TN in 2011\, he quickly became an in- demand touring/session Bass player. Doug has performed with Jackson Browne\, Keb Mo\, Paul Oscher\, Ry Cooder\, Tommy Cash (Johnny’s brother)\, Anson Funderburgh w/ Sam Myers\, Kim Wilson\, Dave Alvin\, Kenny Neal\, Denny Freeman\, Jimmy Hall\, Curtis Salgado\, Junior Watson\, Rick Holmstrom\, Kirk Fletcher\, Kid Ramos & Sugar Ray Rayford. 1st Place winner 20TH IBC 2004 Memphis\, Performed at 25th and 27th W.C. Handy Blues Awards Memphis\, Performed at 33rd Annual Blues Music Awards Memphis\, 3rd Annual All Access Music Awards 2005 Los Angeles Best Blues Group/Artist. Doug is endorsed by Ernie Ball\, Quilter Bass Amps and Dickies Clothing. \n  \n 
URL:https://murphydeals.com/event/doug-swanson-at-hoochs-66-bar-grill/2023-09-02/
LOCATION:Hooch’s 66 Bar & Grill\, 5035 E Powell Lake Rd\, Topock\, AZ\, 86436
CATEGORIES:Music | Concerts
ATTACH;FMTTYPE=image/jpeg:https://murphydeals.com/wp-content/uploads/2023/06/doug.mug_.swanson-1-e1687810165597.jpg
END:VEVENT
BEGIN:VEVENT
DTSTART;TZID=America/Phoenix:20230630T130000
DTEND;TZID=America/Phoenix:20230630T170000
DTSTAMP:20260425T082201
CREATED:20230418T173003Z
LAST-MODIFIED:20230418T174657Z
UID:10007552-1688130000-1688144400@murphydeals.com
SUMMARY:Dry Heat at Hooch's in Kingman
DESCRIPTION:Dry Heat will be performing live on the patio! \n 
URL:https://murphydeals.com/event/dry-heat-at-hoochs-in-kingman/2023-06-30/
LOCATION:Hooch’s 66 Bar & Grill\, 5035 E Powell Lake Rd\, Topock\, AZ\, 86436
CATEGORIES:Event,Music | Concerts
ATTACH;FMTTYPE=image/jpeg:https://murphydeals.com/wp-content/uploads/2023/04/IMG_3107_ccexpress-1024x537-1-e1681838914147.jpg
END:VEVENT
BEGIN:VEVENT
DTSTART;TZID=America/Phoenix:20230528T190000
DTEND;TZID=America/Phoenix:20230528T230000
DTSTAMP:20260425T082201
CREATED:20230418T173003Z
LAST-MODIFIED:20230418T174657Z
UID:10007549-1685300400-1685314800@murphydeals.com
SUMMARY:Dry Heat at Hooch's in Kingman
DESCRIPTION:Dry Heat will be performing live on the patio! \n 
URL:https://murphydeals.com/event/dry-heat-at-hoochs-in-kingman/2023-05-28/
LOCATION:Hooch’s 66 Bar & Grill\, 5035 E Powell Lake Rd\, Topock\, AZ\, 86436
CATEGORIES:Event,Music | Concerts
ATTACH;FMTTYPE=image/jpeg:https://murphydeals.com/wp-content/uploads/2023/04/IMG_3107_ccexpress-1024x537-1-e1681838914147.jpg
END:VEVENT
BEGIN:VEVENT
DTSTART;TZID=America/Phoenix:20230430T130000
DTEND;TZID=America/Phoenix:20230430T170000
DTSTAMP:20260425T082201
CREATED:20230418T173003Z
LAST-MODIFIED:20230418T174657Z
UID:10007548-1682859600-1682874000@murphydeals.com
SUMMARY:Dry Heat at Hooch's in Kingman
DESCRIPTION:Dry Heat will be performing live on the patio! \n 
URL:https://murphydeals.com/event/dry-heat-at-hoochs-in-kingman/2023-04-30/
LOCATION:Hooch’s 66 Bar & Grill\, 5035 E Powell Lake Rd\, Topock\, AZ\, 86436
CATEGORIES:Event,Music | Concerts
ATTACH;FMTTYPE=image/jpeg:https://murphydeals.com/wp-content/uploads/2023/04/IMG_3107_ccexpress-1024x537-1-e1681838914147.jpg
END:VEVENT
END:VCALENDAR