BEGIN:VCALENDAR
VERSION:2.0
PRODID:-//Murphy Deals - ECPv6.15.20//NONSGML v1.0//EN
CALSCALE:GREGORIAN
METHOD:PUBLISH
X-WR-CALNAME:Murphy Deals
X-ORIGINAL-URL:https://murphydeals.com
X-WR-CALDESC:Events for Murphy Deals
REFRESH-INTERVAL;VALUE=DURATION:PT1H
X-Robots-Tag:noindex
X-PUBLISHED-TTL:PT1H
BEGIN:VTIMEZONE
TZID:America/Phoenix
BEGIN:STANDARD
TZOFFSETFROM:-0700
TZOFFSETTO:-0700
TZNAME:MST
DTSTART:20220101T000000
END:STANDARD
END:VTIMEZONE
BEGIN:VEVENT
DTSTART;TZID=America/Phoenix:20230405T163000
DTEND;TZID=America/Phoenix:20230405T180000
DTSTAMP:20260425T095903
CREATED:20230403T222047Z
LAST-MODIFIED:20230403T222047Z
UID:10007434-1680712200-1680717600@murphydeals.com
SUMMARY:LHUSD#1 Job Fair at Jamaica Elementary School in Lake Havasu
DESCRIPTION:Looking to make a difference in the lives of LHUSD#1 students? If so\, look no further. LHUSD#1 will be hosting an Elementary Job Fair on April 5th at4:30pm at Jamaica Elementary to help fill our open positions for the 2023-24 school year. \nSo\, bring your resume and spread the word to help us recruit more amazing people for our district schools!
URL:https://murphydeals.com/event/lhusd1-job-fair-at-jamaica-elementary-school-in-lake-havasu/
LOCATION:Jamaica Elementary School\, 3437 Jamaica Blvd S\, Lake Havasu City\, AZ\, 86406\, United States
CATEGORIES:Event
ATTACH;FMTTYPE=image/jpeg:https://murphydeals.com/wp-content/uploads/2023/04/Elementary-Job-Fair-e1680560411665.jpg
END:VEVENT
END:VCALENDAR