BEGIN:VCALENDAR
VERSION:2.0
PRODID:-//Murphy Deals - ECPv6.15.20//NONSGML v1.0//EN
CALSCALE:GREGORIAN
METHOD:PUBLISH
X-ORIGINAL-URL:https://murphydeals.com
X-WR-CALDESC:Events for Murphy Deals
REFRESH-INTERVAL;VALUE=DURATION:PT1H
X-Robots-Tag:noindex
X-PUBLISHED-TTL:PT1H
BEGIN:VTIMEZONE
TZID:America/Phoenix
BEGIN:STANDARD
TZOFFSETFROM:-0700
TZOFFSETTO:-0700
TZNAME:MST
DTSTART:20220101T000000
END:STANDARD
END:VTIMEZONE
BEGIN:VEVENT
DTSTART;TZID=America/Phoenix:20241025T210000
DTEND;TZID=America/Phoenix:20241026T020000
DTSTAMP:20260425T121640
CREATED:20241007T224754Z
LAST-MODIFIED:20241007T224754Z
UID:10009971-1729890000-1729908000@murphydeals.com
SUMMARY:THE HAUNTING PART 3 AT KOKOMO!
DESCRIPTION:Get ready for the spookiest night of the year- The Haunting Part 3 at Kokomo!  Join us on October 25th for an epic Halloween party with drink specials\, a costume contest\, and hundreds of dollars in cash prizes. Doors open at 9 PM—don’t miss out on the frightful fun!  #TheHauntingPart3 #KokomoHalloween #CostumeContes
URL:https://murphydeals.com/event/the-haunting-part-3-at-kokomo/
LOCATION:Kokomo Beach Club\, 1477 Queens Bay\, Lake Havasu City\, AZ\, 86403\, United States
CATEGORIES:Event,Holiday Event
ATTACH;FMTTYPE=image/png:https://murphydeals.com/wp-content/uploads/2024/10/kokomohaunting.png
END:VEVENT
BEGIN:VEVENT
DTSTART;TZID=America/Phoenix:20230824T200000
DTEND;TZID=America/Phoenix:20230824T233000
DTSTAMP:20260425T121640
CREATED:20230811T161513Z
LAST-MODIFIED:20230811T163618Z
UID:10008348-1692907200-1692919800@murphydeals.com
SUMMARY:Kokomo Beach Party
DESCRIPTION:
URL:https://murphydeals.com/event/kokomo-beach-party/
LOCATION:Kokomo Beach Club\, 1477 Queens Bay\, Lake Havasu City\, AZ\, 86403\, United States
CATEGORIES:Event
ATTACH;FMTTYPE=image/jpeg:https://murphydeals.com/wp-content/uploads/2023/08/Kokomoparty-1-e1691771666180.jpg
END:VEVENT
BEGIN:VEVENT
DTSTART;TZID=America/Phoenix:20230624T210000
DTEND;TZID=America/Phoenix:20230624T223000
DTSTAMP:20260425T121640
CREATED:20230612T225318Z
LAST-MODIFIED:20230612T225318Z
UID:10008254-1687640400-1687645800@murphydeals.com
SUMMARY:Kokomo Komedy Tour Featuring Big Irish Jay
DESCRIPTION:“Big Irish” Jay Hollingsworth started his stand-up career in Boston\, MA where he was recently named “Best Comedy Export” by the readers of the Boston Examiner. Since leaving Massachusetts\, Jay has starred in the movie Comics BBQ and has been a finalist in multiple comedy competitions including the Bay Area Black Comedy Competition\, The Shades of Laughs Comedy Competition\, Magners USA Comedy Festival and the Bend International Comedy Competition. \nJay is the creator and host of the hit live show True Story which features comedians presenting their stand-up\, followed by a take-no-prisoners Q&A that examines which elements are true and what’s been manipulated for comedic effect. By fusing the forensic with the funny\, Hollingsworth illuminates the back-stories behind the tall tales\, offering a rare glimpse inside the craftsmanship of comedy. The True Story show has been featured at the Bridgetown Comedy Festival as well as the Bumbershoot Music and Arts Festival. \nAs a featured guest on some of the top rated podcasts in the country – including multiple appearances on Greg Fitzsimmon’s Fitzdog Radio and Doug Benson’s Doug Loves Movies – Jay has made his mark as a comics’ comic. He made a special appearance on Benson’s Doug Loves Movies: Live In the PacificNorthwest podcast\, which rose to #1 on the iTunes comedy album chart. In 2012 Jay started his own podcast entitled The HollingsWorthless Podcast.
URL:https://murphydeals.com/event/kokomo-komedy-tour-featuring-big-irish-jay/
LOCATION:Kokomo Beach Club\, 1477 Queens Bay\, Lake Havasu City\, AZ\, 86403\, United States
CATEGORIES:Comedy | Comedian
ATTACH;FMTTYPE=image/jpeg:https://murphydeals.com/wp-content/uploads/2023/06/bigirishjay-1-e1686610236517.jpg
END:VEVENT
BEGIN:VEVENT
DTSTART;TZID=America/Phoenix:20230602T170000
DTEND;TZID=America/Phoenix:20230602T220000
DTSTAMP:20260425T121640
CREATED:20230530T222316Z
LAST-MODIFIED:20230530T224656Z
UID:10007853-1685725200-1685743200@murphydeals.com
SUMMARY:Friday Night Glow Party in the Channel
DESCRIPTION:Come join the Havasu Glow Crew for our first event of 2023 !! We will be posting up our boats on the kokomos side of the Bridge Water Channel Friday\, June 2. Bring your glow sticks and glow gear! Open to anyone! \n\n\n\nStart Date\nJune 02\, 2023\n\n\nEnd Date\nNone\n\n\nTime\n5:00 pm\n\n\nOrganizer\nHavasu Glow Crew- Kerry D. McPherson\n\n\nFacebook\nhttps://facebook.com/events/s/friday-night-glow-2023/\n\n\nWebsite\nhttps://www.facebook.com/groups/810693520105212/\n\n\nEvent Category\nBoating\, Events\n\n\nVenue\nBridgewater Channel (near Kokomos) Lake Havasu City\, AZ
URL:https://murphydeals.com/event/friday-night-glow-party-in-the-channel/
LOCATION:Kokomo Beach Club\, 1477 Queens Bay\, Lake Havasu City\, AZ\, 86403\, United States
CATEGORIES:Event
ATTACH;FMTTYPE=image/jpeg:https://murphydeals.com/wp-content/uploads/2023/05/glow-e1685485348349.jpg
END:VEVENT
BEGIN:VEVENT
DTSTART;TZID=America/Phoenix:20230415T180000
DTEND;TZID=America/Phoenix:20230415T200000
DTSTAMP:20260425T121640
CREATED:20230403T172300Z
LAST-MODIFIED:20230403T173341Z
UID:10007422-1681581600-1681588800@murphydeals.com
SUMMARY:Adams comedy tour 3 at Kokommo's
DESCRIPTION:Drew is a comedy veteran who has been entertaining audiences for over 25 years.  He has played clubs\, theaters and assorted other venues across the U.S.\, as well as internationally\, having performed in the Cayman Islands\, The Virgin Islands\, Mexico\, Canada\, Thailand and Malaysia.  He has also done multiple tours performing for the troops across the globe. \nAlways a crowd pleaser\, his comedy is relatable\, intelligent and he always leaves his audience wanting more.  He has been seen on stage at such clubs as The Improv\, The Laugh Factory\, Laughs Unlimited\, Uncle Funny’s\, The Comedy And Magic Club\, Punchlines\, Cobb’s and The Ice House and has been seen on Comedy Central.  He has also worked doing audience warm-up for T.V. shows. \nAs host and creator of the podcast “Bad Advice\, he could be heard on Sirius XM Radio. \nWhen it comes to being on stage and making people laugh\, there is no place he would rather be. \nBUY TICKETS \n 
URL:https://murphydeals.com/event/adams-comedy-tour-3-at-kokommos/
LOCATION:Kokomo Beach Club\, 1477 Queens Bay\, Lake Havasu City\, AZ\, 86403\, United States
CATEGORIES:Comedy | Comedian,Event
ATTACH;FMTTYPE=image/jpeg:https://murphydeals.com/wp-content/uploads/2023/04/drewadams-1-e1680542690870.jpg
END:VEVENT
BEGIN:VEVENT
DTSTART;TZID=America/Phoenix:20230408T190000
DTEND;TZID=America/Phoenix:20230408T203000
DTSTAMP:20260425T121640
CREATED:20230403T164243Z
LAST-MODIFIED:20230403T164449Z
UID:10007421-1680980400-1680985800@murphydeals.com
SUMMARY:Adams Comedy Tour 2 at Kokomo's
DESCRIPTION:Steven is an LA based comedian\, writer & actor. In addition to his international touring schedule for Stand-up\, he regularly shoots sketch comedy for his YouTube channel\, which has grown exponentially in the recent years\, with videos grossing over 100k views. \nHe has just returned from his 5th tour performing for the US troops in the Middle East  and has also recently been featured on TruTV’s Laff Tracks\, Hulu’s Coming to the Stage\, Jokesters TV on the CW and is slated to appear on a new Netflix show this year. His album\, Whiskey Dick\, can be found on itunes \nBUY TICKETS \n  \n  \n  \n 
URL:https://murphydeals.com/event/adams-comedy-tour-2-at-kokomos/
LOCATION:Kokomo Beach Club\, 1477 Queens Bay\, Lake Havasu City\, AZ\, 86403\, United States
CATEGORIES:Comedy | Comedian,Event
ATTACH;FMTTYPE=image/jpeg:https://murphydeals.com/wp-content/uploads/2023/04/Kokomo-Bar-1-e1680540278499.jpg
END:VEVENT
BEGIN:VEVENT
DTSTART;TZID=America/Phoenix:20230312T120000
DTEND;TZID=America/Phoenix:20230312T150000
DTSTAMP:20260425T121640
CREATED:20230224T215744Z
LAST-MODIFIED:20230224T215744Z
UID:10007278-1678622400-1678633200@murphydeals.com
SUMMARY:Whiptail at Kokomo's
DESCRIPTION:
URL:https://murphydeals.com/event/whiptail-at-kokomos/
LOCATION:Kokomo Beach Club\, 1477 Queens Bay\, Lake Havasu City\, AZ\, 86403\, United States
CATEGORIES:Music | Concerts
ATTACH;FMTTYPE=image/jpeg:https://murphydeals.com/wp-content/uploads/2023/02/kokomo-e1677275788490.jpg
END:VEVENT
END:VCALENDAR