BEGIN:VCALENDAR
VERSION:2.0
PRODID:-//Murphy Deals - ECPv6.15.20//NONSGML v1.0//EN
CALSCALE:GREGORIAN
METHOD:PUBLISH
X-WR-CALNAME:Murphy Deals
X-ORIGINAL-URL:https://murphydeals.com
X-WR-CALDESC:Events for Murphy Deals
REFRESH-INTERVAL;VALUE=DURATION:PT1H
X-Robots-Tag:noindex
X-PUBLISHED-TTL:PT1H
BEGIN:VTIMEZONE
TZID:America/Phoenix
BEGIN:STANDARD
TZOFFSETFROM:-0700
TZOFFSETTO:-0700
TZNAME:MST
DTSTART:20220101T000000
END:STANDARD
END:VTIMEZONE
BEGIN:VEVENT
DTSTART;TZID=America/Phoenix:20230610T080000
DTEND;TZID=America/Phoenix:20230610T170000
DTSTAMP:20260425T134344
CREATED:20230522T221458Z
LAST-MODIFIED:20230526T173811Z
UID:10007843-1686384000-1686416400@murphydeals.com
SUMMARY:45th Annual Parker Tube Float
DESCRIPTION:45th Annual Parker Tube Float \nThe Parker Tube Float – The biggest Party on the Parker Strip! #ParkerTubeFloat or #ParkerTubeFloat2023\nThe 45th Annual Parker Tube Float will be held on Saturday June 10\, 2023.Online Registration will open March 1\, 2023. Online Registration will be closed June 4\, 2023 so we can organize everything for the event. Register at www.parkerfun.com \nYou can register online or by visiting the Parker Regional Chamber of Commerce & Tourism office or at one of the off site locations (will be announced after registration opens). \nThe 44th Annual Parker Tube Float registration will be at La Paz County Park from 8 A.M to 11 A.M. with the float ending at 4 P.M. (NO-WAKE ZONE EXPIRES). Park at La Paz County Park ($10.00 parking fee) and we will shuttle you to Buckskin Mountain State Park where the starting line is. We will have air compressors available to inflate your floats and get ready to launch. Ice will also be available for purchase. Once you are ready you will enter the beautiful Colorado River\, passing many different bars and restaurants as you float down to the finish line at La Paz County Park/Pirate’s Den Resort located where you originally parked. \nWe strongly suggest you pre-register as it is $30.00 per person. Once pre-registration closes the fee is $40.00 per person including if you register the morning of the event. An additional fee of $30.00 is required if you will be using a motorized vessel to assist your floating group. \n\n\nGET TICKETS 
URL:https://murphydeals.com/event/45th-annual-parker-tube-float/
LOCATION:La Paz County Park\, 7350 Riverside Drive\, Parker\, AZ\, 85344\, United States
CATEGORIES:Event
ATTACH;FMTTYPE=image/jpeg:https://murphydeals.com/wp-content/uploads/2023/05/parkertubefloat-e1685122635473.jpg
END:VEVENT
BEGIN:VEVENT
DTSTART;TZID=America/Phoenix:20230325T140000
DTEND;TZID=America/Phoenix:20230325T180000
DTSTAMP:20260425T134344
CREATED:20230110T170929Z
LAST-MODIFIED:20230110T171347Z
UID:10006903-1679752800-1679767200@murphydeals.com
SUMMARY:Blues and Brews in Parker
DESCRIPTION:Annual Blues and Brews Fest….a great daytime event for the whole family.  Advanced ticketing is highly recommended.  Live Music\, Beer Tasting\, Wine Tasting\, Diva Bar\, Parker Chamber “Show and Shine” Car Show\, FREE Cornhole Tournament (sign up at event -1st come\, 1st serve basis)\, kids activities and much more.  Advanced ticketing is recommended and will save you $5.00 per person.  Tickets available at Eventbrite.com\, Upriver VFW\, Parker Regional Chamber of Commerce & Tourism\, and from any Soroptimist member. \nFees/Admission:\n\nKids under 12 (must be accompanied by adult) Free\nMinors 12 to 20 (must be accompanied by adult) $15\nAdults 21 and over – $20.00 advanced ticketing or $25.00 the day of
URL:https://murphydeals.com/event/blues-and-brews-in-parker/
LOCATION:La Paz County Park\, 7350 Riverside Drive\, Parker\, AZ\, 85344\, United States
CATEGORIES:Event
ATTACH;FMTTYPE=image/jpeg:https://murphydeals.com/wp-content/uploads/2023/01/bluesbrews-e1673370785205.jpg
END:VEVENT
END:VCALENDAR