BEGIN:VCALENDAR
VERSION:2.0
PRODID:-//Murphy Deals - ECPv6.15.20//NONSGML v1.0//EN
CALSCALE:GREGORIAN
METHOD:PUBLISH
X-ORIGINAL-URL:https://murphydeals.com
X-WR-CALDESC:Events for Murphy Deals
REFRESH-INTERVAL;VALUE=DURATION:PT1H
X-Robots-Tag:noindex
X-PUBLISHED-TTL:PT1H
BEGIN:VTIMEZONE
TZID:America/Phoenix
BEGIN:STANDARD
TZOFFSETFROM:-0700
TZOFFSETTO:-0700
TZNAME:MST
DTSTART:20210101T000000
END:STANDARD
END:VTIMEZONE
BEGIN:VEVENT
DTSTART;TZID=America/Phoenix:20231118T080000
DTEND;TZID=America/Phoenix:20231119T130000
DTSTAMP:20260425T161710
CREATED:20231116T182008Z
LAST-MODIFIED:20231116T182038Z
UID:10008569-1700294400-1700398800@murphydeals.com
SUMMARY:Christmas Boutique
DESCRIPTION:Aquatic Center \nFriday November 17\, 2023 3PM-7Pm\nSaturday November 18\, 2023 8AM-1PM \nHandmade gift for your family & friends\nHome made cakes & cookies \nAll proceeds given to local Charities
URL:https://murphydeals.com/event/christmas-boutique/2023-11-18/
LOCATION:Aquatic Center\, 100 Park Ave\, Lake Havasu City\, AZ\, 86403
CATEGORIES:Charity | Benefits
ATTACH;FMTTYPE=image/jpeg:https://murphydeals.com/wp-content/uploads/2023/11/2023-WW-Christmas-Ad-1-1-e1700158799452.jpg
END:VEVENT
BEGIN:VEVENT
DTSTART;TZID=America/Phoenix:20231117T150000
DTEND;TZID=America/Phoenix:20231117T190000
DTSTAMP:20260425T161710
CREATED:20231116T182008Z
LAST-MODIFIED:20231116T182038Z
UID:10008568-1700233200-1700247600@murphydeals.com
SUMMARY:Christmas Boutique
DESCRIPTION:Aquatic Center \nFriday November 17\, 2023 3PM-7Pm\nSaturday November 18\, 2023 8AM-1PM \nHandmade gift for your family & friends\nHome made cakes & cookies \nAll proceeds given to local Charities
URL:https://murphydeals.com/event/christmas-boutique/2023-11-17/
LOCATION:Aquatic Center\, 100 Park Ave\, Lake Havasu City\, AZ\, 86403
CATEGORIES:Charity | Benefits
ATTACH;FMTTYPE=image/jpeg:https://murphydeals.com/wp-content/uploads/2023/11/2023-WW-Christmas-Ad-1-1-e1700158799452.jpg
END:VEVENT
BEGIN:VEVENT
DTSTART;TZID=America/Phoenix:20221209T153000
DTEND;TZID=America/Phoenix:20221209T193000
DTSTAMP:20260425T161710
CREATED:20221128T210349Z
LAST-MODIFIED:20221130T202722Z
UID:10006641-1670599800-1670614200@murphydeals.com
SUMMARY:19th Annual Community Dinner
DESCRIPTION:December 9th\, 2022 @ 3:30pm – 7:30pm \n \n\nLake Havasu City Aquatic Center\n100 Park Ave\nLake Havasu City\, AZ 86403\n\nAdmission Price: Free \n\nThe entire community is cordially invited to attend the 19th Annual Free Community Dinner on Friday\, December 9 at the Aquatic/Community Center. \nThe team is offering two different serving times: Early Bird Seating at 4pm\, (doors open at 3:30) and the 2nd Seating at 6pm\, (doors open at 5:45). Both servings are first come\, first serve up to 500 people per seating. \nThis dinner\, hosted by the community for the community\, provides a relaxed atmosphere to share a traditional holiday feast with family\, friends\, neighbors\, and anyone who just wants a dose of great community spirit. Thanks to numerous volunteers\, donors\, and local business sponsors\, this event continues to grow year after year. \nThe turkeys\, donated by various local service organizations\, are cooked by Taher Food Service and prepared by Master Chef Christopher Gallaga and W.A.V.E. Culinary and Hospitality students.  The meal includes turkey\, ham\, potatoes and gravy\, stuffing\, dinner rolls\, vegetables\, and a the qchoice of pie for dessert. \nSanta is making a special appearance at both servings\, with toys for girls and boys\, sponsored by the River Riders Motorcycle Club. HavaPic\, sponsored by Anderson Auto Group\, is onsite for both servings to take memorable photos. \nTo volunteer\, please sign-up by Dec. 1 on the city’s volunteer website. \nFor more information\, please contact the Mayor’s Office at 928.453.4152.
URL:https://murphydeals.com/event/19th-annual-community-dinner/
LOCATION:Aquatic Center\, 100 Park Ave\, Lake Havasu City\, AZ\, 86403
CATEGORIES:Event
ATTACH;FMTTYPE=image/jpeg:https://murphydeals.com/wp-content/uploads/2022/11/christmas-table-setting-e1669839233431.jpg
END:VEVENT
END:VCALENDAR