BEGIN:VCALENDAR
VERSION:2.0
PRODID:-//Murphy Deals - ECPv6.15.20//NONSGML v1.0//EN
CALSCALE:GREGORIAN
METHOD:PUBLISH
X-WR-CALNAME:Murphy Deals
X-ORIGINAL-URL:https://murphydeals.com
X-WR-CALDESC:Events for Murphy Deals
REFRESH-INTERVAL;VALUE=DURATION:PT1H
X-Robots-Tag:noindex
X-PUBLISHED-TTL:PT1H
BEGIN:VTIMEZONE
TZID:America/Phoenix
BEGIN:STANDARD
TZOFFSETFROM:-0700
TZOFFSETTO:-0700
TZNAME:MST
DTSTART:20220101T000000
END:STANDARD
END:VTIMEZONE
BEGIN:VEVENT
DTSTART;TZID=America/Phoenix:20251108T060000
DTEND;TZID=America/Phoenix:20251108T180000
DTSTAMP:20260425T062512
CREATED:20250305T221632Z
LAST-MODIFIED:20250305T224838Z
UID:10010264-1762581600-1762624800@murphydeals.com
SUMMARY:Havasu Heroes Memorial Golf Tournament - Lake Havasu Golf Club
DESCRIPTION:More information to come
URL:https://murphydeals.com/event/havasu-heroes-memorial-golf-tournament-lake-havasu-golf-club/
LOCATION:Lake Havasu Golf Club\, 2400 Clubhouse Drive\, Lake Havasu City\, AZ\, 86406\, United States
CATEGORIES:Event
END:VEVENT
BEGIN:VEVENT
DTSTART;TZID=America/Phoenix:20241109T063000
DTEND;TZID=America/Phoenix:20241109T170000
DTSTAMP:20260425T062512
CREATED:20240910T180142Z
LAST-MODIFIED:20240910T181454Z
UID:10009956-1731133800-1731171600@murphydeals.com
SUMMARY:"HAVASU HEROES" GOLF TOURNAMET
DESCRIPTION:REGISTER AT GirlFriend@havasis.com | Deadline to Register 11/1/2024  \nIt’s a Veteran’s Memorial Golf Tournament honoring SSgt William “Billy” Harrell. Golf\, raffle prizes\, live auction and more. Join in the fun! All proceeds to benefit local veterans. \nRegistration: 6:30am | Shotgun Start:  8:00am \n  \n 
URL:https://murphydeals.com/event/39373/
LOCATION:Lake Havasu Golf Club\, 2400 Clubhouse Drive\, Lake Havasu City\, AZ\, 86406\, United States
CATEGORIES:Charity | Benefits,Event,Golf Tournament,Sports | Activities
ATTACH;FMTTYPE=image/png:https://murphydeals.com/wp-content/uploads/2024/09/havasuherostourney.png
END:VEVENT
BEGIN:VEVENT
DTSTART;TZID=America/Phoenix:20241108T140000
DTEND;TZID=America/Phoenix:20241108T220000
DTSTAMP:20260425T062512
CREATED:20240812T232044Z
LAST-MODIFIED:20240910T183321Z
UID:10009880-1731074400-1731103200@murphydeals.com
SUMMARY:HEROS OF HAVASU COUNTRY MUSIC FESTIVAL
DESCRIPTION:Welcome to the Heroes of Havasu Country Music Festival!  Get ready for a day filled with incredible country music at the beautiful Lake Havasu Golf Club.  Join us for a lineup of talented artists\, delicious food\, and good vibes. Grab your cowboy boots and hat\, and come on down to Lake Havasu Golf Club for an unforgettable evening\, all in support of our beloved veterans. Proceeds will benefit LOCAL Veterans in a memorial tribute to SSgt William “Billy” Harrell.  Entry will be free to all Active Duty and Retired Military.  Just show your Military I.D. or Proof of Service at the door to receive a wristband. \n  \n \n 
URL:https://murphydeals.com/event/heros-of-havasu-country-music-festival/
LOCATION:Lake Havasu Golf Club\, 2400 Clubhouse Drive\, Lake Havasu City\, AZ\, 86406\, United States
CATEGORIES:Arts | Theatre,Event,Festival,Live On Location,Music | Concerts
ATTACH;FMTTYPE=image/png:https://murphydeals.com/wp-content/uploads/2024/08/herosofhavasu.png
END:VEVENT
BEGIN:VEVENT
DTSTART;TZID=America/Phoenix:20240914T080000
DTEND;TZID=America/Phoenix:20240914T170000
DTSTAMP:20260425T062512
CREATED:20240815T222416Z
LAST-MODIFIED:20240815T222416Z
UID:10009890-1726300800-1726333200@murphydeals.com
SUMMARY:KIWANIS 11th ANNUAL KRAZY "5 IRON" GOLF TOURNAMENT
DESCRIPTION:Join Kiwanis at the upcoming  golf tournament full of shenanigans\, on September 14. \n4 Person Scramble with a Shot Gun start at 8:00 am. \nCheck in at 7:00 am. Players can use only their “5 Iron” with NO Hybrids allowed! \nThere will be holes with different challenges including a Hecklers Hole\, hula hoop drive and a ball drop. Cash prizes for 1st & 2nd Place\, Longest Drive Men & Women\, Longest Putt Men & Women\, Closest to the Pin Men and Women. \nOnly $100 per player – includes: green frees\, golf cart and lunch. Tee Sponsors are $125 & $150 per hole. Corporate Sponsors $500+. \nThere will be raffles and a 50/50 drawing! \nFor more info\, call: \nLisa T. at 928-733-0876 or Email to kiwanistoyslhc@gmail.com OR \nFred Robbins 909-226-2348 or Email to fredhrobbins@gmail.com \n  \n 
URL:https://murphydeals.com/event/kiwanis-11th-annual-krazy-5-iron-golf-tournament/
LOCATION:Lake Havasu Golf Club\, 2400 Clubhouse Drive\, Lake Havasu City\, AZ\, 86406\, United States
CATEGORIES:Charity | Benefits,Event,Golf Tournament
ATTACH;FMTTYPE=image/png:https://murphydeals.com/wp-content/uploads/2024/08/5irontournament.png
END:VEVENT
BEGIN:VEVENT
DTSTART;TZID=America/Phoenix:20231202T063000
DTEND;TZID=America/Phoenix:20231202T130000
DTSTAMP:20260425T062512
CREATED:20221019T193207Z
LAST-MODIFIED:20231128T000706Z
UID:10006492-1701498600-1701522000@murphydeals.com
SUMMARY:Toys for Tots Golf Tournament in Lake Havasu
DESCRIPTION:We are looking for teams\, sponsors\, raffles\, auction items and more.  We are expecting even more kids that will need to be provided a Christmas this year.  Last year we had about 900 kids and we were told it could be as many as 1200+ this year. \nPlayers are all asked to bring a new\, unwrapped toy to be handed out at our distribution \nSpecial sponsors are needed to help with the cost of donuts\, coffee and items for goodie bags.  This is a great way for local businesses to advertise and show their community support.  All donations stay in Lake Havasu to be used for our local children. \nWe work directly with our local schools and organizations. We will be giving gifts to teenagers\, special needs children and our little ones. \nThank you for all of your help\, support and consideration!
URL:https://murphydeals.com/event/46th-annual-toys-for-tots-golf-tournament/
LOCATION:Lake Havasu Golf Club\, 2400 Clubhouse Drive\, Lake Havasu City\, AZ\, 86406\, United States
CATEGORIES:Charity | Benefits
ATTACH;FMTTYPE=image/webp:https://murphydeals.com/wp-content/uploads/2022/10/toys4tots-e1666208035128.webp
END:VEVENT
BEGIN:VEVENT
DTSTART;TZID=America/Phoenix:20231104T070000
DTEND;TZID=America/Phoenix:20231104T160000
DTSTAMP:20260425T062512
CREATED:20230410T204758Z
LAST-MODIFIED:20230410T204758Z
UID:10007466-1699081200-1699113600@murphydeals.com
SUMMARY:21st Annual Tin Man Charity Golf Tournament at Lake Havasu Golf Club
DESCRIPTION:21st Annual Tin Man Charity Golf Tournament\n\n\nNovember 4 @ 7:00 am – 4:00 pm\n\n\nThe Tin Man Charity Golf Tournament has been helping children in Lake Havasu City\, Arizona for 20 years. \nThe tournament has enabled the American Legion Post #81 in Lake Havasu City to donate $34\,000 to the following charities that help children: Haven Family Resource Center\, Faith and Grace\, Families in Transition\, The Clothes Closet\, LHHS Future Business Leaders of America\, LHHS Athletic Boosters and LHC Parks & Recreation. \nWe have actually started to seek out hole sponsors for next year’s event. Golfer registration ends October 25\, 2023. Sign in for the tournament starts at 7:00 am on the day of the tournament with a shotgun start at 8:00 am. After the tournament lunch is included with their registration fee at the American Legion Post #81\, 181 Paseo Del Sol Ave.\, Lake Havasu City. \nRegistration is $100 per golfer; registration ends Oct. 25. Please register by contacting the American Legion. \nTournament sign-in begins at 7am with a shotgun start at 8am. An after-tournament lunch at the American Legion Post #81 at 181 Paseo Del Sol Ave. is included with the registration fee.
URL:https://murphydeals.com/event/21st-annual-tin-man-charity-golf-tournament-at-lake-havasu-golf-club/
LOCATION:Lake Havasu Golf Club\, 2400 Clubhouse Drive\, Lake Havasu City\, AZ\, 86406\, United States
CATEGORIES:Charity | Benefits,Event
ATTACH;FMTTYPE=image/jpeg:https://murphydeals.com/wp-content/uploads/2023/04/tinmangolf-1-e1681159606430.jpg
END:VEVENT
BEGIN:VEVENT
DTSTART;TZID=America/Phoenix:20230916T080000
DTEND;TZID=America/Phoenix:20230916T140000
DTSTAMP:20260425T062512
CREATED:20220602T224417Z
LAST-MODIFIED:20230728T174814Z
UID:10001631-1694851200-1694872800@murphydeals.com
SUMMARY:Crazy 5 Iron Golf Tournament
DESCRIPTION:
URL:https://murphydeals.com/event/4th-annual-help-a-hero-golf-tournamnet/
LOCATION:Lake Havasu Golf Club\, 2400 Clubhouse Drive\, Lake Havasu City\, AZ\, 86406\, United States
CATEGORIES:Event,Sports | Activities
ATTACH;FMTTYPE=image/jpeg:https://murphydeals.com/wp-content/uploads/2022/06/5-Iron-Tournament-2023_Page_1-1-e1690564149424.jpg
ORGANIZER;CN="Kiwanis Club of LHC":MAILTO:kiwanistoyslhc@gmail.com
END:VEVENT
BEGIN:VEVENT
DTSTART;TZID=America/Phoenix:20230608T180000
DTEND;TZID=America/Phoenix:20230608T210000
DTSTAMP:20260425T062512
CREATED:20230421T190052Z
LAST-MODIFIED:20230526T163528Z
UID:10007569-1686247200-1686258000@murphydeals.com
SUMMARY:Concert on the Course in Lake Havasu
DESCRIPTION:Sit back\, relax\, and enjoy some great folk and indie music provided by “National Park Radio” and “Lindsey Young” \nNational Park Radio is a indie-folk duo from the Ozarks\, echoing fresh but familiar sounds of The Avett Brothers and The Lumineers. Releasing a self-produced EP in early 2013 sparked their rapidly growing fanbase\, and 2016 brought their debut full-length album “The Great Divide”. In early 2017\, follow-up album “Old Forests” was released in an attempt to get back to their indie roots. Touring the country and building their passionate fan-base ever since\, National Park Radio released “The Road Ahead” in 2020 during quarantine\, which features elegant\, adventurous songwriting along with the beautiful harmonies of husband and wife duo Stefan & Kerrie Szabo. \nThere will be Food and Drinks available for purchase. \nPlease bring your own chairs. \n  \nBUY TICKET
URL:https://murphydeals.com/event/concert-on-the-course-at-lake-havasu-golf-club-in-lake-havasu/
LOCATION:Lake Havasu Golf Club\, 2400 Clubhouse Drive\, Lake Havasu City\, AZ\, 86406\, United States
CATEGORIES:Event,Music | Concerts
ATTACH;FMTTYPE=image/jpeg:https://murphydeals.com/wp-content/uploads/2023/04/68283b1db8d0d435fd4451d62bcc9176-1-e1682358295737.jpg
END:VEVENT
BEGIN:VEVENT
DTSTART;TZID=America/Phoenix:20230415T080000
DTEND;TZID=America/Phoenix:20230415T140000
DTSTAMP:20260425T062512
CREATED:20230410T161755Z
LAST-MODIFIED:20230410T161947Z
UID:10007455-1681545600-1681567200@murphydeals.com
SUMMARY:REALTOR® Olympics Annual Charity Golf Tournament at Lake Havasu Golf Club
DESCRIPTION:REALTOR® Olympics Annual Charity Golf Tournament is set to Tee Off! \n100% of the ‘Green’ raised that day goes to local charities. \nSign up FORE a 4 person scramble at LHAR Office. $80 for Premier Members or $100 for non-members\, includes lunch.\nRegistration will start at 6:30am and Tee-off/Shotgun starts at 8:00am. \nWe will have a Side by Side as the prize for Hole in One\, sponsored by Anderson Toyota and a prize for longest drive along with 50/50 and other raffles. \nIf you have questions or would like to become a sponsor\, please reach out to the event chair: Lori Fairchild-Swartz @ 928-733-7440 \n 
URL:https://murphydeals.com/event/realtor-olympics-annual-charity-golf-tournament-at-lake-havasu-golf-club/
LOCATION:Lake Havasu Golf Club\, 2400 Clubhouse Drive\, Lake Havasu City\, AZ\, 86406\, United States
CATEGORIES:Event
ATTACH;FMTTYPE=image/jpeg:https://murphydeals.com/wp-content/uploads/2023/04/golf-e1681143579708.jpg
END:VEVENT
END:VCALENDAR