BEGIN:VCALENDAR
VERSION:2.0
PRODID:-//Murphy Deals - ECPv6.15.20//NONSGML v1.0//EN
CALSCALE:GREGORIAN
METHOD:PUBLISH
X-WR-CALNAME:Murphy Deals
X-ORIGINAL-URL:https://murphydeals.com
X-WR-CALDESC:Events for Murphy Deals
REFRESH-INTERVAL;VALUE=DURATION:PT1H
X-Robots-Tag:noindex
X-PUBLISHED-TTL:PT1H
BEGIN:VTIMEZONE
TZID:America/Phoenix
BEGIN:STANDARD
TZOFFSETFROM:-0700
TZOFFSETTO:-0700
TZNAME:MST
DTSTART:20220101T000000
END:STANDARD
END:VTIMEZONE
BEGIN:VEVENT
DTSTART;TZID=America/Phoenix:20230729T090000
DTEND;TZID=America/Phoenix:20230730T180000
DTSTAMP:20260425T083152
CREATED:20230619T210259Z
LAST-MODIFIED:20230726T170256Z
UID:10008283-1690621200-1690740000@murphydeals.com
SUMMARY:River Roundup at Lake Havasu State Park
DESCRIPTION:911 Entertainment\, Howard Custom Boats\, & Eliminator Boats present the 1st Annual First Responders River Roundup \nAbout this Event \n1st Annual First Responders River Roundup \nHosted by 911 entertainment\, Howard Customs Boats & Eliminator Boats \nSaturday July 29th & Sunday July 30th 2023 \n\nSaturday – Meet at Thompson Bay at 9:30am for parade with your Flags and run to Pirates Cove\nSunday – Meet at Sand Bar to hang out with First Responders\, friends and family\n\nTickets \n\nTickets for 1st Annual First Responders River Roundup can be booked here. \nGet Tickets
URL:https://murphydeals.com/event/1st-annual-first-responders-river-roundup-at-lake-havasu-state-park/
LOCATION:Lake Havasu State Park\, 699 London Bridge Rd\, Lake Havasu City\, Arizona\, 86403
CATEGORIES:Event
ATTACH;FMTTYPE=image/jpeg:https://murphydeals.com/wp-content/uploads/2023/06/River-Round-UP-1-e1690390959549.jpg
END:VEVENT
BEGIN:VEVENT
DTSTART;TZID=America/Phoenix:20230325T100000
DTEND;TZID=America/Phoenix:20230325T170000
DTSTAMP:20260425T083152
CREATED:20230323T173955Z
LAST-MODIFIED:20230323T180742Z
UID:10007343-1679738400-1679763600@murphydeals.com
SUMMARY:Woodystock Blues Festival
DESCRIPTION:GET TICKETS\nDescription: Are you ready for some great music? We’ve got you covered if you find yourself in Arizona on March 25th 2023! The coolest Blues Festival- WOODYSTOCK has a new home at Lake Havasu State Park! \nGates Open: Doors open at 10am \nOur Lineup: JIMMY CARPENTER BAND• JAY GORDON AND THE BLUES VENOM • KENNY BIG DADDY WILLIAMS BAND • STOMP DOWN RIDERS • CATBONE
URL:https://murphydeals.com/event/woodystock-blues-festival/
LOCATION:Lake Havasu State Park\, 699 London Bridge Rd\, Lake Havasu City\, Arizona\, 86403
CATEGORIES:Event,Festival,Music | Concerts
ATTACH;FMTTYPE=image/jpeg:https://murphydeals.com/wp-content/uploads/2023/03/woodystock_new-1-e1679593173164.jpg
END:VEVENT
BEGIN:VEVENT
DTSTART;TZID=America/Phoenix:20230314T200000
DTEND;TZID=America/Phoenix:20230314T210000
DTSTAMP:20260425T083152
CREATED:20230224T155602Z
LAST-MODIFIED:20230224T235044Z
UID:10007260-1678824000-1678827600@murphydeals.com
SUMMARY:Come listen to Mile High at State Beach
DESCRIPTION:
URL:https://murphydeals.com/event/mile-high-at-state-beach/2023-03-14/2/
LOCATION:Lake Havasu State Park\, 699 London Bridge Rd\, Lake Havasu City\, Arizona\, 86403
CATEGORIES:Event
ATTACH;FMTTYPE=image/jpeg:https://murphydeals.com/wp-content/uploads/2023/02/statepark-e1677254149823.jpg
END:VEVENT
BEGIN:VEVENT
DTSTART;TZID=America/Phoenix:20230314T130000
DTEND;TZID=America/Phoenix:20230314T160000
DTSTAMP:20260425T083152
CREATED:20230224T155602Z
LAST-MODIFIED:20230224T235044Z
UID:10007259-1678798800-1678809600@murphydeals.com
SUMMARY:Come listen to Mile High at State Beach
DESCRIPTION:
URL:https://murphydeals.com/event/mile-high-at-state-beach/2023-03-14/1/
LOCATION:Lake Havasu State Park\, 699 London Bridge Rd\, Lake Havasu City\, Arizona\, 86403
CATEGORIES:Event
ATTACH;FMTTYPE=image/jpeg:https://murphydeals.com/wp-content/uploads/2023/02/statepark-e1677254149823.jpg
END:VEVENT
BEGIN:VEVENT
DTSTART;TZID=America/Phoenix:20230305T110000
DTEND;TZID=America/Phoenix:20230305T180000
DTSTAMP:20260425T083152
CREATED:20221010T223754Z
LAST-MODIFIED:20230119T232306Z
UID:10006412-1678014000-1678039200@murphydeals.com
SUMMARY:Bluegrass on the Beach at Lake Havasu State Park
DESCRIPTION:Premier 3 day Bluegrass Music Festival along the beautiful shores of famous Lake Havasu just 1 mile north of the London Bridge. \n\nAdmission: $20 – $25\nDays/­Hours Open: Thu 10am‑6:30pm\, Fri 10am‑5pm\, Sat 11am‑6pm\, Sun 11am‑6pm\nAddress: 699 London Bridge Road\, Lake Havasu City\, AZ 86403\nEntertainment: 1 stage – National. Music: BG \nOther Activities: band workshops & more\nAttendance: 2\,000\n# Food Booths: 8\n# of Exhi­bitors: 40\nJuried: yes\nPrize Money: No\nDeadlines: Art & Craft: until full\nMusic: until full\nFood: until full\nPromoter: Danny Stewart’s Productions LLC\nShow Dir.: Danny Stewart\n\nGET TICKETS
URL:https://murphydeals.com/event/20767/2023-03-05/
LOCATION:Lake Havasu State Park\, 699 London Bridge Rd\, Lake Havasu City\, Arizona\, 86403
CATEGORIES:Festival,Music | Concerts
ATTACH;FMTTYPE=image/png:https://murphydeals.com/wp-content/uploads/2022/10/Bluegrass-e1674170535824.png
END:VEVENT
BEGIN:VEVENT
DTSTART;TZID=America/Phoenix:20230305T090000
DTEND;TZID=America/Phoenix:20230305T160000
DTSTAMP:20260425T083152
CREATED:20230221T235317Z
LAST-MODIFIED:20230221T235317Z
UID:10007251-1678006800-1678032000@murphydeals.com
SUMMARY:Jet Jam PWC Racing Series at North Beach\, Lake Havasu State Park
DESCRIPTION:Line the beach at North Beach at Lake Havasu State Park to watch World Champions in personal watercraft (PWC) compete for top speed and hard-earned glory\, while amateur riders hit the proving ground to test their abilities! \nRacing is from 10am to 4pm. Enter the main entrance of Lake Havasu State Park\, North Beach will be to the right upon entry. This event is not being held at Windsor Beach. \nRaces will also be held on June 10-11 for a special “Race for the Cure” race and the Championship on Sep. 15-17. \nFor more information\, including how to register\, go to JetJam Racing.
URL:https://murphydeals.com/event/jet-jam-pwc-racing-series-at-north-beach-lake-havasu-state-park/2023-03-05/
LOCATION:Lake Havasu State Park\, 699 London Bridge Rd\, Lake Havasu City\, Arizona\, 86403
CATEGORIES:Event,Sports | Activities
ATTACH;FMTTYPE=image/jpeg:https://murphydeals.com/wp-content/uploads/2023/02/jetjam-e1677023299932.jpg
END:VEVENT
BEGIN:VEVENT
DTSTART;TZID=America/Phoenix:20230304T110000
DTEND;TZID=America/Phoenix:20230304T180000
DTSTAMP:20260425T083152
CREATED:20221010T223754Z
LAST-MODIFIED:20230119T232306Z
UID:10006426-1677927600-1677952800@murphydeals.com
SUMMARY:Bluegrass on the Beach at Lake Havasu State Park
DESCRIPTION:Premier 3 day Bluegrass Music Festival along the beautiful shores of famous Lake Havasu just 1 mile north of the London Bridge. \n\nAdmission: $20 – $25\nDays/­Hours Open: Thu 10am‑6:30pm\, Fri 10am‑5pm\, Sat 11am‑6pm\, Sun 11am‑6pm\nAddress: 699 London Bridge Road\, Lake Havasu City\, AZ 86403\nEntertainment: 1 stage – National. Music: BG \nOther Activities: band workshops & more\nAttendance: 2\,000\n# Food Booths: 8\n# of Exhi­bitors: 40\nJuried: yes\nPrize Money: No\nDeadlines: Art & Craft: until full\nMusic: until full\nFood: until full\nPromoter: Danny Stewart’s Productions LLC\nShow Dir.: Danny Stewart\n\nGET TICKETS
URL:https://murphydeals.com/event/20767/2023-03-04/
LOCATION:Lake Havasu State Park\, 699 London Bridge Rd\, Lake Havasu City\, Arizona\, 86403
CATEGORIES:Festival,Music | Concerts
ATTACH;FMTTYPE=image/png:https://murphydeals.com/wp-content/uploads/2022/10/Bluegrass-e1674170535824.png
END:VEVENT
BEGIN:VEVENT
DTSTART;TZID=America/Phoenix:20230304T100000
DTEND;TZID=America/Phoenix:20230304T160000
DTSTAMP:20260425T083152
CREATED:20230221T235317Z
LAST-MODIFIED:20230221T235317Z
UID:10007250-1677924000-1677945600@murphydeals.com
SUMMARY:Jet Jam PWC Racing Series at North Beach\, Lake Havasu State Park
DESCRIPTION:Line the beach at North Beach at Lake Havasu State Park to watch World Champions in personal watercraft (PWC) compete for top speed and hard-earned glory\, while amateur riders hit the proving ground to test their abilities! \nRacing is from 10am to 4pm. Enter the main entrance of Lake Havasu State Park\, North Beach will be to the right upon entry. This event is not being held at Windsor Beach. \nRaces will also be held on June 10-11 for a special “Race for the Cure” race and the Championship on Sep. 15-17. \nFor more information\, including how to register\, go to JetJam Racing.
URL:https://murphydeals.com/event/jet-jam-pwc-racing-series-at-north-beach-lake-havasu-state-park/2023-03-04/
LOCATION:Lake Havasu State Park\, 699 London Bridge Rd\, Lake Havasu City\, Arizona\, 86403
CATEGORIES:Event,Sports | Activities
ATTACH;FMTTYPE=image/jpeg:https://murphydeals.com/wp-content/uploads/2023/02/jetjam-e1677023299932.jpg
END:VEVENT
BEGIN:VEVENT
DTSTART;TZID=America/Phoenix:20230303T100000
DTEND;TZID=America/Phoenix:20230303T170000
DTSTAMP:20260425T083152
CREATED:20221010T223754Z
LAST-MODIFIED:20230119T232306Z
UID:10006537-1677837600-1677862800@murphydeals.com
SUMMARY:Bluegrass on the Beach at Lake Havasu State Park
DESCRIPTION:Premier 3 day Bluegrass Music Festival along the beautiful shores of famous Lake Havasu just 1 mile north of the London Bridge. \n\nAdmission: $20 – $25\nDays/­Hours Open: Thu 10am‑6:30pm\, Fri 10am‑5pm\, Sat 11am‑6pm\, Sun 11am‑6pm\nAddress: 699 London Bridge Road\, Lake Havasu City\, AZ 86403\nEntertainment: 1 stage – National. Music: BG \nOther Activities: band workshops & more\nAttendance: 2\,000\n# Food Booths: 8\n# of Exhi­bitors: 40\nJuried: yes\nPrize Money: No\nDeadlines: Art & Craft: until full\nMusic: until full\nFood: until full\nPromoter: Danny Stewart’s Productions LLC\nShow Dir.: Danny Stewart\n\nGET TICKETS
URL:https://murphydeals.com/event/20767/2023-03-03/
LOCATION:Lake Havasu State Park\, 699 London Bridge Rd\, Lake Havasu City\, Arizona\, 86403
CATEGORIES:Festival,Music | Concerts
ATTACH;FMTTYPE=image/png:https://murphydeals.com/wp-content/uploads/2022/10/Bluegrass-e1674170535824.png
END:VEVENT
BEGIN:VEVENT
DTSTART;TZID=America/Phoenix:20230302T100000
DTEND;TZID=America/Phoenix:20230302T183000
DTSTAMP:20260425T083152
CREATED:20221010T223754Z
LAST-MODIFIED:20230119T232306Z
UID:10006536-1677751200-1677781800@murphydeals.com
SUMMARY:Bluegrass on the Beach at Lake Havasu State Park
DESCRIPTION:Premier 3 day Bluegrass Music Festival along the beautiful shores of famous Lake Havasu just 1 mile north of the London Bridge. \n\nAdmission: $20 – $25\nDays/­Hours Open: Thu 10am‑6:30pm\, Fri 10am‑5pm\, Sat 11am‑6pm\, Sun 11am‑6pm\nAddress: 699 London Bridge Road\, Lake Havasu City\, AZ 86403\nEntertainment: 1 stage – National. Music: BG \nOther Activities: band workshops & more\nAttendance: 2\,000\n# Food Booths: 8\n# of Exhi­bitors: 40\nJuried: yes\nPrize Money: No\nDeadlines: Art & Craft: until full\nMusic: until full\nFood: until full\nPromoter: Danny Stewart’s Productions LLC\nShow Dir.: Danny Stewart\n\nGET TICKETS
URL:https://murphydeals.com/event/20767/2023-03-02/
LOCATION:Lake Havasu State Park\, 699 London Bridge Rd\, Lake Havasu City\, Arizona\, 86403
CATEGORIES:Festival,Music | Concerts
ATTACH;FMTTYPE=image/png:https://murphydeals.com/wp-content/uploads/2022/10/Bluegrass-e1674170535824.png
END:VEVENT
BEGIN:VEVENT
DTSTART;TZID=America/Phoenix:20230218T150000
DTEND;TZID=America/Phoenix:20230218T150000
DTSTAMP:20260425T083152
CREATED:20230124T210046Z
LAST-MODIFIED:20230124T210046Z
UID:10007130-1676732400-1676732400@murphydeals.com
SUMMARY:Big Sandy & His Fly-Rite Boys at Lake Havasu Rockabilly Reunion
DESCRIPTION:Since 1988\, Big Sandy and the Fly-Rite Boys have been bringing their brand of swinging rhythm & roots music to audiences around the world\, with appearances on The Grand Ole Opry\, Late Night with Conan O’Brien\, and countless European festivals. Members of the Rockabilly Hall of Fame\, these two time Ameripolitan Award winners are moving forward into the new decade with a highly acclaimed new release – “Big Sandy and his Fly-Rite Boys Sing & Play The Songs of Freddy Fender”. \nBUY TICKETS
URL:https://murphydeals.com/event/big-sandy-his-fly-rite-boys-at-lake-havasu-rockabilly-reunion/
LOCATION:Lake Havasu State Park\, 699 London Bridge Rd\, Lake Havasu City\, Arizona\, 86403
CATEGORIES:Event,Music | Concerts
ATTACH;FMTTYPE=image/jpeg:https://murphydeals.com/wp-content/uploads/2023/01/bigsandy-1-e1674593957243.jpg
END:VEVENT
END:VCALENDAR