BEGIN:VCALENDAR
VERSION:2.0
PRODID:-//Murphy Deals - ECPv6.15.20//NONSGML v1.0//EN
CALSCALE:GREGORIAN
METHOD:PUBLISH
X-WR-CALNAME:Murphy Deals
X-ORIGINAL-URL:https://murphydeals.com
X-WR-CALDESC:Events for Murphy Deals
REFRESH-INTERVAL;VALUE=DURATION:PT1H
X-Robots-Tag:noindex
X-PUBLISHED-TTL:PT1H
BEGIN:VTIMEZONE
TZID:America/Phoenix
BEGIN:STANDARD
TZOFFSETFROM:-0700
TZOFFSETTO:-0700
TZNAME:MST
DTSTART:20220101T000000
END:STANDARD
END:VTIMEZONE
BEGIN:VEVENT
DTSTART;TZID=America/Phoenix:20230313T120000
DTEND;TZID=America/Phoenix:20230313T153000
DTSTAMP:20260425T093510
CREATED:20230220T175413Z
LAST-MODIFIED:20230220T175413Z
UID:10007206-1678708800-1678721400@murphydeals.com
SUMMARY:Bunco luncheon at Lake Havasu Yacht Club
DESCRIPTION:Enjoy a Spring Bunco Luncheon of salads and desserts! \nLuncheon starts at noon followed by Bunco at 1pm! \nRaffles\, prizes and great food! \nMarch 13th\, 2023 @ 12:00pm – 3:30pm\nLake Havasu Yacht Club\n631 London Bridge Rd\nLake Havasu City\, AZ 86403\nlhyc.net | Admission Price: $10
URL:https://murphydeals.com/event/bunco-luncheon-at-lake-havasu-yacht-club/
LOCATION:Lake Havasu Yacht Club\, 631 London Bridge Road\, Lake Havasu City\, AZ\, 86403\, United States
CATEGORIES:Event
ATTACH;FMTTYPE=image/jpeg:https://murphydeals.com/wp-content/uploads/2023/02/bunco.jpg
END:VEVENT
BEGIN:VEVENT
DTSTART;TZID=America/Phoenix:20230311T090000
DTEND;TZID=America/Phoenix:20230311T140000
DTSTAMP:20260425T093510
CREATED:20230220T171126Z
LAST-MODIFIED:20230220T171126Z
UID:10007204-1678525200-1678543200@murphydeals.com
SUMMARY:Arts and Crafts Faire at Lake Havasu Yacht Club
DESCRIPTION:The Lake Havasu Yacht Club is hosting its annual event featuring handmade crafts\, jewelry and many other unique gifts from local artists and crafters! \nThe fair will be held at the Yacht Club at 631 London Bridge Road. \nProceeds support youth and community activities\, such as Fire\, Police\, and Sea Scouts. \nFor questions regarding the event\, please contact: \nLinda Jo Williams at 775.781.2172 / sunneninaz@yahoo.com  \n 
URL:https://murphydeals.com/event/arts-and-crafts-faire-at-lake-havasu-yacht-club/
LOCATION:Lake Havasu Yacht Club\, 631 London Bridge Road\, Lake Havasu City\, AZ\, 86403\, United States
CATEGORIES:Event
ATTACH;FMTTYPE=image/jpeg:https://murphydeals.com/wp-content/uploads/2023/02/LHCyachtclub.jpg
END:VEVENT
END:VCALENDAR