BEGIN:VCALENDAR
VERSION:2.0
PRODID:-//Murphy Deals - ECPv6.15.20//NONSGML v1.0//EN
CALSCALE:GREGORIAN
METHOD:PUBLISH
X-ORIGINAL-URL:https://murphydeals.com
X-WR-CALDESC:Events for Murphy Deals
REFRESH-INTERVAL;VALUE=DURATION:PT1H
X-Robots-Tag:noindex
X-PUBLISHED-TTL:PT1H
BEGIN:VTIMEZONE
TZID:America/Phoenix
BEGIN:STANDARD
TZOFFSETFROM:-0700
TZOFFSETTO:-0700
TZNAME:MST
DTSTART:20210101T000000
END:STANDARD
END:VTIMEZONE
BEGIN:VEVENT
DTSTART;TZID=America/Phoenix:20241019T190000
DTEND;TZID=America/Phoenix:20241019T220000
DTSTAMP:20260425T203157
CREATED:20240806T211305Z
LAST-MODIFIED:20240806T211305Z
UID:10009832-1729364400-1729375200@murphydeals.com
SUMMARY:EDICION ESPECIAL - LIVE AT THE LAUGHLIN EVENT CENTER
DESCRIPTION:Captivating audiences with lyrical storytelling and dynamic performances\, Edición Especial is led by cousins Arturo Villa on accordion and vocals and Cristian Valenzuela on drums. Alongside bandmates Gil Lizarraga and Jesus Alan Obeso\, the group’s widespread popularity and innovative style of banda music have led to collaborations with genre mainstays like Fuerza Regida and Grupo Firme. Hot on the heels of their triumphant sold-out “Primera Edición” U.S. tour\, Edición Especial will bring their lively approach to playing Musica Mexicana to Laughlin this fall for what’s sure to be a groovin’ good time.
URL:https://murphydeals.com/event/edicion-especial-live-at-the-laughlin-event-center/
LOCATION:Laughlin Event Center\, 500 Bruce Woodbury Drive\, Laughlin\, Nevada\, 89029
CATEGORIES:Arts | Theatre,Event,Live On Location,Music | Concerts
ATTACH;FMTTYPE=image/png:https://murphydeals.com/wp-content/uploads/2024/08/edition.png
END:VEVENT
BEGIN:VEVENT
DTSTART;TZID=America/Phoenix:20240921T190000
DTEND;TZID=America/Phoenix:20240921T220000
DTSTAMP:20260425T203157
CREATED:20240805T211848Z
LAST-MODIFIED:20240820T180947Z
UID:10009817-1726945200-1726956000@murphydeals.com
SUMMARY:JASON ALDEAN - HIGHWAY DESPERADO TOUR
DESCRIPTION:One of country music’s biggest stars\, Jason Aldean will “make it easy” to have a swingin’ good time when he takes the stage at the Laughlin Event Center next year as part of his Highway Desperado Tour. The multi-platinum recording artist will take over Laughlin’s premiere entertainment venue with his iconic brand of country on Saturday\, Sept. 21\, 2024. \nThe reigning ACM Artist of the Decade\, Grammy-nominated Jason Aldean’s prolific career has vaulted him to the pinnacle of country music success with 28 No. 1 singles\, 18 billion streams and more than 20 million albums sold. Since his 2005 chart debut\, the three-time ACM Entertainer of the Year winner has had more Top 10 songs on Billboard’s Hot Country Songs chart than any other artist. His most recent studio album\, “Highway Desperado\,” features the hit single “Try That in a Small Town\,” which became Aldean’s 28th No. 1 country music hit and his first to break-through and hit No. 1 on the mainstream Billboard Hot 100 chart. Available now on all streaming platforms\, the album is the centerpiece of Aldean’s headlining tour of the same name. \nBuy Tickets
URL:https://murphydeals.com/event/jason-aldean-highway-desperado-tour/
LOCATION:Laughlin Event Center\, 500 Bruce Woodbury Drive\, Laughlin\, Nevada\, 89029
CATEGORIES:Arts | Theatre,Event,Live On Location,Music | Concerts
ATTACH;FMTTYPE=image/png:https://murphydeals.com/wp-content/uploads/2024/08/jaldean.png
END:VEVENT
BEGIN:VEVENT
DTSTART;TZID=America/Phoenix:20230923T190000
DTEND;TZID=America/Phoenix:20230923T203000
DTSTAMP:20260425T203157
CREATED:20230424T220726Z
LAST-MODIFIED:20230424T220726Z
UID:10007608-1695495600-1695501000@murphydeals.com
SUMMARY:Sam Hunt at the Laughlin Event Center in Laughlin
DESCRIPTION:Multi-platinum-selling country star Sam Hunt will bring the crowd to its feet when the breakout singer and songwriter performs his catalog of chart toppers at the Laughlin Event Center on Saturday\, Sept. 23. \nEmerging into the music scene with his debut album\, “Montevallo\,” which hit No. 3 on the Billboard 200\, Hunt instantly gained traction within the country music community. Blending elements of pop and rhythm and blues with country\, Hunt has played a role in reinventing mainstream country music with hit songs such as “House Party\,” “Body Like A Back Road\,” “Water Under The Bridge” and “Take Your Time.” Hunt has secured 13 Billboard Hot 100 hit singles throughout his career\, and is the recipient of multiple awards including Single Record of the Year by the Academy of Country Music; Top Country Song by the Billboard Music Awards; Country Song of the Year by the iHeartRadio Music Awards; and has been nominated for more than 25 awards\, including five GRAMMY Awards and three CMA Awards.\nBUY TICKETS  \n 
URL:https://murphydeals.com/event/sam-hunt-at-the-laughlin-event-center-in-laughlin/
LOCATION:Laughlin Event Center\, 500 Bruce Woodbury Drive\, Laughlin\, Nevada\, 89029
CATEGORIES:Event,Music | Concerts
ATTACH;FMTTYPE=image/jpeg:https://murphydeals.com/wp-content/uploads/2023/04/sam-hunt-e1682374008305.jpg
END:VEVENT
BEGIN:VEVENT
DTSTART;TZID=America/Phoenix:20230527T190000
DTEND;TZID=America/Phoenix:20230527T210000
DTSTAMP:20260425T203157
CREATED:20230214T190614Z
LAST-MODIFIED:20230526T164057Z
UID:10007197-1685214000-1685221200@murphydeals.com
SUMMARY:Lynyrd Skynyrd at the Laughlin Event Center
DESCRIPTION:As Lynyrd Skynyrd approaches the 50th anniversary of the band’s critically acclaimed debut album ‘Pronounced ‘Lĕh’nérd ‘Skin-‘nérd’ this year\, they continue to resonate as deeply with their multi-generational fan base as when they first emerged out of Jacksonville\, Florida in 1973. Few ensembles have had the deep impact in creating a lifestyle as Skynyrd has. The band travels forward with a primary mission of celebrating a legacy that honors all whom have had a resonating contribution to the lives of hundreds of millions of fans globally. Lynyrd Skynyrd rocks on with a current line-up featuring Johnny Van Zant\, Rickey Medlocke\, Mark “Sparky” Matejka\, Michael Cartellone\, Keith Christopher\, Peter Keys\, Carol Chase and Stacy Michelle. Gary Rossington continues to have a significant presence and creative influence with the band\, while making select appearances on the road. With a catalog of more than 60 albums\, billions of streams and tens of millions of records sold\, Lynyrd Skynyrd remains a cultural icon that appeals to all generations. \nBUY TICKETS \n 
URL:https://murphydeals.com/event/lynyrd-skynyrd-at-the-laughlin-event-center/
LOCATION:Laughlin Event Center\, 500 Bruce Woodbury Drive\, Laughlin\, Nevada\, 89029
CATEGORIES:Event,Music | Concerts
ATTACH;FMTTYPE=image/png:https://murphydeals.com/wp-content/uploads/2023/02/lynyrd_skynyrd_may_12_event_1516893077-e1685119231495.png
END:VEVENT
BEGIN:VEVENT
DTSTART;TZID=America/Phoenix:20230519T190000
DTEND;TZID=America/Phoenix:20230519T213000
DTSTAMP:20260425T203157
CREATED:20230317T220540Z
LAST-MODIFIED:20230317T223337Z
UID:10007306-1684522800-1684531800@murphydeals.com
SUMMARY:Journey at Laughlin Events Center
DESCRIPTION:Tickets from $85 \nThe iconic band\, known for unforgettable classics as “Don’t Stop Believin’\,” “Any Way You Want It\,” “Lights\,” “Faithfully\,” “Wheel in the Sky” and “Separate Ways (Worlds Apart)\,” among others\, has been a classic rock staple since forming in 1973. Journey’s agreeable blend of melodic hard rock and epic balladry has resulted in 25 gold- and platinum-certified albums\, including “Escape\,” which rocketed to the top of the charts\, sold millions and was certified diamond by the RIAA. The band currently consists of guitarist and vocalist Neal Schon; keyboardist and vocalist Jonathan Cain; keyboardist and vocalist Jason Derlatka; drummer and vocalist Deen Castronovo; bassist Todd Jensen; and lead vocalist Arnel Pineda. Blending elements of keyboard riffs\, guitar solos and percussion with powerful vocals\, Journey’s melodies and lyrics are infectious among listeners. \nBUY TICKETS
URL:https://murphydeals.com/event/journey-at-laughlin-events-center/
LOCATION:Laughlin Event Center\, 500 Bruce Woodbury Drive\, Laughlin\, Nevada\, 89029
CATEGORIES:Event,Music | Concerts
ATTACH;FMTTYPE=image/jpeg:https://murphydeals.com/wp-content/uploads/2023/03/journeys-e1679091894738.jpg
END:VEVENT
BEGIN:VEVENT
DTSTART;TZID=America/Phoenix:20230506T080000
DTEND;TZID=America/Phoenix:20230506T170000
DTSTAMP:20260425T203157
CREATED:20221031T215314Z
LAST-MODIFIED:20230414T204314Z
UID:10006533-1683360000-1683392400@murphydeals.com
SUMMARY:Lady A at the Laughlin Event Center in Laughlin
DESCRIPTION:LAUGHLIN EVENT CENTER\nTickets from $55 \nBuilt around rich vocal harmony\, vivid emotional writing and a smooth fusion of country\, rock and pop\, Lady A have long been a model of mainstream success. The multi-platinum band continues that same momentum with their latest “What A Song Can Do” album featuring their current climbing single\, “Like A Lady.” Their 11 No. 1s\, 18 million albums sold\, 34 million tracks\, five billion digital streams and a global touring footprint prove the point. Known for their nine-time platinum hit “Need You Now\,” which is the highest certified song by a country group\, they earned CMA Vocal Group of the Year trophies three years in a row and countless other honors including five GRAMMY Awards\, Billboard Music Awards\, People’s Choice Awards\, Teen Choice Awards\, a Tony Award nod and were inducted as members of the Grand Ole Opry. \nGET TICKETS
URL:https://murphydeals.com/event/lady-a-in-laughlin/
LOCATION:Laughlin Event Center\, 500 Bruce Woodbury Drive\, Laughlin\, Nevada\, 89029
CATEGORIES:Music | Concerts
ATTACH;FMTTYPE=image/jpeg:https://murphydeals.com/wp-content/uploads/2022/10/Lady-A-scaled-e1681142113567.jpg
END:VEVENT
BEGIN:VEVENT
DTSTART;TZID=America/Phoenix:20230429T190000
DTEND;TZID=America/Phoenix:20230429T230000
DTSTAMP:20260425T203157
CREATED:20220926T195833Z
LAST-MODIFIED:20221220T225642Z
UID:10006083-1682794800-1682809200@murphydeals.com
SUMMARY:Brooks & Dunn at the Laughlin Event Center
DESCRIPTION:With 20 No. 1 hits stretching back to 1991\, two GRAMMY awards\, dozens of ACM and CMA honors and a discography counting more album sales than any duo in history – regardless of genre – Brooks & Dunn’s influence on today’s country has never been in question. Hits like “Boot Scootin’ Boogie\,” “My Maria” and “Believe” have propelled the duo to more than 30 million albums sold\, with the New York Times heralding “together they helped drive the power-country era of the early-to-mid 1990s and continued to benefit from the sea change in the genre they helped initiate right through their most recent albums.” Their original “Merle Haggard meets The Rolling Stones” vibe made them progressive stars in their own right. \nThe duo’s recently released collaboration project REBOOT debuted at No. 1 on Billboard’s Top Country Albums. The impressive feat marks the first time the duo has topped the album charts since 2009 while simultaneously earning the duo their 10th Billboard 200 Top 10 album\, the most of any country duo or group in the chart’s history. In 2019 the duo was inducted into the Country Music Hall of Fame in the “Modern Era Artist” category. \nBUY TICKETS
URL:https://murphydeals.com/event/brooks-dunn/
LOCATION:Laughlin Event Center\, 500 Bruce Woodbury Drive\, Laughlin\, Nevada\, 89029
CATEGORIES:Music | Concerts
ATTACH;FMTTYPE=image/jpeg:https://murphydeals.com/wp-content/uploads/2022/09/brooks-and-dunn-e1664484455143.jpg
END:VEVENT
BEGIN:VEVENT
DTSTART;TZID=America/Phoenix:20230415T190000
DTEND;TZID=America/Phoenix:20230415T220000
DTSTAMP:20260425T203157
CREATED:20230110T232659Z
LAST-MODIFIED:20230221T192745Z
UID:10006916-1681585200-1681596000@murphydeals.com
SUMMARY:DIERKS BENTLEY WITH THE CADILLAC THREE at the LAUGHLIN EVENT CENTER
DESCRIPTION:With hit songs such as “What Was I Thinkin’\,” and “Come A Little Closer\,” Bentley has long been a Music Row standout for devotion to his roots in classic country and bluegrass. Since making a life-altering drive with his father from Phoenix to Nashville when he was 19 years old\, Bentley has forged his own path in an industry built predominantly on formula. He landed his first publishing deal in 2001 and released his debut album in 2003\, producing an instant No. 1 single. \nThroughout his career\, Bentley has mixed elements of modern country\, classic country\, bluegrass and rock\, maintaining an unmistakable identity while constantly reinventing his sound. The years since have revealed a rare consistency that has fueled longevity – eight albums that reached the top of the country music sales charts\, resulting in 21 No. 1 songs\, 6.4 billion streams\, three CMA Awards\, 14 GRAMMY® nominations and membership into the Grand Ole Opry. \nKnown for producing experimental country hits\, The Cadillac Three will open the show with their boisterous\, yet good-natured freewheeling vibe. Spending their formative years playing music together in basements and garages laid the foundation for the band to put their own spin on each new record. Lead singer and guitarist Jaren Johnston; bassist Kelby Ray; and drummer Neil Mason open a time capsule of their musical history together as they find common ground interweaving traditions of American popular music while proving new can still feel classic without being derivative. \nBoth collectively and individually\, The Cadillac Three has been nominated for GRAMMY® and two consecutive ACM Awards’ Group of the Year\, while Jaren picked up a CMA Triple Play for three No. 1 hits in 12 months. Amplifying Miranda Lambert and Little Big Town’s “Bandwagon” tour this year throughout the country alongside A-listers like Eric Church and Bentley\, iconic rockers Metallica and Aerosmith or on their own\, audiences on all sides of the world relish in The Cadillac Three’s uninhibited sets. \nBUY TICKETS
URL:https://murphydeals.com/event/dierks-bentley-at-the-laughlin-event-center/
LOCATION:Laughlin Event Center\, 500 Bruce Woodbury Drive\, Laughlin\, Nevada\, 89029
CATEGORIES:Event,Music | Concerts
ATTACH;FMTTYPE=image/jpeg:https://murphydeals.com/wp-content/uploads/2023/01/7349115c-e15d-48b0-a61b-e7cdffe02616_1617651_TABLET_LANDSCAPE_LARGE_16_9-e1673393011896.jpg
END:VEVENT
BEGIN:VEVENT
DTSTART;TZID=America/Phoenix:20221112T190000
DTEND;TZID=America/Phoenix:20221112T220000
DTSTAMP:20260425T203157
CREATED:20221010T212410Z
LAST-MODIFIED:20221011T162520Z
UID:10006405-1668279600-1668290400@murphydeals.com
SUMMARY:Chris Young at Laughlin Event Center
DESCRIPTION:Young has accumulated an impressive list of accomplishments\, including membership in the iconic Grand Ole Opry\, nearly 5 billion on-demand streams\, 13 million singles sold\, 12 career No. 1 singles\, 22 R.I.A.A. Gold/Platinum/Multi-Platinum certified projects\, six Country Music Association nominations\, four Academy of Country Music nominations and two GRAMMY nominations\, along with wins for Performance of the Year and Collaborative Video of the Year at the CMT Music Awards. These accomplishments and more landed him in the Top 20 of Billboard’s top country artists of the decade. \nNamed “one of his era’s finest traditionalists” by the Associated Press\, Young is an international ambassador for country music and performs a hit-packed set that highlights his 12 chart-toppers – include back-to-back No. 1s “Losing Sleep\,” “Sober Saturday Night\,” “Think Of You\,” and “I’m Comin’ Over” – to capacity crowds around the world. \nGET TICKETS
URL:https://murphydeals.com/event/chris-young-at-laughlin-event-center/
LOCATION:Laughlin Event Center\, 500 Bruce Woodbury Drive\, Laughlin\, Nevada\, 89029
CATEGORIES:Music | Concerts
ATTACH;FMTTYPE=image/jpeg:https://murphydeals.com/wp-content/uploads/2022/10/chrsyn-e1665437005498.jpg
END:VEVENT
END:VCALENDAR