BEGIN:VCALENDAR
VERSION:2.0
PRODID:-//Murphy Deals - ECPv6.15.20//NONSGML v1.0//EN
CALSCALE:GREGORIAN
METHOD:PUBLISH
X-WR-CALNAME:Murphy Deals
X-ORIGINAL-URL:https://murphydeals.com
X-WR-CALDESC:Events for Murphy Deals
REFRESH-INTERVAL;VALUE=DURATION:PT1H
X-Robots-Tag:noindex
X-PUBLISHED-TTL:PT1H
BEGIN:VTIMEZONE
TZID:America/Phoenix
BEGIN:STANDARD
TZOFFSETFROM:-0700
TZOFFSETTO:-0700
TZNAME:MST
DTSTART:20220101T000000
END:STANDARD
END:VTIMEZONE
BEGIN:VEVENT
DTSTART;TZID=America/Phoenix:20230630T193000
DTEND;TZID=America/Phoenix:20230630T213000
DTSTAMP:20260425T122848
CREATED:20230626T210543Z
LAST-MODIFIED:20230626T210543Z
UID:10008305-1688153400-1688160600@murphydeals.com
SUMMARY:Jokes Gone Wild at Legendz Sports Bar & Grill
DESCRIPTION:Anne Flagg LOVES performing standup comedy. This passion for the craft is a great motivator as she performs for audiences near and far – she’s done shows as far away as Cambodia. Anne currently splits her time between Las Vegas and Southern California. You can catch her on stage talking openly and with great expressions about relationships\, her family\, staying in shape\, and more! \nBUY TICKETS  \n \n 
URL:https://murphydeals.com/event/jokes-gone-wild-at-legendz-sports-bar-grill/
LOCATION:Legendz Sports Bar & Grill\, 2048 McCulloch Blvd N\, Lake Havasu City\, AZ\, 86403\, United States
CATEGORIES:Comedy | Comedian
ATTACH;FMTTYPE=image/jpeg:https://murphydeals.com/wp-content/uploads/2023/06/Jokes-Gone-Wild-June-e1687813396423.jpg
END:VEVENT
BEGIN:VEVENT
DTSTART;TZID=America/Phoenix:20230628T160000
DTEND;TZID=America/Phoenix:20230628T220000
DTSTAMP:20260425T122848
CREATED:20230612T191140Z
LAST-MODIFIED:20230619T230721Z
UID:10008293-1687968000-1687989600@murphydeals.com
SUMMARY:Wing It Wednesdays at Legendz Sports Bar & Grill
DESCRIPTION:It’s “WING IT” Wednesday!\nHAPPY HOUR from 2-6pm with discounted domestic drafts\, domestic bottled beer\, well drinks\, house wine AND half off appetizers and wings!
URL:https://murphydeals.com/event/wing-it-wednesdays-at-legendz-sports-bar-grill/2023-06-28/
LOCATION:Legendz Sports Bar & Grill\, 2048 McCulloch Blvd N\, Lake Havasu City\, AZ\, 86403\, United States
CATEGORIES:Event
ATTACH;FMTTYPE=image/jpeg:https://murphydeals.com/wp-content/uploads/2023/06/spicy-chicken-wings-with-ranch-2023-05-03-22-37-56-utc-1-e1686008989611.jpg
END:VEVENT
BEGIN:VEVENT
DTSTART;TZID=America/Phoenix:20230621T160000
DTEND;TZID=America/Phoenix:20230621T220000
DTSTAMP:20260425T122848
CREATED:20230612T191140Z
LAST-MODIFIED:20230619T230721Z
UID:10008243-1687363200-1687384800@murphydeals.com
SUMMARY:Wing It Wednesdays at Legendz Sports Bar & Grill
DESCRIPTION:It’s “WING IT” Wednesday!\nHAPPY HOUR from 2-6pm with discounted domestic drafts\, domestic bottled beer\, well drinks\, house wine AND half off appetizers and wings!
URL:https://murphydeals.com/event/wing-it-wednesdays-at-legendz-sports-bar-grill/2023-06-21/
LOCATION:Legendz Sports Bar & Grill\, 2048 McCulloch Blvd N\, Lake Havasu City\, AZ\, 86403\, United States
CATEGORIES:Event
ATTACH;FMTTYPE=image/jpeg:https://murphydeals.com/wp-content/uploads/2023/06/spicy-chicken-wings-with-ranch-2023-05-03-22-37-56-utc-1-e1686008989611.jpg
END:VEVENT
BEGIN:VEVENT
DTSTART;TZID=America/Phoenix:20230607T160000
DTEND;TZID=America/Phoenix:20230607T220000
DTSTAMP:20260425T122848
CREATED:20230605T235123Z
LAST-MODIFIED:20230605T235123Z
UID:10008224-1686153600-1686175200@murphydeals.com
SUMMARY:"WING IT" Wednesday! at Legendz Sports Bar & Grill
DESCRIPTION:It’s “WING IT” Wednesday!HAPPY HOUR from 2-6pm with discounted domestic drafts\, domestic bottled beer\, well drinks\, house wine AND half off appetizers and wings!
URL:https://murphydeals.com/event/wing-it-wednesday-at-legendz-sports-bar-grill/
LOCATION:Legendz Sports Bar & Grill\, 2048 McCulloch Blvd N\, Lake Havasu City\, AZ\, 86403\, United States
CATEGORIES:Event
ATTACH;FMTTYPE=image/jpeg:https://murphydeals.com/wp-content/uploads/2023/06/spicy-chicken-wings-with-ranch-2023-05-03-22-37-56-utc-1-e1686008989611.jpg
END:VEVENT
BEGIN:VEVENT
DTSTART;TZID=America/Phoenix:20230107T183000
DTEND;TZID=America/Phoenix:20230107T200000
DTSTAMP:20260425T122848
CREATED:20221212T203325Z
LAST-MODIFIED:20221212T203325Z
UID:10006816-1673116200-1673121600@murphydeals.com
SUMMARY:Back on their BS Comedy Tour at Legendz Sports Bar and Grill
DESCRIPTION:BUY TICKETS
URL:https://murphydeals.com/event/back-on-their-bs-comedy-tour-at-legendz-sports-bar-and-grill/
LOCATION:Legendz Sports Bar & Grill\, 2048 McCulloch Blvd N\, Lake Havasu City\, AZ\, 86403\, United States
CATEGORIES:Comedy | Comedian,Event
ATTACH;FMTTYPE=image/jpeg:https://murphydeals.com/wp-content/uploads/2022/12/Comey-Jan-2023-3-e1670877183807.jpg
END:VEVENT
END:VCALENDAR