BEGIN:VCALENDAR
VERSION:2.0
PRODID:-//Murphy Deals - ECPv6.15.20//NONSGML v1.0//EN
CALSCALE:GREGORIAN
METHOD:PUBLISH
X-WR-CALNAME:Murphy Deals
X-ORIGINAL-URL:https://murphydeals.com
X-WR-CALDESC:Events for Murphy Deals
REFRESH-INTERVAL;VALUE=DURATION:PT1H
X-Robots-Tag:noindex
X-PUBLISHED-TTL:PT1H
BEGIN:VTIMEZONE
TZID:America/Phoenix
BEGIN:STANDARD
TZOFFSETFROM:-0700
TZOFFSETTO:-0700
TZNAME:MST
DTSTART:20210101T000000
END:STANDARD
END:VTIMEZONE
BEGIN:VEVENT
DTSTART;TZID=America/Phoenix:20241018T173000
DTEND;TZID=America/Phoenix:20241018T210000
DTSTAMP:20260425T083152
CREATED:20240910T171309Z
LAST-MODIFIED:20240910T171309Z
UID:10009954-1729272600-1729285200@murphydeals.com
SUMMARY:MOHAVE SUNRISE ROTARTY - WICKED BINGO
DESCRIPTION:BACK BY POPULAR DEMAND! \n\nMurphy Broadcasting and Mohave Sunrise Rotary are teaming up for a second year to bring you a howling good night of spine-tingling bingo!!  Bunker 19 Bar & Grill will be serving up some ghoulish delights.  Don’t ghost us this Halloween!  Grab your broomstick and fly over to Los Lagos Golf Club in Fort Mohave for a spooktacular good time!\n\nOPEN TO THE PUBLIC! \n\n21 and Over! \nDoors open at 5:30 p.m. Games start at 6:30 p.m.\n$25 3-Up or $50 6-Ups.50/50 RafflesCostume Contest\nReserve your table of 8 now for only $300 DEBIT/CREDIT CARDS NOW ACCEPTED\nProceeds benefit Mohave Sunrise Rotary Student Scholarship Programs in the Tri-State area.\n\n\nEMAIL cat@maddog.net TO RESERVE YOUR BINGO TABLE TODAY!!
URL:https://murphydeals.com/event/mohave-sunrise-rotarty-wicked-bingo/
LOCATION:Los Lagos Golf Club\, 6365 S Entrada Via Verdes\, Fort Mohave\, Arizona\, 86426
CATEGORIES:Charity | Benefits,Event
ATTACH;FMTTYPE=image/png:https://murphydeals.com/wp-content/uploads/2024/09/wickedbingo.png
END:VEVENT
BEGIN:VEVENT
DTSTART;TZID=America/Phoenix:20230811T173000
DTEND;TZID=America/Phoenix:20230811T203000
DTSTAMP:20260425T083152
CREATED:20230126T193522Z
LAST-MODIFIED:20230811T201441Z
UID:10007138-1691775000-1691785800@murphydeals.com
SUMMARY:Bingo Fundraiser at Los Lagos Golf Club
DESCRIPTION:Hot August Night Bingo at Los Lagos Golf Club!! Doors open at 5:30 p.m. Bingo calling starts at 6:30 p.m. 21 & Over!! Cash prizes\, raffle prizes\, 50/50 raffle and food/drink specials from Bunker 19 Bar & Grill!! Games are $25 for 3-Card and $50 for 6-Card. There are 10 games played! \nAll proceeds benefit Academy of Building Industries High School in Fort Mohave. Bingo is presented by Mohave Sunrise Rotary Club\, Murphy Broadcasting Bullhead City and Los Lagos Golf Club. \nThanks to these game sponsors:\nRedmond Construction LLC\, Tristate Wifi\, Bullhead Hobbies\, DrypMedic\, Fairway Constructors\, Nicole Davis Realty ONE Group Mountain Desert \, Anna Aarup Realty ONE Group Mountain Desert\, Farmers Insurance Kirk Barton Agency\, Baron Services – Pest Pool Landscape Security\, Breezy Air LLC and Blackout Game Sponsor Valley View Medical Center!!!
URL:https://murphydeals.com/event/bingo-fundraiser/
LOCATION:Los Lagos Golf Club\, 6365 S Entrada Via Verdes\, Fort Mohave\, Arizona\, 86426
CATEGORIES:Charity | Benefits
ATTACH;FMTTYPE=image/jpeg:https://murphydeals.com/wp-content/uploads/2023/01/Bingo-1.jpg
END:VEVENT
BEGIN:VEVENT
DTSTART;TZID=America/Phoenix:20230520T170000
DTEND;TZID=America/Phoenix:20230520T210000
DTSTAMP:20260425T083152
CREATED:20230508T233148Z
LAST-MODIFIED:20230508T233148Z
UID:10007800-1684602000-1684616400@murphydeals.com
SUMMARY:Bowties & Bourbon at Los Lagos Golf Club in Ft Mohave
DESCRIPTION:Bowties & Bourbon – a member appreciation event where our Board Members will be installed\, awards will be handed out\, and good times will carry on the night.\nWhen: May 20th\, 2023\nTime: 5pm-9pm\nAttire: Dress to Impress!\nWhere: 6365 S Entrada Via Verdes Fort Mohave\, AZ (Los Lagos Golf Club)\nWho: Chamber Members in good standing \nPrice: Members in good financial standing will receive two (2) complementary drink tickets per paid membership and four (4) complementary drink tickets per Community Builder membership. Membership status will be evaluated at the door\, so be sure to check in on your Chamber investment prior to the event. For Chamber investment information and up-to-date billing questions\, please call 928-754-4121 option 2.\nWhat: The structure of the event will be lively\, fun\, and engaging for our members. This is not a dinner! Light appetizers will be there for you to enjoy\, and a full-service bar will be available for your pleasure. We will install our new board members\, awards will be presented\, and Chamber successes will be presented. The goal for the evening is to connect with our member-body\, show appreciation\, and continue to build better business from bridge to bridge with our members. \nThere is no need to RSVP\, but we would appreciate it if you marked “Going” on this event so we can gauge the audience size. \nThank you for continuing to invest in the Bullhead Area Chamber and the river city areas business community. We appreciate each and every one of you! \nQuestions? Contact: executivedirector@bullheadchamber.com \n 
URL:https://murphydeals.com/event/bowties-bourbon-at-los-lagos-golf-club-in-ft-mohave/
LOCATION:Los Lagos Golf Club\, 6365 S Entrada Via Verdes\, Fort Mohave\, Arizona\, 86426
CATEGORIES:Event
ATTACH;FMTTYPE=image/jpeg:https://murphydeals.com/wp-content/uploads/2023/05/Bowties-Bourbon-e1683588479694.jpg
END:VEVENT
BEGIN:VEVENT
DTSTART;TZID=America/Phoenix:20230505T173000
DTEND;TZID=America/Phoenix:20230505T213000
DTSTAMP:20260425T083152
CREATED:20230410T183121Z
LAST-MODIFIED:20230410T183121Z
UID:10007462-1683307800-1683322200@murphydeals.com
SUMMARY:Bingo De Mayo at Los Lagos Golf Club in Ft Mohave
DESCRIPTION:
URL:https://murphydeals.com/event/bingo-de-mayo-at-los-lagos-golf-club-in-ft-mohave/
LOCATION:Los Lagos Golf Club\, 6365 S Entrada Via Verdes\, Fort Mohave\, Arizona\, 86426
CATEGORIES:Event
ATTACH;FMTTYPE=image/jpeg:https://murphydeals.com/wp-content/uploads/2023/04/Bingo-De-Mayo-Main-Fundraiser-Flyer-pdf-1-1-e1681151455594.jpg
END:VEVENT
BEGIN:VEVENT
DTSTART;TZID=America/Phoenix:20230430T100000
DTEND;TZID=America/Phoenix:20230430T120000
DTSTAMP:20260425T083152
CREATED:20230410T185739Z
LAST-MODIFIED:20230410T185739Z
UID:10007465-1682848800-1682856000@murphydeals.com
SUMMARY:Putt 4 Pint at Los Lagos Golf Club in Ft Mohave
DESCRIPTION:
URL:https://murphydeals.com/event/putt-4-pint-at-los-lagos-golf-club-in-ft-mohave/2023-04-30/
LOCATION:Los Lagos Golf Club\, 6365 S Entrada Via Verdes\, Fort Mohave\, Arizona\, 86426
CATEGORIES:Event
ATTACH;FMTTYPE=image/jpeg:https://murphydeals.com/wp-content/uploads/2023/04/bigcrazy-1-e1681152739767.jpg
END:VEVENT
BEGIN:VEVENT
DTSTART;TZID=America/Phoenix:20230429T160000
DTEND;TZID=America/Phoenix:20230429T213000
DTSTAMP:20260425T083152
CREATED:20230410T185739Z
LAST-MODIFIED:20230410T185739Z
UID:10007464-1682784000-1682803800@murphydeals.com
SUMMARY:Putt 4 Pint at Los Lagos Golf Club in Ft Mohave
DESCRIPTION:
URL:https://murphydeals.com/event/putt-4-pint-at-los-lagos-golf-club-in-ft-mohave/2023-04-29/
LOCATION:Los Lagos Golf Club\, 6365 S Entrada Via Verdes\, Fort Mohave\, Arizona\, 86426
CATEGORIES:Event
ATTACH;FMTTYPE=image/jpeg:https://murphydeals.com/wp-content/uploads/2023/04/bigcrazy-1-e1681152739767.jpg
END:VEVENT
BEGIN:VEVENT
DTSTART;TZID=America/Phoenix:20230428T120000
DTEND;TZID=America/Phoenix:20230428T160000
DTSTAMP:20260425T083152
CREATED:20230410T185739Z
LAST-MODIFIED:20230410T185739Z
UID:10007463-1682683200-1682697600@murphydeals.com
SUMMARY:Putt 4 Pint at Los Lagos Golf Club in Ft Mohave
DESCRIPTION:
URL:https://murphydeals.com/event/putt-4-pint-at-los-lagos-golf-club-in-ft-mohave/2023-04-28/
LOCATION:Los Lagos Golf Club\, 6365 S Entrada Via Verdes\, Fort Mohave\, Arizona\, 86426
CATEGORIES:Event
ATTACH;FMTTYPE=image/jpeg:https://murphydeals.com/wp-content/uploads/2023/04/bigcrazy-1-e1681152739767.jpg
END:VEVENT
BEGIN:VEVENT
DTSTART;TZID=America/Phoenix:20230116T160000
DTEND;TZID=America/Phoenix:20230116T200000
DTSTAMP:20260425T083152
CREATED:20230116T170031Z
LAST-MODIFIED:20230116T193854Z
UID:10005911-1673884800-1673899200@murphydeals.com
SUMMARY:Monday Night Football at Los Lagos Bunker 19 Bar & Grill
DESCRIPTION:Watch the playoffs tonight at Los Lagos Bunker 19 Bar & Grill.\nCome early for delicious Food & Drink Specials starting at 4:00pm.  Game starts at 6:15pm. 
URL:https://murphydeals.com/event/monday-night-football-at-los-lagos-golf-club-2/
LOCATION:Los Lagos Golf Club\, 6365 S Entrada Via Verdes\, Fort Mohave\, Arizona\, 86426
CATEGORIES:Event,Sports | Activities
ATTACH;FMTTYPE=image/jpeg:https://murphydeals.com/wp-content/uploads/2020/01/LLTaco-e1673888408837.jpg
END:VEVENT
BEGIN:VEVENT
DTSTART;TZID=America/Phoenix:20230102T160000
DTEND;TZID=America/Phoenix:20230102T200000
DTSTAMP:20260425T083152
CREATED:20220915T212950Z
LAST-MODIFIED:20230104T164852Z
UID:10005910-1672675200-1672689600@murphydeals.com
SUMMARY:Monday Night Football at Los Lagos Bunker 19 Bar & Grill
DESCRIPTION:
URL:https://murphydeals.com/event/monday-night-football-at-los-lagos-golf-club/2023-01-02/
LOCATION:Los Lagos Golf Club\, 6365 S Entrada Via Verdes\, Fort Mohave\, Arizona\, 86426
CATEGORIES:Event,Sports | Activities
ATTACH;FMTTYPE=image/jpeg:https://murphydeals.com/wp-content/uploads/2022/09/football-1-e1663277366899.jpg
END:VEVENT
BEGIN:VEVENT
DTSTART;TZID=America/Phoenix:20221230T160000
DTEND;TZID=America/Phoenix:20221230T220000
DTSTAMP:20260425T083152
CREATED:20220915T212121Z
LAST-MODIFIED:20221010T175216Z
UID:10005804-1672416000-1672437600@murphydeals.com
SUMMARY:Karaoke At Los Lagos Golf Club
DESCRIPTION:
URL:https://murphydeals.com/event/karaoke-at-los-lagos-golf-club/2022-12-30/
LOCATION:Los Lagos Golf Club\, 6365 S Entrada Via Verdes\, Fort Mohave\, Arizona\, 86426
CATEGORIES:Event,Music | Concerts
ATTACH;FMTTYPE=image/jpeg:https://murphydeals.com/wp-content/uploads/2022/09/kareoke-1-e1663276850183.jpg
END:VEVENT
BEGIN:VEVENT
DTSTART;TZID=America/Phoenix:20221226T160000
DTEND;TZID=America/Phoenix:20221226T200000
DTSTAMP:20260425T083152
CREATED:20220915T212950Z
LAST-MODIFIED:20230104T164852Z
UID:10005909-1672070400-1672084800@murphydeals.com
SUMMARY:Monday Night Football at Los Lagos Bunker 19 Bar & Grill
DESCRIPTION:
URL:https://murphydeals.com/event/monday-night-football-at-los-lagos-golf-club/2022-12-26/
LOCATION:Los Lagos Golf Club\, 6365 S Entrada Via Verdes\, Fort Mohave\, Arizona\, 86426
CATEGORIES:Event,Sports | Activities
ATTACH;FMTTYPE=image/jpeg:https://murphydeals.com/wp-content/uploads/2022/09/football-1-e1663277366899.jpg
END:VEVENT
BEGIN:VEVENT
DTSTART;TZID=America/Phoenix:20221223T160000
DTEND;TZID=America/Phoenix:20221223T220000
DTSTAMP:20260425T083152
CREATED:20220915T212121Z
LAST-MODIFIED:20221010T175216Z
UID:10005803-1671811200-1671832800@murphydeals.com
SUMMARY:Karaoke At Los Lagos Golf Club
DESCRIPTION:
URL:https://murphydeals.com/event/karaoke-at-los-lagos-golf-club/2022-12-23/
LOCATION:Los Lagos Golf Club\, 6365 S Entrada Via Verdes\, Fort Mohave\, Arizona\, 86426
CATEGORIES:Event,Music | Concerts
ATTACH;FMTTYPE=image/jpeg:https://murphydeals.com/wp-content/uploads/2022/09/kareoke-1-e1663276850183.jpg
END:VEVENT
BEGIN:VEVENT
DTSTART;TZID=America/Phoenix:20221220T170000
DTEND;TZID=America/Phoenix:20221220T200000
DTSTAMP:20260425T083152
CREATED:20221012T185853Z
LAST-MODIFIED:20221012T190856Z
UID:10006444-1671555600-1671566400@murphydeals.com
SUMMARY:Taco Tuesday at Los Lagos Bunker 19 Bar & Grill
DESCRIPTION:
URL:https://murphydeals.com/event/taco-tuesday-at-los-lagos-bunker-19-bar-grill/2022-12-20/
LOCATION:Los Lagos Golf Club\, 6365 S Entrada Via Verdes\, Fort Mohave\, Arizona\, 86426
CATEGORIES:Event
ATTACH;FMTTYPE=image/jpeg:https://murphydeals.com/wp-content/uploads/2022/10/tacos-e1665600488230.jpg
END:VEVENT
BEGIN:VEVENT
DTSTART;TZID=America/Phoenix:20221219T160000
DTEND;TZID=America/Phoenix:20221219T200000
DTSTAMP:20260425T083152
CREATED:20220915T212950Z
LAST-MODIFIED:20230104T164852Z
UID:10005908-1671465600-1671480000@murphydeals.com
SUMMARY:Monday Night Football at Los Lagos Bunker 19 Bar & Grill
DESCRIPTION:
URL:https://murphydeals.com/event/monday-night-football-at-los-lagos-golf-club/2022-12-19/
LOCATION:Los Lagos Golf Club\, 6365 S Entrada Via Verdes\, Fort Mohave\, Arizona\, 86426
CATEGORIES:Event,Sports | Activities
ATTACH;FMTTYPE=image/jpeg:https://murphydeals.com/wp-content/uploads/2022/09/football-1-e1663277366899.jpg
END:VEVENT
BEGIN:VEVENT
DTSTART;TZID=America/Phoenix:20221216T160000
DTEND;TZID=America/Phoenix:20221216T220000
DTSTAMP:20260425T083152
CREATED:20220915T212121Z
LAST-MODIFIED:20221010T175216Z
UID:10005802-1671206400-1671228000@murphydeals.com
SUMMARY:Karaoke At Los Lagos Golf Club
DESCRIPTION:
URL:https://murphydeals.com/event/karaoke-at-los-lagos-golf-club/2022-12-16/
LOCATION:Los Lagos Golf Club\, 6365 S Entrada Via Verdes\, Fort Mohave\, Arizona\, 86426
CATEGORIES:Event,Music | Concerts
ATTACH;FMTTYPE=image/jpeg:https://murphydeals.com/wp-content/uploads/2022/09/kareoke-1-e1663276850183.jpg
END:VEVENT
BEGIN:VEVENT
DTSTART;TZID=America/Phoenix:20221213T170000
DTEND;TZID=America/Phoenix:20221213T200000
DTSTAMP:20260425T083152
CREATED:20221012T185853Z
LAST-MODIFIED:20221012T190856Z
UID:10006443-1670950800-1670961600@murphydeals.com
SUMMARY:Taco Tuesday at Los Lagos Bunker 19 Bar & Grill
DESCRIPTION:
URL:https://murphydeals.com/event/taco-tuesday-at-los-lagos-bunker-19-bar-grill/2022-12-13/
LOCATION:Los Lagos Golf Club\, 6365 S Entrada Via Verdes\, Fort Mohave\, Arizona\, 86426
CATEGORIES:Event
ATTACH;FMTTYPE=image/jpeg:https://murphydeals.com/wp-content/uploads/2022/10/tacos-e1665600488230.jpg
END:VEVENT
BEGIN:VEVENT
DTSTART;TZID=America/Phoenix:20221212T160000
DTEND;TZID=America/Phoenix:20221212T200000
DTSTAMP:20260425T083152
CREATED:20220915T212950Z
LAST-MODIFIED:20230104T164852Z
UID:10005907-1670860800-1670875200@murphydeals.com
SUMMARY:Monday Night Football at Los Lagos Bunker 19 Bar & Grill
DESCRIPTION:
URL:https://murphydeals.com/event/monday-night-football-at-los-lagos-golf-club/2022-12-12/
LOCATION:Los Lagos Golf Club\, 6365 S Entrada Via Verdes\, Fort Mohave\, Arizona\, 86426
CATEGORIES:Event,Sports | Activities
ATTACH;FMTTYPE=image/jpeg:https://murphydeals.com/wp-content/uploads/2022/09/football-1-e1663277366899.jpg
END:VEVENT
BEGIN:VEVENT
DTSTART;TZID=America/Phoenix:20221209T160000
DTEND;TZID=America/Phoenix:20221209T220000
DTSTAMP:20260425T083152
CREATED:20220915T212121Z
LAST-MODIFIED:20221010T175216Z
UID:10005801-1670601600-1670623200@murphydeals.com
SUMMARY:Karaoke At Los Lagos Golf Club
DESCRIPTION:
URL:https://murphydeals.com/event/karaoke-at-los-lagos-golf-club/2022-12-09/
LOCATION:Los Lagos Golf Club\, 6365 S Entrada Via Verdes\, Fort Mohave\, Arizona\, 86426
CATEGORIES:Event,Music | Concerts
ATTACH;FMTTYPE=image/jpeg:https://murphydeals.com/wp-content/uploads/2022/09/kareoke-1-e1663276850183.jpg
END:VEVENT
BEGIN:VEVENT
DTSTART;TZID=America/Phoenix:20221206T170000
DTEND;TZID=America/Phoenix:20221206T200000
DTSTAMP:20260425T083152
CREATED:20221012T185853Z
LAST-MODIFIED:20221012T190856Z
UID:10006442-1670346000-1670356800@murphydeals.com
SUMMARY:Taco Tuesday at Los Lagos Bunker 19 Bar & Grill
DESCRIPTION:
URL:https://murphydeals.com/event/taco-tuesday-at-los-lagos-bunker-19-bar-grill/2022-12-06/
LOCATION:Los Lagos Golf Club\, 6365 S Entrada Via Verdes\, Fort Mohave\, Arizona\, 86426
CATEGORIES:Event
ATTACH;FMTTYPE=image/jpeg:https://murphydeals.com/wp-content/uploads/2022/10/tacos-e1665600488230.jpg
END:VEVENT
BEGIN:VEVENT
DTSTART;TZID=America/Phoenix:20221205T160000
DTEND;TZID=America/Phoenix:20221205T200000
DTSTAMP:20260425T083152
CREATED:20220915T212950Z
LAST-MODIFIED:20230104T164852Z
UID:10005906-1670256000-1670270400@murphydeals.com
SUMMARY:Monday Night Football at Los Lagos Bunker 19 Bar & Grill
DESCRIPTION:
URL:https://murphydeals.com/event/monday-night-football-at-los-lagos-golf-club/2022-12-05/
LOCATION:Los Lagos Golf Club\, 6365 S Entrada Via Verdes\, Fort Mohave\, Arizona\, 86426
CATEGORIES:Event,Sports | Activities
ATTACH;FMTTYPE=image/jpeg:https://murphydeals.com/wp-content/uploads/2022/09/football-1-e1663277366899.jpg
END:VEVENT
BEGIN:VEVENT
DTSTART;TZID=America/Phoenix:20221202T160000
DTEND;TZID=America/Phoenix:20221202T220000
DTSTAMP:20260425T083152
CREATED:20220915T212121Z
LAST-MODIFIED:20221010T175216Z
UID:10005800-1669996800-1670018400@murphydeals.com
SUMMARY:Karaoke At Los Lagos Golf Club
DESCRIPTION:
URL:https://murphydeals.com/event/karaoke-at-los-lagos-golf-club/2022-12-02/
LOCATION:Los Lagos Golf Club\, 6365 S Entrada Via Verdes\, Fort Mohave\, Arizona\, 86426
CATEGORIES:Event,Music | Concerts
ATTACH;FMTTYPE=image/jpeg:https://murphydeals.com/wp-content/uploads/2022/09/kareoke-1-e1663276850183.jpg
END:VEVENT
BEGIN:VEVENT
DTSTART;TZID=America/Phoenix:20221129T170000
DTEND;TZID=America/Phoenix:20221129T200000
DTSTAMP:20260425T083152
CREATED:20221012T185853Z
LAST-MODIFIED:20221012T190856Z
UID:10006441-1669741200-1669752000@murphydeals.com
SUMMARY:Taco Tuesday at Los Lagos Bunker 19 Bar & Grill
DESCRIPTION:
URL:https://murphydeals.com/event/taco-tuesday-at-los-lagos-bunker-19-bar-grill/2022-11-29/
LOCATION:Los Lagos Golf Club\, 6365 S Entrada Via Verdes\, Fort Mohave\, Arizona\, 86426
CATEGORIES:Event
ATTACH;FMTTYPE=image/jpeg:https://murphydeals.com/wp-content/uploads/2022/10/tacos-e1665600488230.jpg
END:VEVENT
BEGIN:VEVENT
DTSTART;TZID=America/Phoenix:20221128T160000
DTEND;TZID=America/Phoenix:20221128T200000
DTSTAMP:20260425T083152
CREATED:20220915T212950Z
LAST-MODIFIED:20230104T164852Z
UID:10005905-1669651200-1669665600@murphydeals.com
SUMMARY:Monday Night Football at Los Lagos Bunker 19 Bar & Grill
DESCRIPTION:
URL:https://murphydeals.com/event/monday-night-football-at-los-lagos-golf-club/2022-11-28/
LOCATION:Los Lagos Golf Club\, 6365 S Entrada Via Verdes\, Fort Mohave\, Arizona\, 86426
CATEGORIES:Event,Sports | Activities
ATTACH;FMTTYPE=image/jpeg:https://murphydeals.com/wp-content/uploads/2022/09/football-1-e1663277366899.jpg
END:VEVENT
BEGIN:VEVENT
DTSTART;TZID=America/Phoenix:20221125T160000
DTEND;TZID=America/Phoenix:20221125T220000
DTSTAMP:20260425T083152
CREATED:20220915T212121Z
LAST-MODIFIED:20221010T175216Z
UID:10005799-1669392000-1669413600@murphydeals.com
SUMMARY:Karaoke At Los Lagos Golf Club
DESCRIPTION:
URL:https://murphydeals.com/event/karaoke-at-los-lagos-golf-club/2022-11-25/
LOCATION:Los Lagos Golf Club\, 6365 S Entrada Via Verdes\, Fort Mohave\, Arizona\, 86426
CATEGORIES:Event,Music | Concerts
ATTACH;FMTTYPE=image/jpeg:https://murphydeals.com/wp-content/uploads/2022/09/kareoke-1-e1663276850183.jpg
END:VEVENT
BEGIN:VEVENT
DTSTART;TZID=America/Phoenix:20221122T170000
DTEND;TZID=America/Phoenix:20221122T200000
DTSTAMP:20260425T083152
CREATED:20221012T185853Z
LAST-MODIFIED:20221012T190856Z
UID:10006440-1669136400-1669147200@murphydeals.com
SUMMARY:Taco Tuesday at Los Lagos Bunker 19 Bar & Grill
DESCRIPTION:
URL:https://murphydeals.com/event/taco-tuesday-at-los-lagos-bunker-19-bar-grill/2022-11-22/
LOCATION:Los Lagos Golf Club\, 6365 S Entrada Via Verdes\, Fort Mohave\, Arizona\, 86426
CATEGORIES:Event
ATTACH;FMTTYPE=image/jpeg:https://murphydeals.com/wp-content/uploads/2022/10/tacos-e1665600488230.jpg
END:VEVENT
BEGIN:VEVENT
DTSTART;TZID=America/Phoenix:20221121T160000
DTEND;TZID=America/Phoenix:20221121T200000
DTSTAMP:20260425T083152
CREATED:20220915T212950Z
LAST-MODIFIED:20230104T164852Z
UID:10005904-1669046400-1669060800@murphydeals.com
SUMMARY:Monday Night Football at Los Lagos Bunker 19 Bar & Grill
DESCRIPTION:
URL:https://murphydeals.com/event/monday-night-football-at-los-lagos-golf-club/2022-11-21/
LOCATION:Los Lagos Golf Club\, 6365 S Entrada Via Verdes\, Fort Mohave\, Arizona\, 86426
CATEGORIES:Event,Sports | Activities
ATTACH;FMTTYPE=image/jpeg:https://murphydeals.com/wp-content/uploads/2022/09/football-1-e1663277366899.jpg
END:VEVENT
BEGIN:VEVENT
DTSTART;TZID=America/Phoenix:20221118T160000
DTEND;TZID=America/Phoenix:20221118T220000
DTSTAMP:20260425T083152
CREATED:20220915T212121Z
LAST-MODIFIED:20221010T175216Z
UID:10005798-1668787200-1668808800@murphydeals.com
SUMMARY:Karaoke At Los Lagos Golf Club
DESCRIPTION:
URL:https://murphydeals.com/event/karaoke-at-los-lagos-golf-club/2022-11-18/
LOCATION:Los Lagos Golf Club\, 6365 S Entrada Via Verdes\, Fort Mohave\, Arizona\, 86426
CATEGORIES:Event,Music | Concerts
ATTACH;FMTTYPE=image/jpeg:https://murphydeals.com/wp-content/uploads/2022/09/kareoke-1-e1663276850183.jpg
END:VEVENT
BEGIN:VEVENT
DTSTART;TZID=America/Phoenix:20221115T170000
DTEND;TZID=America/Phoenix:20221115T200000
DTSTAMP:20260425T083152
CREATED:20221012T185853Z
LAST-MODIFIED:20221012T190856Z
UID:10006439-1668531600-1668542400@murphydeals.com
SUMMARY:Taco Tuesday at Los Lagos Bunker 19 Bar & Grill
DESCRIPTION:
URL:https://murphydeals.com/event/taco-tuesday-at-los-lagos-bunker-19-bar-grill/2022-11-15/
LOCATION:Los Lagos Golf Club\, 6365 S Entrada Via Verdes\, Fort Mohave\, Arizona\, 86426
CATEGORIES:Event
ATTACH;FMTTYPE=image/jpeg:https://murphydeals.com/wp-content/uploads/2022/10/tacos-e1665600488230.jpg
END:VEVENT
BEGIN:VEVENT
DTSTART;TZID=America/Phoenix:20221114T160000
DTEND;TZID=America/Phoenix:20221114T200000
DTSTAMP:20260425T083152
CREATED:20220915T212950Z
LAST-MODIFIED:20230104T164852Z
UID:10005903-1668441600-1668456000@murphydeals.com
SUMMARY:Monday Night Football at Los Lagos Bunker 19 Bar & Grill
DESCRIPTION:
URL:https://murphydeals.com/event/monday-night-football-at-los-lagos-golf-club/2022-11-14/
LOCATION:Los Lagos Golf Club\, 6365 S Entrada Via Verdes\, Fort Mohave\, Arizona\, 86426
CATEGORIES:Event,Sports | Activities
ATTACH;FMTTYPE=image/jpeg:https://murphydeals.com/wp-content/uploads/2022/09/football-1-e1663277366899.jpg
END:VEVENT
END:VCALENDAR