BEGIN:VCALENDAR
VERSION:2.0
PRODID:-//Murphy Deals - ECPv6.15.20//NONSGML v1.0//EN
CALSCALE:GREGORIAN
METHOD:PUBLISH
X-WR-CALNAME:Murphy Deals
X-ORIGINAL-URL:https://murphydeals.com
X-WR-CALDESC:Events for Murphy Deals
REFRESH-INTERVAL;VALUE=DURATION:PT1H
X-Robots-Tag:noindex
X-PUBLISHED-TTL:PT1H
BEGIN:VTIMEZONE
TZID:America/Phoenix
BEGIN:STANDARD
TZOFFSETFROM:-0700
TZOFFSETTO:-0700
TZNAME:MST
DTSTART:20220101T000000
END:STANDARD
END:VTIMEZONE
BEGIN:VEVENT
DTSTART;TZID=America/Phoenix:20241005T100000
DTEND;TZID=America/Phoenix:20241006T220000
DTSTAMP:20260425T072400
CREATED:20241003T232114Z
LAST-MODIFIED:20241003T232114Z
UID:10009964-1728122400-1728252000@murphydeals.com
SUMMARY:KINGMAN BREWS AND BRATS OKTOBERFEST
DESCRIPTION:The 16th Annual Brews and Brats Oktoberfest\, presented by the Kingman Route 66 Rotary Club\, will take place at Metcalfe Park. Kingman’s original and longest running Oktoberfest\, the Brews and Brats Oktoberfest will feature craft beer from Black Bridge Brewery\, grilled bratwurst and sauerkraut\, German pretzels\, and other offerings. There will be live entertainment throughout the weekend\, dancing\, vendors\, and fun! Admission is always free\, and proceeds from this event go to the Kingman Route 66 Rotary Club’s Foundation\, a 501c-3 non-profit foundation which supports service projects in our community and internationally. \nFor more information\, contact Rt66rotaryforms@gmail.com. \nAt Metcalfe Park (315 W. Beale St.) in Downtown Kingman. \nFriday at 2:00pm until 10:00pm and Saturday 10:00am until 10:00pm. \nAdmission is free.
URL:https://murphydeals.com/event/kingman-brews-and-brats-oktoberfest/2024-10-05/
LOCATION:Metcalfe Park\, 315 West Beale Street\, Kingman\, AZ\, 86401
CATEGORIES:Event,Festival,Live On Location,Music | Concerts
ATTACH;FMTTYPE=image/jpeg:https://murphydeals.com/wp-content/uploads/2024/10/beersbrats.jpg
END:VEVENT
BEGIN:VEVENT
DTSTART;TZID=America/Phoenix:20241003T140000
DTEND;TZID=America/Phoenix:20241005T220000
DTSTAMP:20260425T072400
CREATED:20241003T232114Z
LAST-MODIFIED:20241003T232114Z
UID:10009963-1727964000-1728165600@murphydeals.com
SUMMARY:KINGMAN BREWS AND BRATS OKTOBERFEST
DESCRIPTION:The 16th Annual Brews and Brats Oktoberfest\, presented by the Kingman Route 66 Rotary Club\, will take place at Metcalfe Park. Kingman’s original and longest running Oktoberfest\, the Brews and Brats Oktoberfest will feature craft beer from Black Bridge Brewery\, grilled bratwurst and sauerkraut\, German pretzels\, and other offerings. There will be live entertainment throughout the weekend\, dancing\, vendors\, and fun! Admission is always free\, and proceeds from this event go to the Kingman Route 66 Rotary Club’s Foundation\, a 501c-3 non-profit foundation which supports service projects in our community and internationally. \nFor more information\, contact Rt66rotaryforms@gmail.com. \nAt Metcalfe Park (315 W. Beale St.) in Downtown Kingman. \nFriday at 2:00pm until 10:00pm and Saturday 10:00am until 10:00pm. \nAdmission is free.
URL:https://murphydeals.com/event/kingman-brews-and-brats-oktoberfest/2024-10-03/
LOCATION:Metcalfe Park\, 315 West Beale Street\, Kingman\, AZ\, 86401
CATEGORIES:Event,Festival,Live On Location,Music | Concerts
ATTACH;FMTTYPE=image/jpeg:https://murphydeals.com/wp-content/uploads/2024/10/beersbrats.jpg
END:VEVENT
BEGIN:VEVENT
DTSTART;TZID=America/Phoenix:20240820T190000
DTEND;TZID=America/Phoenix:20240820T230000
DTSTAMP:20260425T072400
CREATED:20240814T190143Z
LAST-MODIFIED:20240814T190335Z
UID:10009885-1724180400-1724194800@murphydeals.com
SUMMARY:SALUTE TO VETERANS CONCERT AT METCALFE PARK
DESCRIPTION:Part II Salute to Veterans will take place at Metcalfe Park in downtown Kingman. \nAs usual\, you will need to bring your lawn chairs or blankets for seating. We look forward to seeing you there! \nAt Metcalfe Park (310 W. Beale St.) in Downtown Kingman. \nStarts at 7:00pm. \nFree to the public. \nFor more information call Robin Gordon at 928-715-0288. \nOr you can visit their website at http://www.soundsofkingman.com/
URL:https://murphydeals.com/event/salute-to-veterans-concert-at-metcalfe-park/
LOCATION:Metcalfe Park\, 315 West Beale Street\, Kingman\, AZ\, 86401
CATEGORIES:Event,Live On Location,Music | Concerts
ATTACH;FMTTYPE=image/png:https://murphydeals.com/wp-content/uploads/2024/08/solutetoveterans.png
END:VEVENT
BEGIN:VEVENT
DTSTART;TZID=America/Phoenix:20230625T160000
DTEND;TZID=America/Phoenix:20230625T190000
DTSTAMP:20260425T072400
CREATED:20230619T191144Z
LAST-MODIFIED:20230619T191144Z
UID:10008279-1687708800-1687719600@murphydeals.com
SUMMARY:Bud Mickle at Metcalfe Park
DESCRIPTION:Truly a striking voice all his own. A soulful melodic mix of Rock\, Blues and a dash of Country.\nRaised in sparkling Las Vegas\, that sparkle shines through his music.\nBud writes melodic songs about life while painting a picture of various images through words and music. Like days of the old west in ‘Come Mornin’” & “Bella Savannah”\nHis music comes to life like a movie\, and infects your heart and soul. “Welcome Home” and “Dance with Me” are great examples of this imagery.\nBud captures a little piece of all his roots from the blues\, to an up close and personal country feel on “Just Aint Fair” and “Here’s To You (Dad)’ to full blown rock.\nSince the release of the new CD “My Cross To Bear” response as been overwhelming\, while finding new horizons and constantly setting new goals.
URL:https://murphydeals.com/event/bud-mickle-at-metcalfe-park/
LOCATION:Metcalfe Park\, 315 West Beale Street\, Kingman\, AZ\, 86401
CATEGORIES:Music | Concerts
ATTACH;FMTTYPE=image/jpeg:https://murphydeals.com/wp-content/uploads/2023/06/bud_mickle-1-e1687201488501.jpg
END:VEVENT
BEGIN:VEVENT
DTSTART;TZID=America/Phoenix:20230521T100000
DTEND;TZID=America/Phoenix:20230521T170000
DTSTAMP:20260425T072400
CREATED:20230417T223940Z
LAST-MODIFIED:20230417T223940Z
UID:10007542-1684663200-1684688400@murphydeals.com
SUMMARY:Fantassance Fair 2023 at Metcalfe Park in Kingman
DESCRIPTION:Mohave Pride Fantassance Fair 2023 \nThe theme this year is Fantassance! A Renaissance Themed Pride Extravaganza!!! \nHear ye\, Hear ye!\nPeople of the realm!\nBe ye Orc or be ye Fae\nBe ye Elf and be ye Gay\nBring The here upon this day! \nDonne your gowns\, unsheathe your Elven ears and unfurl your Fairy wings and let’s be Gay in May at Metcalfe Park!\nMay 20th-21st.
URL:https://murphydeals.com/event/fantassance-fair-2023-at-metcalfe-park-in-kingman/2023-05-21/
LOCATION:Metcalfe Park\, 315 West Beale Street\, Kingman\, AZ\, 86401
CATEGORIES:Event
ATTACH;FMTTYPE=image/jpeg:https://murphydeals.com/wp-content/uploads/2023/04/pridefestivel-1-e1681770660910.jpg
END:VEVENT
BEGIN:VEVENT
DTSTART;TZID=America/Phoenix:20230520T100000
DTEND;TZID=America/Phoenix:20230520T193000
DTSTAMP:20260425T072400
CREATED:20230417T223940Z
LAST-MODIFIED:20230417T223940Z
UID:10007541-1684576800-1684611000@murphydeals.com
SUMMARY:Fantassance Fair 2023 at Metcalfe Park in Kingman
DESCRIPTION:Mohave Pride Fantassance Fair 2023 \nThe theme this year is Fantassance! A Renaissance Themed Pride Extravaganza!!! \nHear ye\, Hear ye!\nPeople of the realm!\nBe ye Orc or be ye Fae\nBe ye Elf and be ye Gay\nBring The here upon this day! \nDonne your gowns\, unsheathe your Elven ears and unfurl your Fairy wings and let’s be Gay in May at Metcalfe Park!\nMay 20th-21st.
URL:https://murphydeals.com/event/fantassance-fair-2023-at-metcalfe-park-in-kingman/2023-05-20/
LOCATION:Metcalfe Park\, 315 West Beale Street\, Kingman\, AZ\, 86401
CATEGORIES:Event
ATTACH;FMTTYPE=image/jpeg:https://murphydeals.com/wp-content/uploads/2023/04/pridefestivel-1-e1681770660910.jpg
END:VEVENT
BEGIN:VEVENT
DTSTART;TZID=America/Phoenix:20230514T100000
DTEND;TZID=America/Phoenix:20230514T160000
DTSTAMP:20260425T072400
CREATED:20230508T182022Z
LAST-MODIFIED:20230508T182022Z
UID:10007782-1684058400-1684080000@murphydeals.com
SUMMARY:Festival of the Arts at Metcalf Park in Kingman
DESCRIPTION:Art in the Park – Fine Art and Crafts\nThe Marketplace – Gifts & Decor\nKid’s fun and bounce houses at Locomotive Park\nFood Trucks\nIt will be held at:\nMetcalfe Park\n315 W. Beale St\nKingman\nAnd\nLocomotive Park\n310 W. Beale St\nKingman\nSaturday May 13th – 10am – 5pm\nSunday May 14th – 10am – 4pm\nThere will be arts\, crafts\, food\, drinks\, and fun for the kids.\nSo head on down and buy some stuff\, Stuff your face with food and drink\, and have some fun! \nWhen: \nfrom Saturday\, May 13\, 2023 10:30 AM\nthru Sunday\, May 14\, 2023 4:00 PM\n\nWhere: \nMetcalfe Park\n315 W. Beale St.\nKingman
URL:https://murphydeals.com/event/festival-of-the-arts-at-metcalf-park-in-kingman/2023-05-14/
LOCATION:Metcalfe Park\, 315 West Beale Street\, Kingman\, AZ\, 86401
CATEGORIES:Event
ATTACH;FMTTYPE=image/jpeg:https://murphydeals.com/wp-content/uploads/2023/05/kngmnartsfestival-1-e1683569962832.jpg
END:VEVENT
BEGIN:VEVENT
DTSTART;TZID=America/Phoenix:20230513T100000
DTEND;TZID=America/Phoenix:20230513T170000
DTSTAMP:20260425T072400
CREATED:20230508T182022Z
LAST-MODIFIED:20230508T182022Z
UID:10007781-1683972000-1683997200@murphydeals.com
SUMMARY:Festival of the Arts at Metcalf Park in Kingman
DESCRIPTION:Art in the Park – Fine Art and Crafts\nThe Marketplace – Gifts & Decor\nKid’s fun and bounce houses at Locomotive Park\nFood Trucks\nIt will be held at:\nMetcalfe Park\n315 W. Beale St\nKingman\nAnd\nLocomotive Park\n310 W. Beale St\nKingman\nSaturday May 13th – 10am – 5pm\nSunday May 14th – 10am – 4pm\nThere will be arts\, crafts\, food\, drinks\, and fun for the kids.\nSo head on down and buy some stuff\, Stuff your face with food and drink\, and have some fun! \nWhen: \nfrom Saturday\, May 13\, 2023 10:30 AM\nthru Sunday\, May 14\, 2023 4:00 PM\n\nWhere: \nMetcalfe Park\n315 W. Beale St.\nKingman
URL:https://murphydeals.com/event/festival-of-the-arts-at-metcalf-park-in-kingman/2023-05-13/
LOCATION:Metcalfe Park\, 315 West Beale Street\, Kingman\, AZ\, 86401
CATEGORIES:Event
ATTACH;FMTTYPE=image/jpeg:https://murphydeals.com/wp-content/uploads/2023/05/kngmnartsfestival-1-e1683569962832.jpg
END:VEVENT
END:VCALENDAR