BEGIN:VCALENDAR
VERSION:2.0
PRODID:-//Murphy Deals - ECPv6.15.20//NONSGML v1.0//EN
CALSCALE:GREGORIAN
METHOD:PUBLISH
X-WR-CALNAME:Murphy Deals
X-ORIGINAL-URL:https://murphydeals.com
X-WR-CALDESC:Events for Murphy Deals
REFRESH-INTERVAL;VALUE=DURATION:PT1H
X-Robots-Tag:noindex
X-PUBLISHED-TTL:PT1H
BEGIN:VTIMEZONE
TZID:America/Phoenix
BEGIN:STANDARD
TZOFFSETFROM:-0700
TZOFFSETTO:-0700
TZNAME:MST
DTSTART:20210101T000000
END:STANDARD
END:VTIMEZONE
BEGIN:VEVENT
DTSTART;TZID=America/Phoenix:20230202T193000
DTEND;TZID=America/Phoenix:20230202T213000
DTSTAMP:20260425T074357
CREATED:20230112T154359Z
LAST-MODIFIED:20230203T174344Z
UID:10007155-1675366200-1675373400@murphydeals.com
SUMMARY:Paranormal Cirque II in Kingman\, AZ
DESCRIPTION:Paranormal Cirque II is the latest creation brought to you by Cirque Italia combining elements of mystery\, theatrics and acrobatics. \nFebruary 2 – 6\, 2023 \nUnder the stunning Orange Striped Big Top Tent \nNote: No-one under the age of 13 will be admitted to the show. Guests aged 13 – 17 must be accompanied by an adult. \nTicket Prices\n($20.00 – $60.00)\nThursday Feb 2\, 2023 7:30 pm \nFriday Feb 3\, 2023 7:30 pm \nSaturday Feb 4\, 2023 6:30 pm \nSaturday Feb 4\, 2023 9:30 pm \nSunday Feb 5\, 2023 5:30 pm \nSunday Feb 5\, 2023 8:30 pm \nMonday Feb 6\, 2023 7:30 pm \n \nBUY TICKETS\nMohave County Fairgrounds\n \n2600 Fairgrounds Blvd\nKingman\, AZ 86401\n \n \n 
URL:https://murphydeals.com/event/paranormal-cirque-ii-in-kingman-az-2/2023-02-02/
LOCATION:Mohave County Fairgrounds\, 2600 Fairgrounds Blvd\, Kingman\, AZ\, 86401
CATEGORIES:Event
ATTACH;FMTTYPE=image/jpeg:https://murphydeals.com/wp-content/uploads/2023/01/Paranormal-Cirque-e1673199329731.jpg
END:VEVENT
BEGIN:VEVENT
DTSTART;TZID=America/Phoenix:20230202T170000
DTEND;TZID=America/Phoenix:20230202T190000
DTSTAMP:20260425T074357
CREATED:20230108T174138Z
LAST-MODIFIED:20230202T160442Z
UID:10006889-1675357200-1675364400@murphydeals.com
SUMMARY:Murphy Broadcasting on Location at Paranormal Cirque II in Kingman\, AZ
DESCRIPTION:Paranormal Cirque II is the latest creation brought to you by Cirque Italia combining elements of mystery\, theatrics and acrobatics. \nFebruary 2 – 6\, 2023 \nNote: No-one under the age of 13 will be admitted to the show.  Guests aged 13 – 17 must be accompanied by an adult. \nTicket Prices\n($20.00 – $60.00)\nThursday Feb 2\, 2023 7:30 pm \nFriday Feb 3\, 2023 7:30 pm \nSaturday Feb 4\, 2023 6:30 pm \nSaturday Feb 4\, 2023 9:30 pm \nSunday Feb 5\, 2023 5:30 pm \nSunday Feb 5\, 2023 8:30 pm \nMonday Feb 6\, 2023 7:30 pm \n \nGET TICKETS \nMohave County Fairgrounds\n \n2600 Fairgrounds Blvd\nKingman\, AZ 86401\n \n \n 
URL:https://murphydeals.com/event/paranormal-cirque-ii-in-kingman-az/
LOCATION:Mohave County Fairgrounds\, 2600 Fairgrounds Blvd\, Kingman\, AZ\, 86401
CATEGORIES:Event,Live On Location
ATTACH;FMTTYPE=image/jpeg:https://murphydeals.com/wp-content/uploads/2023/01/ParanormalCirque-e1675353845842.jpg
END:VEVENT
BEGIN:VEVENT
DTSTART;TZID=America/Phoenix:20221118T160000
DTEND;TZID=America/Phoenix:20221118T220000
DTSTAMP:20260425T074357
CREATED:20221017T231935Z
LAST-MODIFIED:20221108T215208Z
UID:10006476-1668787200-1668808800@murphydeals.com
SUMMARY:Type 1 Diabetic Benefit Concert-Mohave County Fairgrounds
DESCRIPTION:A concert event that benefits type 1 diabetes. All funding following the concert will be donated to JDRF (juvenile diabetes research foundation). Tickets will be available soon! GA\, Premium\, and VIP. 18 and older\, no outside food or drinks\, no alcohol. This is at the fairgrounds and a concert NO firearms or weapons! Free parking although donations are accepted at parking or around the event. The tentative artist so far is Mr. Capone-e and I’ve been reaching out to Bret Michaels\, Nick Jonas\, Crystal Bowersox and several others. \nThanks to GoodHeart for joining in on the coming event\, can’t wait to see ya all. \nHuge thanks to Poison Made Sinners for joining the concert!!! Can’t wait to see you there. \nMr. Capone-e is confirmed. \nCampers are welcome for overnight with a fee. \nGET TICKETS \n\n 
URL:https://murphydeals.com/event/type-1-diabetic-benefit-concert-mohave-county-fairgrounds/
LOCATION:Mohave County Fairgrounds\, 2600 Fairgrounds Blvd\, Kingman\, AZ\, 86401
CATEGORIES:Music | Concerts
ATTACH;FMTTYPE=image/jpeg:https://murphydeals.com/wp-content/uploads/2022/10/diabeticcon-e1666049771176.jpg
END:VEVENT
END:VCALENDAR