BEGIN:VCALENDAR
VERSION:2.0
PRODID:-//Murphy Deals - ECPv6.15.20//NONSGML v1.0//EN
CALSCALE:GREGORIAN
METHOD:PUBLISH
X-WR-CALNAME:Murphy Deals
X-ORIGINAL-URL:https://murphydeals.com
X-WR-CALDESC:Events for Murphy Deals
REFRESH-INTERVAL;VALUE=DURATION:PT1H
X-Robots-Tag:noindex
X-PUBLISHED-TTL:PT1H
BEGIN:VTIMEZONE
TZID:America/Phoenix
BEGIN:STANDARD
TZOFFSETFROM:-0700
TZOFFSETTO:-0700
TZNAME:MST
DTSTART:20220101T000000
END:STANDARD
END:VTIMEZONE
BEGIN:VEVENT
DTSTART;TZID=America/Phoenix:20230519T090000
DTEND;TZID=America/Phoenix:20230520T170000
DTSTAMP:20260425T124747
CREATED:20230508T162548Z
LAST-MODIFIED:20230508T162548Z
UID:10007778-1684486800-1684602000@murphydeals.com
SUMMARY:Friends of the Library Booksale at Mohave County Library in Kingman
DESCRIPTION:WHEN\nFriday\, May 19\, 9am – Saturday\, May 20\, 2023\, 5pm\n\n\nWHERE\nMohave County Library\n3269 North Burbank St.\nKingman\, AZ 86409\n\n\nORGANIZATION NAME:\nKingman Library Friends of the Library\n\n\nBRIEF DESCRIPTION OF MEETING\nFriends of the Library Book Sale\n\n\nLIBRARY BRANCH\nKingman Branch Library / 928-692-2665 / 3269 North Burbank St. – Kingman\, AZ 86409\n\n\n\n\n\n\nDETAILS\n\nFriends of the Library Book Sale
URL:https://murphydeals.com/event/friends-of-the-library-booksale-at-mohave-county-library-in-kingman/
LOCATION:Mohave county Library\, 3269 N Burbank St\, Kingman\, AZ\, 86409\, United States
CATEGORIES:Event
ATTACH;FMTTYPE=image/jpeg:https://murphydeals.com/wp-content/uploads/2023/05/usedbookssale-1-e1683563042929.jpg
END:VEVENT
BEGIN:VEVENT
DTSTART;TZID=America/Phoenix:20230512T180000
DTEND;TZID=America/Phoenix:20230512T190000
DTSTAMP:20260425T124747
CREATED:20230508T161456Z
LAST-MODIFIED:20230508T161456Z
UID:10007777-1683914400-1683918000@murphydeals.com
SUMMARY:Kingman Concert Band "Musical Mystery" Free Concert at Mohave County Library in Kingman
DESCRIPTION:The Kingman Concert Band\, Inc.\nproudly presents “A Musical Mystery” Concert on Friday\, May 12\, 2023 6:00 P.M. at Mohave County Library – Kingman Branch\n(3269 N. Burbank Street Kingman) \nJoin us for this free performance!\nHelp us solve the musical mystery to enter for a free chance to win a $25 Cracker Barrel gift card sponsored by Ridgeview Dental. \nCelebrating twenty-four years of community music\, the Kingman Concert Band is a 501(c)3 non-profit organization dedicated to sharing free musical performances throughout the greater Kingman area. The Band is dependent upon financial contributions for the continued growth of the group\, its music library\, rehearsal space and other performance factors. Please consider making a charitable donation to the Kingman Concert Band. \n 
URL:https://murphydeals.com/event/kingman-concert-band-musical-mystery-free-concert-at-mohave-county-library-in-kingman/
LOCATION:Mohave county Library\, 3269 N Burbank St\, Kingman\, AZ\, 86409\, United States
CATEGORIES:Event,Music | Concerts
ATTACH;FMTTYPE=image/jpeg:https://murphydeals.com/wp-content/uploads/2023/05/musicalmystery-e1683562483975.jpg
END:VEVENT
BEGIN:VEVENT
DTSTART;TZID=America/Phoenix:20230510T160000
DTEND;TZID=America/Phoenix:20230510T180000
DTSTAMP:20260425T124747
CREATED:20230508T174040Z
LAST-MODIFIED:20230508T174602Z
UID:10007780-1683734400-1683741600@murphydeals.com
SUMMARY:Mohave County Chronic Pain and Rare Disease Event 2023 at Mohave County Library in Kingman
DESCRIPTION:We will be hosting this event in all 15 counties; check our website for details on each event. \n\nHey Mohave County\, Arizona! Learn about the AZ Pain and Rare Disease Community Resources\, Laws\, and Support available to Mohave County residents!  Join this FREE event in Kingman\, AZ.  All are welcome. \nExpert presenters will present sessions geared toward Providers\, Patients\, Caregivers\, Family\, and Friends. Attendees will also learn about specific state laws that affect your care\, such as SB1162\, SB1469\, and SB1161\, along with the new legislation for 2023. We will also share area-specific resources and support tools. \nEach person attending must be registered. Seating is limited\, so save your spots today! You can find the 2023 AZ County Conferences Registration Here. \n\nWhen: \nWednesday\, May 10\, 2023 4:00 PM thru 06:00 PM\n\n\nWhere: \nKingman Branch Library\, 3269 N. Burbank St. Kingman\, AZ 86409\n\n\nFor More Info: \n\n\n\nBarby Ingle\n14807601197\nbarby@internationalpain.org\nhttps://internationalpain.org/az-county-conferences-2023
URL:https://murphydeals.com/event/mohave-county-chronic-pain-and-rare-disease-event-2023/
LOCATION:Mohave county Library\, 3269 N Burbank St\, Kingman\, AZ\, 86409\, United States
CATEGORIES:Event
ATTACH;FMTTYPE=image/jpeg:https://murphydeals.com/wp-content/uploads/2023/05/Kingman-Library-1-e1683567618228.jpg
END:VEVENT
END:VCALENDAR