BEGIN:VCALENDAR
VERSION:2.0
PRODID:-//Murphy Deals - ECPv6.15.20//NONSGML v1.0//EN
CALSCALE:GREGORIAN
METHOD:PUBLISH
X-ORIGINAL-URL:https://murphydeals.com
X-WR-CALDESC:Events for Murphy Deals
REFRESH-INTERVAL;VALUE=DURATION:PT1H
X-Robots-Tag:noindex
X-PUBLISHED-TTL:PT1H
BEGIN:VTIMEZONE
TZID:America/Phoenix
BEGIN:STANDARD
TZOFFSETFROM:-0700
TZOFFSETTO:-0700
TZNAME:MST
DTSTART:20220101T000000
END:STANDARD
END:VTIMEZONE
BEGIN:VEVENT
DTSTART;TZID=America/Phoenix:20230518T170000
DTEND;TZID=America/Phoenix:20230518T190000
DTSTAMP:20260425T170543
CREATED:20230501T205818Z
LAST-MODIFIED:20230516T154426Z
UID:10007757-1684429200-1684436400@murphydeals.com
SUMMARY:One Eyed Romeo at Mohave Mist & Spa Chamber Mixer
DESCRIPTION:
URL:https://murphydeals.com/event/one-eyed-romeo-at-lake-havasu-chamber-mixer-at-mohave-mist-spa-in-lake-havasu/
LOCATION:Mohave Mist & Spa\, 41 Mulberry Ave\, Lake Havasu City\, AZ\, 86403\, United States
CATEGORIES:Event,Music | Concerts
ATTACH;FMTTYPE=image/jpeg:https://murphydeals.com/wp-content/uploads/2023/05/oneeyedromeo-e1682963990780.jpg
END:VEVENT
END:VCALENDAR