BEGIN:VCALENDAR
VERSION:2.0
PRODID:-//Murphy Deals - ECPv6.15.20//NONSGML v1.0//EN
CALSCALE:GREGORIAN
METHOD:PUBLISH
X-WR-CALNAME:Murphy Deals
X-ORIGINAL-URL:https://murphydeals.com
X-WR-CALDESC:Events for Murphy Deals
REFRESH-INTERVAL;VALUE=DURATION:PT1H
X-Robots-Tag:noindex
X-PUBLISHED-TTL:PT1H
BEGIN:VTIMEZONE
TZID:America/Phoenix
BEGIN:STANDARD
TZOFFSETFROM:-0700
TZOFFSETTO:-0700
TZNAME:MST
DTSTART:20230101T000000
END:STANDARD
END:VTIMEZONE
BEGIN:VEVENT
DTSTART;TZID=America/Phoenix:20240914T100000
DTEND;TZID=America/Phoenix:20240914T140000
DTSTAMP:20260425T104846
CREATED:20240828T214558Z
LAST-MODIFIED:20240828T214558Z
UID:10009933-1726308000-1726322400@murphydeals.com
SUMMARY:MOTHER ROAD HARLEY-DAVIDSON "THE FALL OPENER CAR & BIKE SHOW"
DESCRIPTION:Saturday\, September 14\, 2024 10:00 AM – 2:00 PM|\nLive Entertainment!!  Food Trucks!!\n\n\n\n\nClick here to register your car/bike today!\n\nhttps://ride.motherroadhd.com/registeryourride
URL:https://murphydeals.com/event/mother-road-harley-davidson-the-fall-opener-car-bike-show/
LOCATION:Mother Road Harley-Davidson\, 2501 Beverly Ave.\, Kingman\, AZ\, 86409\, United States
CATEGORIES:Arizona Car Shows,Bike Show
ATTACH;FMTTYPE=image/jpeg:https://murphydeals.com/wp-content/uploads/2024/08/motherroadfallshow.jpg
END:VEVENT
END:VCALENDAR