BEGIN:VCALENDAR
VERSION:2.0
PRODID:-//Murphy Deals - ECPv6.15.20//NONSGML v1.0//EN
CALSCALE:GREGORIAN
METHOD:PUBLISH
X-ORIGINAL-URL:https://murphydeals.com
X-WR-CALDESC:Events for Murphy Deals
REFRESH-INTERVAL;VALUE=DURATION:PT1H
X-Robots-Tag:noindex
X-PUBLISHED-TTL:PT1H
BEGIN:VTIMEZONE
TZID:America/Phoenix
BEGIN:STANDARD
TZOFFSETFROM:-0700
TZOFFSETTO:-0700
TZNAME:MST
DTSTART:20210101T000000
END:STANDARD
END:VTIMEZONE
BEGIN:VEVENT
DTSTART;TZID=America/Phoenix:20221214T080000
DTEND;TZID=America/Phoenix:20221214T100000
DTSTAMP:20260425T151408
CREATED:20220927T222058Z
LAST-MODIFIED:20221011T145529Z
UID:10006145-1671004800-1671012000@murphydeals.com
SUMMARY:Coffee Time at Friendship Cafe
DESCRIPTION:
URL:https://murphydeals.com/event/coffee-time-at-friendship-cafe/2022-12-14/
LOCATION:Mount Olive Lutheran Church\, 2170 Havasupai Blvd.\, Lake Havasu City\, AZ\, 86403
CATEGORIES:Event
ATTACH;FMTTYPE=image/jpeg:https://murphydeals.com/wp-content/uploads/2022/09/Coffee-Time-Flyer-1-e1664317238704.jpg
END:VEVENT
BEGIN:VEVENT
DTSTART;TZID=America/Phoenix:20221210T180000
DTEND;TZID=America/Phoenix:20221210T210000
DTSTAMP:20260425T151408
CREATED:20221201T174916Z
LAST-MODIFIED:20221201T174935Z
UID:10006772-1670695200-1670706000@murphydeals.com
SUMMARY:Mount Olive Lutheran Church Christmas Caroling
DESCRIPTION:Celebrate the season with Holiday Cheer \nAll are welcome to join us for dinner at 6pm.  \nA caravan of carolers will leave around 6:30pm to travel through the city singing for all to hear. \nWe will return about 8:30-9pm and close festivities with hot cocoa cookies and fun!
URL:https://murphydeals.com/event/mount-olive-lutheran-church-christmas-caroling/
LOCATION:Mount Olive Lutheran Church\, 2170 Havasupai Blvd.\, Lake Havasu City\, AZ\, 86403
CATEGORIES:Event
ATTACH;FMTTYPE=image/jpeg:https://murphydeals.com/wp-content/uploads/2022/12/Caroling-e1669916948692.jpg
END:VEVENT
BEGIN:VEVENT
DTSTART;TZID=America/Phoenix:20221207T180000
DTEND;TZID=America/Phoenix:20221207T190000
DTSTAMP:20260425T151408
CREATED:20221201T173905Z
LAST-MODIFIED:20221202T190353Z
UID:10006668-1670436000-1670439600@murphydeals.com
SUMMARY:Mount Olive Lutheran Church Advent Services
DESCRIPTION:Wednesday Advent Services\nAngel Encounters\n– Be sure to pick up your Angel Encounter cards. \nJoin us in the Sanctuary @ 6pm every Wednesday before Christmas
URL:https://murphydeals.com/event/mount-olive-lutheran-church-advent-services/2022-12-07/
LOCATION:Mount Olive Lutheran Church\, 2170 Havasupai Blvd.\, Lake Havasu City\, AZ\, 86403
CATEGORIES:Event
ATTACH;FMTTYPE=image/jpeg:https://murphydeals.com/wp-content/uploads/2022/12/Advent-Worship-2-1-e1669916439621.jpg
END:VEVENT
BEGIN:VEVENT
DTSTART;TZID=America/Phoenix:20221207T080000
DTEND;TZID=America/Phoenix:20221207T100000
DTSTAMP:20260425T151408
CREATED:20220927T222058Z
LAST-MODIFIED:20221011T145529Z
UID:10006144-1670400000-1670407200@murphydeals.com
SUMMARY:Coffee Time at Friendship Cafe
DESCRIPTION:
URL:https://murphydeals.com/event/coffee-time-at-friendship-cafe/2022-12-07/
LOCATION:Mount Olive Lutheran Church\, 2170 Havasupai Blvd.\, Lake Havasu City\, AZ\, 86403
CATEGORIES:Event
ATTACH;FMTTYPE=image/jpeg:https://murphydeals.com/wp-content/uploads/2022/09/Coffee-Time-Flyer-1-e1664317238704.jpg
END:VEVENT
BEGIN:VEVENT
DTSTART;TZID=America/Phoenix:20221130T080000
DTEND;TZID=America/Phoenix:20221130T100000
DTSTAMP:20260425T151408
CREATED:20220927T222058Z
LAST-MODIFIED:20221011T145529Z
UID:10006143-1669795200-1669802400@murphydeals.com
SUMMARY:Coffee Time at Friendship Cafe
DESCRIPTION:
URL:https://murphydeals.com/event/coffee-time-at-friendship-cafe/2022-11-30/
LOCATION:Mount Olive Lutheran Church\, 2170 Havasupai Blvd.\, Lake Havasu City\, AZ\, 86403
CATEGORIES:Event
ATTACH;FMTTYPE=image/jpeg:https://murphydeals.com/wp-content/uploads/2022/09/Coffee-Time-Flyer-1-e1664317238704.jpg
END:VEVENT
BEGIN:VEVENT
DTSTART;TZID=America/Phoenix:20221124T110000
DTEND;TZID=America/Phoenix:20221124T130000
DTSTAMP:20260425T151408
CREATED:20221121T220035Z
LAST-MODIFIED:20221121T231227Z
UID:10006626-1669287600-1669294800@murphydeals.com
SUMMARY:Mount Olive Lutheran Church Thanksgiving Dinner
DESCRIPTION:Happy Thanksgiving!\nTurkey\, potatoes and gravy provided.\nPlease bring a dish to share.
URL:https://murphydeals.com/event/mount-olive-lutheran-church-thanksgiving-dinner/
LOCATION:Mount Olive Lutheran Church\, 2170 Havasupai Blvd.\, Lake Havasu City\, AZ\, 86403
CATEGORIES:Event
ATTACH;FMTTYPE=image/jpeg:https://murphydeals.com/wp-content/uploads/2022/11/MT.-Olives-Thanks-giving-feast-e1669068019738.jpg
END:VEVENT
BEGIN:VEVENT
DTSTART;TZID=America/Phoenix:20221123T180000
DTEND;TZID=America/Phoenix:20221123T190000
DTSTAMP:20260425T151408
CREATED:20221121T214246Z
LAST-MODIFIED:20221121T214246Z
UID:10006625-1669226400-1669230000@murphydeals.com
SUMMARY:Mount Olive Lutheran Church Thanksgiving Eve Worship
DESCRIPTION:Worship in the Sanctuary\nGive Thanks for all the year’s blessings!
URL:https://murphydeals.com/event/mount-olive-lutheran-church-thanksgiving-eve-worship/
LOCATION:Mount Olive Lutheran Church\, 2170 Havasupai Blvd.\, Lake Havasu City\, AZ\, 86403
CATEGORIES:Event
ATTACH;FMTTYPE=image/jpeg:https://murphydeals.com/wp-content/uploads/2022/11/Thanksgiving-Eve-worship-Service-e1669066917424.jpg
END:VEVENT
BEGIN:VEVENT
DTSTART;TZID=America/Phoenix:20221123T080000
DTEND;TZID=America/Phoenix:20221123T100000
DTSTAMP:20260425T151408
CREATED:20220927T222058Z
LAST-MODIFIED:20221011T145529Z
UID:10006142-1669190400-1669197600@murphydeals.com
SUMMARY:Coffee Time at Friendship Cafe
DESCRIPTION:
URL:https://murphydeals.com/event/coffee-time-at-friendship-cafe/2022-11-23/
LOCATION:Mount Olive Lutheran Church\, 2170 Havasupai Blvd.\, Lake Havasu City\, AZ\, 86403
CATEGORIES:Event
ATTACH;FMTTYPE=image/jpeg:https://murphydeals.com/wp-content/uploads/2022/09/Coffee-Time-Flyer-1-e1664317238704.jpg
END:VEVENT
BEGIN:VEVENT
DTSTART;TZID=America/Phoenix:20221117T180000
DTEND;TZID=America/Phoenix:20221117T210000
DTSTAMP:20260425T151408
CREATED:20220927T212250Z
LAST-MODIFIED:20220927T220952Z
UID:10006132-1668708000-1668718800@murphydeals.com
SUMMARY:Live Music & Entertainment
DESCRIPTION:Every 3rd Thursday\, bring your food and drinks and join us in the Friendship Café. \nWe are excited to give people a place to come together\, eat together\, chat together\, and enjoy music together; a place to relax. \nA freewill offering will be accepted to benefit the Network Table ministry \n  \n  \nOctober 20th\, November 17th\, December 15th at 6pm at Mount Olive Lutheran Church 2170 Havasupai Blvd LHC AZ 86403 \nIf you are interested in being a performer we welcome singers\, musicians\, magicians\, drama/theatre groups.\nPlease call 928-855-2299 for information
URL:https://murphydeals.com/event/live-music-entertainment/2022-11-17/
LOCATION:Mount Olive Lutheran Church\, 2170 Havasupai Blvd.\, Lake Havasu City\, AZ\, 86403
CATEGORIES:Arts | Theatre,Music | Concerts
ATTACH;FMTTYPE=image/jpeg:https://murphydeals.com/wp-content/uploads/2022/09/3rd-Thurs.-Flyer-1-e1664313613214.jpg
END:VEVENT
BEGIN:VEVENT
DTSTART;TZID=America/Phoenix:20221116T080000
DTEND;TZID=America/Phoenix:20221116T100000
DTSTAMP:20260425T151408
CREATED:20220927T222058Z
LAST-MODIFIED:20221011T145529Z
UID:10006141-1668585600-1668592800@murphydeals.com
SUMMARY:Coffee Time at Friendship Cafe
DESCRIPTION:
URL:https://murphydeals.com/event/coffee-time-at-friendship-cafe/2022-11-16/
LOCATION:Mount Olive Lutheran Church\, 2170 Havasupai Blvd.\, Lake Havasu City\, AZ\, 86403
CATEGORIES:Event
ATTACH;FMTTYPE=image/jpeg:https://murphydeals.com/wp-content/uploads/2022/09/Coffee-Time-Flyer-1-e1664317238704.jpg
END:VEVENT
END:VCALENDAR