BEGIN:VCALENDAR
VERSION:2.0
PRODID:-//Murphy Deals - ECPv6.15.20//NONSGML v1.0//EN
CALSCALE:GREGORIAN
METHOD:PUBLISH
X-ORIGINAL-URL:https://murphydeals.com
X-WR-CALDESC:Events for Murphy Deals
REFRESH-INTERVAL;VALUE=DURATION:PT1H
X-Robots-Tag:noindex
X-PUBLISHED-TTL:PT1H
BEGIN:VTIMEZONE
TZID:America/Phoenix
BEGIN:STANDARD
TZOFFSETFROM:-0700
TZOFFSETTO:-0700
TZNAME:MST
DTSTART:20210101T000000
END:STANDARD
END:VTIMEZONE
BEGIN:VEVENT
DTSTART;TZID=America/Phoenix:20230826T200000
DTEND;TZID=America/Phoenix:20230826T213000
DTSTAMP:20260425T093356
CREATED:20230131T235631Z
LAST-MODIFIED:20230508T153146Z
UID:10007153-1693080000-1693085400@murphydeals.com
SUMMARY:Rob Schneider: I Have Issues Tour at The Pavilion Theater in Laughlin
DESCRIPTION:Rob Schneider is an accomplished actor\, comedian\, screenwriter and director. A stand-up comic and veteran of the award-winning NBC sketch comedy series Saturday Night Live\, Schneider has gone on to a  successful career in films\, television and continues his word-wide standup tour.\nSchneider’s first Netflix comedy special\, “Asian Momma\, Mexican Kids\,” premiered globally on August 11\, 2020. Filmed in February\, the special gives viewers a look at Schneider’s family and personal life through hilarious anecdotes. The special ends with a surprise duet performance with Schneider’s daughter Elle King. \nBUY TICKETS\n 
URL:https://murphydeals.com/event/rob-schneider-i-have-issues-tour/
LOCATION:Pavilion Theater at Tropicana Laughlin\, 2121 S Casino Drive\, Laughlin\, NV\, 89029
CATEGORIES:Comedy | Comedian,Event
ATTACH;FMTTYPE=image/jpeg:https://murphydeals.com/wp-content/uploads/2023/01/RobSchneider-e1676480258458.jpg
END:VEVENT
BEGIN:VEVENT
DTSTART;TZID=America/Phoenix:20230513T200000
DTEND;TZID=America/Phoenix:20230513T220000
DTSTAMP:20260425T093356
CREATED:20230227T175446Z
LAST-MODIFIED:20230227T175446Z
UID:10007293-1684008000-1684015200@murphydeals.com
SUMMARY:IMOMSOHARD at Pavilion Theater at Tropicana Laughlin
DESCRIPTION:#IMOMSOHARD began as a popular web-series by real-life best friends\, comedians\, and moms Kristin and Jen. One night\, over a glass of wine and many tears of frustration\, these two friends decided to tell a different kind of story. \nWith a camera\, two husbands\, a babysitter\, and bottomless mimosas\, Kristin and Jen decided to speak openly about their fears and failures and prove that the only way to survive motherhood is through laughter and friendship. Good thing because\, while shooting the first video for the series\, Jen forgot her newborn daughter’s name. The video was a smash hit\, sparking an online community of 2 million of the most engaged followers that social media has ever seen\, confirmation that moms and women everywhere needed to laugh and to be heard. \nKristin and Jen followed up with weekly videos about all things woman and mother: hemorrhoids\, nipple hair\, sex after marriage\, mom bods\, spanks\, wedding dresses\, and swimsuits. (Yes\, they wore them on camera). Both women write and produce the #IMSH series with a common goal: Maybe we can make you feel better about the job you’re doing if you see the terrible job we’re doing. The videos have received nearly 300 million views worldwide in just 5 years. The phenomenon that Kristin and Jen created has since been nabbed for development by Warner Brothers TV. The comedians have sold-out two national tours\, written a New York Times Best Selling book\, landed branded deals with Fortune 100 companies such as Wal-Mart and Uni-Lever\, and taped a standup comedy special for Amazon Prime Video\, launching the network’s first standup comedy platform. They have recently premiered their weekly podcast and a children’s book series with Harper Collins. Kristin Hensley and Jen Smedley are both based in Los Angeles and can often be found selling pizza slices for the PTA or working as parking enforcement at school drop off. \nBUY TICKETS
URL:https://murphydeals.com/event/imomsohard-at-pavilion-theater-at-tropicana-laughlin/
LOCATION:Pavilion Theater at Tropicana Laughlin\, 2121 S Casino Drive\, Laughlin\, NV\, 89029
CATEGORIES:Comedy | Comedian
ATTACH;FMTTYPE=image/jpeg:https://murphydeals.com/wp-content/uploads/2023/02/imomsohard-e1677520224839.jpg
END:VEVENT
BEGIN:VEVENT
DTSTART;TZID=America/Phoenix:20230303T200000
DTEND;TZID=America/Phoenix:20230303T220000
DTSTAMP:20260425T093356
CREATED:20221227T185643Z
LAST-MODIFIED:20230105T161824Z
UID:10006854-1677873600-1677880800@murphydeals.com
SUMMARY:Carlos Mencia at the Pavilion Theater at the Tropicana
DESCRIPTION:Carlos Mencia\, one of the most popular comedians in the country\, has the rare gift of insightful perception and precise delivery when addressing a variety of subjects\, including ethnic stereotypes\, racism and people’s inability to laugh at themselves. He represents the internal voice inside us and demands we admit to thinking what he says out loud. \nMencia is best known for his two solo HBO Specials\, one of which received a CableACE Award nomination\, and as host of the groundbreaking series\, “Funny Is Funny” (Galavision). His first appearance on “The Tonight Show” received a standing ovation. His additional television credits include a recurring role in the animated series “The Proud Family” on the Disney Channel\, as well as guest-starring roles on both “The Shield” and “The Bernie Mac Show.” He starred in his own original half-hour special\, “Comedy Central Presents Carlos Mencia\,” and been on CNBC’s “Dennis Miller\,” ABC’s “Politically Incorrect with Bill Maher\,” HBO’s “Loco Slam\,” “Comic Relief VI” and repeat spots on Comedy Central’s “Comedy Showcase.” On the big screen\, Mencia’s film credits include “29 Palms” and “Outta’ Time.”. \nMencia’s concert tour\, “The Three Amigos\,” which he headlined in 2001-2002\, was so successful it sparked the interest of industry execs and prompted Miramax Films to fund the taping of three sold-out performances as well as behind-the-scenes footage. The DVD of this film was just released by Disney. In addition\, StudioWorks Entertainment will release his first retail DVD\, ““Carlos Mencia: Not For The Easily Offended Live in San Jose\,” on June 14\, 2005. \nBUY TICKETS
URL:https://murphydeals.com/event/carlos-mencia-at-the-pavilion-theater-at-the-tropicana/
LOCATION:Pavilion Theater at Tropicana Laughlin\, 2121 S Casino Drive\, Laughlin\, NV\, 89029
CATEGORIES:Comedy | Comedian
ATTACH;FMTTYPE=image/jpeg:https://murphydeals.com/wp-content/uploads/2022/12/Comedian_Carlos_Mencia_in_2009-e1672935207125.jpg
END:VEVENT
BEGIN:VEVENT
DTSTART;TZID=America/Phoenix:20230225T200000
DTEND;TZID=America/Phoenix:20230225T220000
DTSTAMP:20260425T093356
CREATED:20221227T173852Z
LAST-MODIFIED:20221227T173852Z
UID:10006851-1677355200-1677362400@murphydeals.com
SUMMARY:Felipe Esparza at The Pavilion Theater
DESCRIPTION:Felipe Esparza is a stand-up comedian and actor who has come a long way since winning NBC’s “Last Comic Standing” in 2010. While that may have opened doors and helped build his fan base around the country\, his hard work and focus in more recent years has brought him longevity. \nWith three successful stand-up specials on Netflix and HBO\, his “What’s Up Fool? Podcast” holding steady as one of the top comedy podcasts for the last eight years\, and his sold out tour dates all over the country\, Felipe is now at a point where he is moving more into TV and film. He has been a recurring favorite on TV Shows such as “Superstore”\, “The Eric Andre Show”\, “Gentefied”\, and “Victor and Valentino”\, as well as appearing in films including “Guest House” with Pauly Shore\, “7th & Union” with Omar Chaparro\, “Daddy Daughter Trip” with Rob Schneider and “You People” with Eddie Murphy and Jonah Hill. \nFelipe is currently on tour and working on his fourth stand-up special. Felipe Esparza is a stand-up comedian and actor\, known for his 2012 stand-up special “They’re Not Gonna Laugh at You”\, his recurring appearances on “Superstore” and “The Eric Andre Show”\, “Last Comic Standing” (winner – 2010)\, his podcast “What’s Up Fool?” on the All Things Comedy Network and his newest stand-up special\, “Translate This”\, which premiered on HBO in 2017 and continues to run on all the HBO platforms. \nBUY TICKETS
URL:https://murphydeals.com/event/felipe-esparza-at-the-pavilion-theater/
LOCATION:Pavilion Theater at Tropicana Laughlin\, 2121 S Casino Drive\, Laughlin\, NV\, 89029
CATEGORIES:Comedy | Comedian
ATTACH;FMTTYPE=image/jpeg:https://murphydeals.com/wp-content/uploads/2022/12/Felipe_770x430-9c2d2fb428-1.jpg
END:VEVENT
BEGIN:VEVENT
DTSTART;TZID=America/Phoenix:20230128T200000
DTEND;TZID=America/Phoenix:20230128T233000
DTSTAMP:20260425T093356
CREATED:20221025T223122Z
LAST-MODIFIED:20221130T220953Z
UID:10006511-1674936000-1674948600@murphydeals.com
SUMMARY:Comedian Jay Mohr At The Pavilion Theatre In Laughlin\, NV
DESCRIPTION:See the very funny Jay Mohr at the Tropicana Pavilion Theatre in Laughlin\, NV on Saturday\, January 28th\, 2022. \nComedian\, actor and best selling author\,  Jay Mohr has been performing stand-up comedy since he was sixteen years old. Jay still loves performing stand-up comedy – it’s in his blood\, his bones and his DNA. Anyone that has ever seen one of his concerts will be quick to tell you that there is no one better. Comedy Central agrees\, having named Mohr one of the 100 greatest stand-up comics of all time.
URL:https://murphydeals.com/event/see-the-very-funny-jay-mohr-at-the-pavilion-theatre-in-laughlin-nv/
LOCATION:Pavilion Theater at Tropicana Laughlin\, 2121 S Casino Drive\, Laughlin\, NV\, 89029
CATEGORIES:Comedy | Comedian
ATTACH;FMTTYPE=image/webp:https://murphydeals.com/wp-content/uploads/2022/10/Jay-Mohr3-e1669845596874.webp
END:VEVENT
BEGIN:VEVENT
DTSTART;TZID=America/Phoenix:20221203T200000
DTEND;TZID=America/Phoenix:20221203T213000
DTSTAMP:20260425T093356
CREATED:20221114T214741Z
LAST-MODIFIED:20221129T221303Z
UID:10006601-1670097600-1670103000@murphydeals.com
SUMMARY:Revisiting Creedence at Pavilion Theater at Tropicana in Laughlin
DESCRIPTION:They toured the world performing with Creedence Clearwater Revival members and Rock & Roll Hall of Famers for the past ten years. Now they’ve been passed the torch and are continuing CCR’s musical legacy\, live in concert. Simply put\, Revisiting Creedence is the only band in the world with the heritage\, experience\, and dedication to properly honor and celebrate the music of Creedence Clearwater Revival live in concert. \nGET TICKETS \n 
URL:https://murphydeals.com/event/revisiting-creedence-at-pavilion-theater-at-tropicana-in-laughlin/
LOCATION:Pavilion Theater at Tropicana Laughlin\, 2121 S Casino Drive\, Laughlin\, NV\, 89029
CATEGORIES:Event,Music | Concerts
ATTACH;FMTTYPE=image/jpeg:https://murphydeals.com/wp-content/uploads/2022/11/Revisiting-Creedence-e1669757599704.jpg
END:VEVENT
END:VCALENDAR