BEGIN:VCALENDAR
VERSION:2.0
PRODID:-//Murphy Deals - ECPv6.15.20//NONSGML v1.0//EN
CALSCALE:GREGORIAN
METHOD:PUBLISH
X-WR-CALNAME:Murphy Deals
X-ORIGINAL-URL:https://murphydeals.com
X-WR-CALDESC:Events for Murphy Deals
REFRESH-INTERVAL;VALUE=DURATION:PT1H
X-Robots-Tag:noindex
X-PUBLISHED-TTL:PT1H
BEGIN:VTIMEZONE
TZID:America/Phoenix
BEGIN:STANDARD
TZOFFSETFROM:-0700
TZOFFSETTO:-0700
TZNAME:MST
DTSTART:20230101T000000
END:STANDARD
END:VTIMEZONE
BEGIN:VEVENT
DTSTART;TZID=America/Phoenix:20240831T210000
DTEND;TZID=America/Phoenix:20240901T010000
DTSTAMP:20260425T063300
CREATED:20240812T225701Z
LAST-MODIFIED:20240827T222634Z
UID:10009877-1725138000-1725152400@murphydeals.com
SUMMARY:SUBLIME TRIBUTE BY DON'T PUSH - LIVE AT HAVASU CONCERT LOUNGE
DESCRIPTION:Don’t Push – (A Tribute to Sublime) formed in Anaheim\, CA in March of 2019\, but Brodii (guitar / vocals) Kenny (drums) and Dan (bass / vocals) have been playing in bands\ntogether since 1999. Together they’ve had a few different projects but the one thing that has always remained the same was they’d always play Sublime songs as part of their setlist. \nThe goal for the Don’t Push is to be an authentic Sublime experience with the sound\, the look\, and the attitude so that true fans of Sublime and Bradley Nowell who may or may not have had the chance to see them live can come out to a show and hear some of their amazing songs and the songs they performed\, played the way Sublime played them. \nWhat the band appreciates most about Sublime was how Brad took all of his influences and flipped them into the Sublime sound and created something new and exciting but also bringing light to all these other great artists like Tenor Saw\, Half Pint\, Wailing Souls\, The Specials\, The Ziggens\, Toots and the Maytals\, Barrington Levy\, The Descendents\, Bad Religion\, Bad Brains\, The Minutemen\, and of course Bob Marley. Don’t Push wants to keep that spirit of Sublime alive and pass on their music and the legacy of Bradley Nowell and\nSublime to the younger generations. \nGET TICKETS HERE! \nAges 21+
URL:https://murphydeals.com/event/nu-skool-live-at-havasu-concert-lounge/
LOCATION:Havasu Concert Lounge at Romano’s\, 1519 Queens Bay\, Lake Havasu City\, Arizona\, 86403
CATEGORIES:Arts | Theatre,Event,Live On Location,Music | Concerts
ATTACH;FMTTYPE=image/webp:https://murphydeals.com/wp-content/uploads/2024/08/dontpush.webp
END:VEVENT
END:VCALENDAR