BEGIN:VCALENDAR
VERSION:2.0
PRODID:-//Murphy Deals - ECPv6.15.20//NONSGML v1.0//EN
CALSCALE:GREGORIAN
METHOD:PUBLISH
X-ORIGINAL-URL:https://murphydeals.com
X-WR-CALDESC:Events for Murphy Deals
REFRESH-INTERVAL;VALUE=DURATION:PT1H
X-Robots-Tag:noindex
X-PUBLISHED-TTL:PT1H
BEGIN:VTIMEZONE
TZID:America/Phoenix
BEGIN:STANDARD
TZOFFSETFROM:-0700
TZOFFSETTO:-0700
TZNAME:MST
DTSTART:20230101T000000
END:STANDARD
END:VTIMEZONE
BEGIN:VEVENT
DTSTART;TZID=America/Phoenix:20240921T073000
DTEND;TZID=America/Phoenix:20240921T100000
DTSTAMP:20260425T124134
CREATED:20240815T224618Z
LAST-MODIFIED:20240815T224719Z
UID:10009892-1726903800-1726912800@murphydeals.com
SUMMARY:1st ANNUAL WALK FOR BREAST CANCER AWARENESS
DESCRIPTION:The Cancer Care Resource Group is hosting a Walk for Breast Cancer Awareness on September 21\, 2024. \nIt will be held under the London Bridge at 7:30 a.m. \n  \n 
URL:https://murphydeals.com/event/1st-annual-walk-for-breast-cancer-awareness/
LOCATION:Stage Under the London Bridge\, 1340 McCulloch Blvd N\, Lake Havasu City\, AZ\, 86403\, United States
CATEGORIES:Charity | Benefits,Event
ATTACH;FMTTYPE=image/png:https://murphydeals.com/wp-content/uploads/2024/08/beastcancerwalk.png
END:VEVENT
END:VCALENDAR