BEGIN:VCALENDAR
VERSION:2.0
PRODID:-//Murphy Deals - ECPv6.15.20//NONSGML v1.0//EN
CALSCALE:GREGORIAN
METHOD:PUBLISH
X-WR-CALNAME:Murphy Deals
X-ORIGINAL-URL:https://murphydeals.com
X-WR-CALDESC:Events for Murphy Deals
REFRESH-INTERVAL;VALUE=DURATION:PT1H
X-Robots-Tag:noindex
X-PUBLISHED-TTL:PT1H
BEGIN:VTIMEZONE
TZID:America/Phoenix
BEGIN:STANDARD
TZOFFSETFROM:-0700
TZOFFSETTO:-0700
TZNAME:MST
DTSTART:20220101T000000
END:STANDARD
END:VTIMEZONE
BEGIN:VEVENT
DTSTART;TZID=America/Phoenix:20230514T090000
DTEND;TZID=America/Phoenix:20230514T170000
DTSTAMP:20260425T161616
CREATED:20230417T210145Z
LAST-MODIFIED:20230417T214221Z
UID:10007538-1684054800-1684083600@murphydeals.com
SUMMARY:Craft & Car Show Mother's Day Weekend in Kingman
DESCRIPTION:
URL:https://murphydeals.com/event/craft-car-show-mothers-day-weekend-in-kingman/2023-05-14/
LOCATION:Staples Shopping Center\, 3320 Stockton Hill Rd\, Kingman\, AZ\, 86409
CATEGORIES:Event
ATTACH;FMTTYPE=image/jpeg:https://murphydeals.com/wp-content/uploads/2023/04/DCE-Craft-Car-Show-on-Mothers-Day-1-e1681765294285.jpg
END:VEVENT
BEGIN:VEVENT
DTSTART;TZID=America/Phoenix:20230514T090000
DTEND;TZID=America/Phoenix:20230514T160000
DTSTAMP:20260425T161616
CREATED:20230417T201940Z
LAST-MODIFIED:20230417T214044Z
UID:10007540-1684054800-1684080000@murphydeals.com
SUMMARY:Mother's Day Gift & Craft Show in Kingman
DESCRIPTION:Fathers & Kids\, bring the Moms out to the Staples Shopping Center located at 3320 Stockton Hill Road (across from KRMC) for some food\, music\, 50/50 raffles\, shopping and fun from all of our amazing vendors. \nNet proceeds to benefit the Mohave County First Responders Foundation \nFor vendor inquiries\, please call Frank at 702-373-7694 or email at desertcanyoneventsllc@gmail.com \n\n 
URL:https://murphydeals.com/event/mothers-day-gift-craft-show-in-kingman/2023-05-14/
LOCATION:Staples Shopping Center\, 3320 Stockton Hill Rd\, Kingman\, AZ\, 86409
CATEGORIES:Event
ATTACH;FMTTYPE=image/jpeg:https://murphydeals.com/wp-content/uploads/2023/04/mothersdaycraft-1-e1681762665987.jpg
END:VEVENT
BEGIN:VEVENT
DTSTART;TZID=America/Phoenix:20230513T090000
DTEND;TZID=America/Phoenix:20230513T170000
DTSTAMP:20260425T161616
CREATED:20230417T210145Z
LAST-MODIFIED:20230417T214221Z
UID:10007537-1683968400-1683997200@murphydeals.com
SUMMARY:Craft & Car Show Mother's Day Weekend in Kingman
DESCRIPTION:
URL:https://murphydeals.com/event/craft-car-show-mothers-day-weekend-in-kingman/2023-05-13/
LOCATION:Staples Shopping Center\, 3320 Stockton Hill Rd\, Kingman\, AZ\, 86409
CATEGORIES:Event
ATTACH;FMTTYPE=image/jpeg:https://murphydeals.com/wp-content/uploads/2023/04/DCE-Craft-Car-Show-on-Mothers-Day-1-e1681765294285.jpg
END:VEVENT
BEGIN:VEVENT
DTSTART;TZID=America/Phoenix:20230513T090000
DTEND;TZID=America/Phoenix:20230513T170000
DTSTAMP:20260425T161616
CREATED:20230417T201940Z
LAST-MODIFIED:20230417T214044Z
UID:10007534-1683968400-1683997200@murphydeals.com
SUMMARY:Mother's Day Gift & Craft Show in Kingman
DESCRIPTION:Fathers & Kids\, bring the Moms out to the Staples Shopping Center located at 3320 Stockton Hill Road (across from KRMC) for some food\, music\, 50/50 raffles\, shopping and fun from all of our amazing vendors. \nNet proceeds to benefit the Mohave County First Responders Foundation \nFor vendor inquiries\, please call Frank at 702-373-7694 or email at desertcanyoneventsllc@gmail.com \n\n 
URL:https://murphydeals.com/event/mothers-day-gift-craft-show-in-kingman/2023-05-13/
LOCATION:Staples Shopping Center\, 3320 Stockton Hill Rd\, Kingman\, AZ\, 86409
CATEGORIES:Event
ATTACH;FMTTYPE=image/jpeg:https://murphydeals.com/wp-content/uploads/2023/04/mothersdaycraft-1-e1681762665987.jpg
END:VEVENT
END:VCALENDAR