BEGIN:VCALENDAR
VERSION:2.0
PRODID:-//Murphy Deals - ECPv6.15.20//NONSGML v1.0//EN
CALSCALE:GREGORIAN
METHOD:PUBLISH
X-WR-CALNAME:Murphy Deals
X-ORIGINAL-URL:https://murphydeals.com
X-WR-CALDESC:Events for Murphy Deals
REFRESH-INTERVAL;VALUE=DURATION:PT1H
X-Robots-Tag:noindex
X-PUBLISHED-TTL:PT1H
BEGIN:VTIMEZONE
TZID:America/Phoenix
BEGIN:STANDARD
TZOFFSETFROM:-0700
TZOFFSETTO:-0700
TZNAME:MST
DTSTART:20210101T000000
END:STANDARD
END:VTIMEZONE
BEGIN:VEVENT
DTSTART;TZID=America/Phoenix:20230311T080000
DTEND;TZID=America/Phoenix:20230311T120000
DTSTAMP:20260425T105036
CREATED:20230120T161825Z
LAST-MODIFIED:20230120T175828Z
UID:10007086-1678521600-1678536000@murphydeals.com
SUMMARY:Lake Havasu Farmers Market
DESCRIPTION:The KAWS\n2144 McCulloch Blvd N\nLake Havasu City\, Arizona 86403 \n\n\nthekawslhc.com | Admission Price: Free \n2nd & 4th Saturday\n8am – Noon\n2023 Market Dates: \nJanuary 14 & 28\nFebruary 11 & 25\nMarch 11 & 25\nApril 8 & 22\nMay 13 & 27\nJune 10 & 24\nJuly 8 & 22\nAugust 12 & 26\nSeptember 9 & 23\nOctober 14 & 28\nNovember 11\nDecember 9 \n8 am – 12 pm
URL:https://murphydeals.com/event/lake-havasu-farmers-market-2/2023-03-11/
LOCATION:The KAWS\, 2144 McCulloch Boulevard North\, Lake Havasu City\, AZ\, 86403\, United States
CATEGORIES:Farmers Market
ATTACH;FMTTYPE=image/webp:https://murphydeals.com/wp-content/uploads/2022/08/Farmers-scaled-e1661813060398.webp
END:VEVENT
BEGIN:VEVENT
DTSTART;TZID=America/Phoenix:20230225T080000
DTEND;TZID=America/Phoenix:20230225T120000
DTSTAMP:20260425T105036
CREATED:20220829T224644Z
LAST-MODIFIED:20230120T165800Z
UID:10007062-1677312000-1677326400@murphydeals.com
SUMMARY:Lake Havasu Farmers Market
DESCRIPTION:The KAWS\n2144 McCulloch Blvd N\nLake Havasu City\, Arizona 86403 \n2nd & 4th Saturday\n8am – Noon\n\n\nthekawslhc.com | Admission Price: Free \n2023 Market Dates: \nJanuary 14 & 28\nFebruary 11 & 25\nMarch 11 & 25\nApril 8 & 22\nMay 13 & 27\nJune 10 & 24\nJuly 8 & 22\nAugust 12 & 26\nSeptember 9 & 23\nOctober 14 & 28\nNovember 11\nDecember 9 \n8 am – 12 pm
URL:https://murphydeals.com/event/lake-havasu-farmers-market/2023-02-25/
LOCATION:The KAWS\, 2144 McCulloch Boulevard North\, Lake Havasu City\, AZ\, 86403\, United States
CATEGORIES:Farmers Market
ATTACH;FMTTYPE=image/webp:https://murphydeals.com/wp-content/uploads/2022/08/Farmers-scaled-e1661813060398.webp
END:VEVENT
BEGIN:VEVENT
DTSTART;TZID=America/Phoenix:20230211T080000
DTEND;TZID=America/Phoenix:20230211T120000
DTSTAMP:20260425T105036
CREATED:20230120T161825Z
LAST-MODIFIED:20230120T175828Z
UID:10007085-1676102400-1676116800@murphydeals.com
SUMMARY:Lake Havasu Farmers Market
DESCRIPTION:The KAWS\n2144 McCulloch Blvd N\nLake Havasu City\, Arizona 86403 \n\n\nthekawslhc.com | Admission Price: Free \n2nd & 4th Saturday\n8am – Noon\n2023 Market Dates: \nJanuary 14 & 28\nFebruary 11 & 25\nMarch 11 & 25\nApril 8 & 22\nMay 13 & 27\nJune 10 & 24\nJuly 8 & 22\nAugust 12 & 26\nSeptember 9 & 23\nOctober 14 & 28\nNovember 11\nDecember 9 \n8 am – 12 pm
URL:https://murphydeals.com/event/lake-havasu-farmers-market-2/2023-02-11/
LOCATION:The KAWS\, 2144 McCulloch Boulevard North\, Lake Havasu City\, AZ\, 86403\, United States
CATEGORIES:Farmers Market
ATTACH;FMTTYPE=image/webp:https://murphydeals.com/wp-content/uploads/2022/08/Farmers-scaled-e1661813060398.webp
END:VEVENT
BEGIN:VEVENT
DTSTART;TZID=America/Phoenix:20230128T080000
DTEND;TZID=America/Phoenix:20230128T120000
DTSTAMP:20260425T105036
CREATED:20220829T224644Z
LAST-MODIFIED:20230120T165800Z
UID:10001664-1674892800-1674907200@murphydeals.com
SUMMARY:Lake Havasu Farmers Market
DESCRIPTION:The KAWS\n2144 McCulloch Blvd N\nLake Havasu City\, Arizona 86403 \n2nd & 4th Saturday\n8am – Noon\n\n\nthekawslhc.com | Admission Price: Free \n2023 Market Dates: \nJanuary 14 & 28\nFebruary 11 & 25\nMarch 11 & 25\nApril 8 & 22\nMay 13 & 27\nJune 10 & 24\nJuly 8 & 22\nAugust 12 & 26\nSeptember 9 & 23\nOctober 14 & 28\nNovember 11\nDecember 9 \n8 am – 12 pm
URL:https://murphydeals.com/event/lake-havasu-farmers-market/2023-01-28/
LOCATION:The KAWS\, 2144 McCulloch Boulevard North\, Lake Havasu City\, AZ\, 86403\, United States
CATEGORIES:Farmers Market
ATTACH;FMTTYPE=image/webp:https://murphydeals.com/wp-content/uploads/2022/08/Farmers-scaled-e1661813060398.webp
END:VEVENT
BEGIN:VEVENT
DTSTART;TZID=America/Phoenix:20221125T190000
DTEND;TZID=America/Phoenix:20221125T200000
DTSTAMP:20260425T105036
CREATED:20221115T182207Z
LAST-MODIFIED:20221115T202236Z
UID:10006613-1669402800-1669406400@murphydeals.com
SUMMARY:Magic with Greg Van Holsbeck's at The KAWS in Lake Havasu
DESCRIPTION:Handcrafted Mysteries is an immersive magic performance featuring the original illusions of Greg Van Holsbeck! \nGreg’s goal is to create a unique experience by putting the magic in the hands of the audience. \nThe magic takes place all around the room and gets everyone involved. \n“Handcrafted Mysteries” previously ran at The KAWS in 2019 and will return for one night only with plenty of brand new illusions. \nThe mission statement of Handcrafted Mysteries is to showcase illusions that are created by Greg and can’t be seen anywhere else. \nGreg Van Holsbeck is an experienced magician and frequent performer at the world famous Magic Castle in Hollywood. He was voted “Best Local Illusionist” by Inland Empire Magazine for his public shows in Claremont including “Handcrafted Mysteries”. \nTickets must be purchased in advance; there will be no ticket sales at the door. \nAdmission Price: \n$25 \nPurchase tickets here!
URL:https://murphydeals.com/event/handcrafted-mysteries-at-the-kaws-in-lake-havasu/
LOCATION:The KAWS\, 2144 McCulloch Boulevard North\, Lake Havasu City\, AZ\, 86403\, United States
CATEGORIES:Event
ATTACH;FMTTYPE=image/jpeg:https://murphydeals.com/wp-content/uploads/2022/11/gregvanhols-e1668536134690.jpg
END:VEVENT
END:VCALENDAR