BEGIN:VCALENDAR
VERSION:2.0
PRODID:-//Murphy Deals - ECPv6.15.20//NONSGML v1.0//EN
CALSCALE:GREGORIAN
METHOD:PUBLISH
X-WR-CALNAME:Murphy Deals
X-ORIGINAL-URL:https://murphydeals.com
X-WR-CALDESC:Events for Murphy Deals
REFRESH-INTERVAL;VALUE=DURATION:PT1H
X-Robots-Tag:noindex
X-PUBLISHED-TTL:PT1H
BEGIN:VTIMEZONE
TZID:America/Phoenix
BEGIN:STANDARD
TZOFFSETFROM:-0700
TZOFFSETTO:-0700
TZNAME:MST
DTSTART:20220101T000000
END:STANDARD
END:VTIMEZONE
BEGIN:VTIMEZONE
TZID:America/Los_Angeles
BEGIN:DAYLIGHT
TZOFFSETFROM:-0800
TZOFFSETTO:-0700
TZNAME:PDT
DTSTART:20220313T100000
END:DAYLIGHT
BEGIN:STANDARD
TZOFFSETFROM:-0700
TZOFFSETTO:-0800
TZNAME:PST
DTSTART:20221106T090000
END:STANDARD
BEGIN:DAYLIGHT
TZOFFSETFROM:-0800
TZOFFSETTO:-0700
TZNAME:PDT
DTSTART:20230312T100000
END:DAYLIGHT
BEGIN:STANDARD
TZOFFSETFROM:-0700
TZOFFSETTO:-0800
TZNAME:PST
DTSTART:20231105T090000
END:STANDARD
BEGIN:DAYLIGHT
TZOFFSETFROM:-0800
TZOFFSETTO:-0700
TZNAME:PDT
DTSTART:20240310T100000
END:DAYLIGHT
BEGIN:STANDARD
TZOFFSETFROM:-0700
TZOFFSETTO:-0800
TZNAME:PST
DTSTART:20241103T090000
END:STANDARD
END:VTIMEZONE
BEGIN:VEVENT
DTSTART;TZID=America/Phoenix:20231015T090000
DTEND;TZID=America/Phoenix:20231015T160000
DTSTAMP:20260425T124021
CREATED:20230411T194859Z
LAST-MODIFIED:20230411T194859Z
UID:10007506-1697360400-1697385600@murphydeals.com
SUMMARY:Lake Havasu Classic Outboard Championships at The Nautical in Lake Havasu
DESCRIPTION:The return of this epic powerboat racing event will be conducted by the prestigious Formula 1 Powerboat Championship\, renowned for its heart thumping high-horsepower racing excitement performed by world class international powerboat racing stars! \nThe race headquarters and free fan viewing will be at the Nautical Beachfront Resort at 1000 McCulloch Blvd. N\, overlooking Thompson Bay\, which long-time powerboat fans will remember as being the original location of the championships dating back to 1964. \nRacing fans will enjoy three full days of action-packed excitement featuring three classes each day: Formula 1; Tri-Hull and Formula Lights. \nThe city’s founder\, Robert P. McCulloch\, Jr. was the first to initiate the outboard championships at Lake Havasu in 1964\, and with his visionary skills\, the race soon became a Lake Havasu Thanksgiving weekend tradition\, drawing competitors from every corner of the globe for high stakes cash and prizes. Lake Havasu City continued to host the Lake Havasu Classic Outboard Championships through 1990. \nWhere to Watch by Land:  \nClick here to sign up to volunteer for the event! \nRace headquarters and free “front and center” racetrack spectating areas that allow fans access to the best racecourse viewing at the Nautical Beachfront Resort\, 1000 McCulloch Blvd. N\, overlooking Thompson Bay – which long-time powerboat participants and fans will remember as the original championship event location dating back to 1964. \nOther land-viewing options that will be more distanced from the course (but not optimal viewing of the actual race): \nLondon Bridge Beach \nRotary Community Park \nWhere to Watch by Water: \nLake Havasu’s Thompson Bay offers the perfect location centrally located between the Nautical Beachfront Resort\, Lake Havasu Marina\, the London Bridge Beach\, and Rotary Community Park. This no wake zone allows for non stop racing action with spectator boat parking directly outside the race course safety zone on three sides. \nLive-Streamed racing action will be produced by Live Race Media to air “Live” throughout the race weekend via the F1 Powerboat Championship’s Facebook page\, series website\, and You Tube page. \nVIP Viewing Area \nGet the best seats in the house within the our exclusive VIP Experience. Located at the Lakeside Terrace adjacent to the Turtle Grille at the Nautical Beachfront Resort\, the VIP Experience is situated between the official judges stand and turn one under 500 feet from the racing action. See the Formula 1 boats come roaring to life as the Le Mans dead engine start is just to your right. Keep cool in the shaded tent area while enjoying catered food and drinks. Includes VIP Parking Area\, Official Merchandise Discounts\, Driver Appearances\, Exclusive Seating Area\, Preferred Podium Awards Viewing. \nPit Area Access \nView the teams and their crews in action all weekend long in the cold pit area as they prepare for competition. This unique opportunity is an eye-opening experience for any fan giving them access to the inner workings that go on behind the scenes. \nVintage Boat Display \nThe Vintage boat display at racing headquarters\, the Nautical Beachfront Resort for both Saturday and Sunday’s racing action will allow viewing of these classics for all. Fans and racers alike will have the unique opportunity to view powerboat racings historically significant boats on display during the Friday Night Beach Party. The combination of these boats and the men who drove them will make for an entertaining family fun evening. \nVendor Displays \nPatronize our supporting vendors as they display products onsite for your convenience. Talk directly to the experts at the Nautical Beachfront Resort to answer your specific questions to assist your purchase. We will have event and series memorabilia and apparel available for purchase \nFriday Night Pit Party Meet and Greet \nReunion attendees and race fans will have the opportunity to meet their favorite driver during the Friday Night Pit Party Meet and Greet from 4-8 pm in the pits at the Nautical Beachfront Resort. Everyone will have plenty of time to spend with the drivers and crews to learn more about them and the equipment they race. Autographs\, pictures\, along with fan appreciation memorabilia assures everyone will leave with a smile on their face. Vintage boat display\, food\, refreshments\, vendors\, and more! This special event will be free and open to the public. \nRV Camping \nThis unique view from Lighthouse Point gives campers an elevated vantage point of the entire race course. Have all of your recreational vehicles ammenaties at you finger tips.Note. No Electric or Waste hook ups\, No open flame cooking \n2023 Lake Havasu Classic Outboard Championships Tentative Schedule \nFriday \n12p Testing Formula 1 \n1p Testing Formula Lights \n1:45p Testing Tri Hull \n2p Testing Formula 1 \n4p Friday Night Pit Party Meet and Greet \nSaturday \n9a Tri-Hull Testing \n9:30a Formula Lights – Testing/Qualifying/ 3 min. +1 lap \n10:30a Formula 1 – Testing/Qualifying/ 4 min. + 1 lap \n11:30a Driver’s Meeting All Classes / 2 seater Rides \n12:30p Opening Ceremonies \n1p Tri-Hull – Heat #1 / 7 laps / draw for position \n1:30p Formula 1 – Group A – Heats #1 / 6 min. + 1 lap \n1:50p Formula 1 – Group B – Heats #1 / 6 min. + 1 lap \n2:15p Formula Lights – Heat #1/ 6 min. + 1 lap \n3p Tri-Hull – Heat #2 / 7 laps / reverse order of points \n3:30p Formula Lights – Heat #2 / 6 min. + 1 lap / reverse order of cumulative points \n4p Formula 1 – Group A – Heats #2 / 6 min. + 1 lap/ reverse order of cumulative points \n4:30p Formula 1 – Group B – Heats #2 / 6 min. + 1 lap/ reverse order of cumulative points \n5:30p Reunion Poolside Happy Hour \nSunday \n9a Formula Lights – Heat #3/ 6 min. + 1 lap / reverse order of cumulative points \n10a Tri-Hull – Heat #3/ reverse order of cumulative points \n11a Opening Ceremonies \n11:45a Tri-Hull – Heat #4 / 7 laps / reverse order of cumulative points \n12p Formula 1 – Group A – Heat #3 / 6 min. + 1 lap/ reverse order of cumulative points \n12:30p Formula 1 – Group B – Heat #3 / 6 min. + 1 lap/ reverse order of cumulative points \n1p Formula Lights – Final / 15 min. + 1 lap \n1:30p Tri-Hull Final- APBA North American Champ. / 20 laps \n2:15p Formula 1 Final- APBA North American Champ. / 17 min. + 1 lap \n3:15p Awards immediately following race conclusion
URL:https://murphydeals.com/event/lake-havasu-classic-outboard-championships-at-the-nautical-in-lake-havasu/2023-10-15/
LOCATION:The Nautical Beachfront Resort\, 1000 McCulloch Boulevard North\, Lake Havasu City\, AZ\, 86403\, United States
CATEGORIES:Event
ATTACH;FMTTYPE=image/jpeg:https://murphydeals.com/wp-content/uploads/2023/04/classicoutboard-e1681242377350.jpg
END:VEVENT
BEGIN:VEVENT
DTSTART;TZID=America/Phoenix:20231014T090000
DTEND;TZID=America/Phoenix:20231014T183000
DTSTAMP:20260425T124021
CREATED:20230411T194859Z
LAST-MODIFIED:20230411T194859Z
UID:10007505-1697274000-1697308200@murphydeals.com
SUMMARY:Lake Havasu Classic Outboard Championships at The Nautical in Lake Havasu
DESCRIPTION:The return of this epic powerboat racing event will be conducted by the prestigious Formula 1 Powerboat Championship\, renowned for its heart thumping high-horsepower racing excitement performed by world class international powerboat racing stars! \nThe race headquarters and free fan viewing will be at the Nautical Beachfront Resort at 1000 McCulloch Blvd. N\, overlooking Thompson Bay\, which long-time powerboat fans will remember as being the original location of the championships dating back to 1964. \nRacing fans will enjoy three full days of action-packed excitement featuring three classes each day: Formula 1; Tri-Hull and Formula Lights. \nThe city’s founder\, Robert P. McCulloch\, Jr. was the first to initiate the outboard championships at Lake Havasu in 1964\, and with his visionary skills\, the race soon became a Lake Havasu Thanksgiving weekend tradition\, drawing competitors from every corner of the globe for high stakes cash and prizes. Lake Havasu City continued to host the Lake Havasu Classic Outboard Championships through 1990. \nWhere to Watch by Land:  \nClick here to sign up to volunteer for the event! \nRace headquarters and free “front and center” racetrack spectating areas that allow fans access to the best racecourse viewing at the Nautical Beachfront Resort\, 1000 McCulloch Blvd. N\, overlooking Thompson Bay – which long-time powerboat participants and fans will remember as the original championship event location dating back to 1964. \nOther land-viewing options that will be more distanced from the course (but not optimal viewing of the actual race): \nLondon Bridge Beach \nRotary Community Park \nWhere to Watch by Water: \nLake Havasu’s Thompson Bay offers the perfect location centrally located between the Nautical Beachfront Resort\, Lake Havasu Marina\, the London Bridge Beach\, and Rotary Community Park. This no wake zone allows for non stop racing action with spectator boat parking directly outside the race course safety zone on three sides. \nLive-Streamed racing action will be produced by Live Race Media to air “Live” throughout the race weekend via the F1 Powerboat Championship’s Facebook page\, series website\, and You Tube page. \nVIP Viewing Area \nGet the best seats in the house within the our exclusive VIP Experience. Located at the Lakeside Terrace adjacent to the Turtle Grille at the Nautical Beachfront Resort\, the VIP Experience is situated between the official judges stand and turn one under 500 feet from the racing action. See the Formula 1 boats come roaring to life as the Le Mans dead engine start is just to your right. Keep cool in the shaded tent area while enjoying catered food and drinks. Includes VIP Parking Area\, Official Merchandise Discounts\, Driver Appearances\, Exclusive Seating Area\, Preferred Podium Awards Viewing. \nPit Area Access \nView the teams and their crews in action all weekend long in the cold pit area as they prepare for competition. This unique opportunity is an eye-opening experience for any fan giving them access to the inner workings that go on behind the scenes. \nVintage Boat Display \nThe Vintage boat display at racing headquarters\, the Nautical Beachfront Resort for both Saturday and Sunday’s racing action will allow viewing of these classics for all. Fans and racers alike will have the unique opportunity to view powerboat racings historically significant boats on display during the Friday Night Beach Party. The combination of these boats and the men who drove them will make for an entertaining family fun evening. \nVendor Displays \nPatronize our supporting vendors as they display products onsite for your convenience. Talk directly to the experts at the Nautical Beachfront Resort to answer your specific questions to assist your purchase. We will have event and series memorabilia and apparel available for purchase \nFriday Night Pit Party Meet and Greet \nReunion attendees and race fans will have the opportunity to meet their favorite driver during the Friday Night Pit Party Meet and Greet from 4-8 pm in the pits at the Nautical Beachfront Resort. Everyone will have plenty of time to spend with the drivers and crews to learn more about them and the equipment they race. Autographs\, pictures\, along with fan appreciation memorabilia assures everyone will leave with a smile on their face. Vintage boat display\, food\, refreshments\, vendors\, and more! This special event will be free and open to the public. \nRV Camping \nThis unique view from Lighthouse Point gives campers an elevated vantage point of the entire race course. Have all of your recreational vehicles ammenaties at you finger tips.Note. No Electric or Waste hook ups\, No open flame cooking \n2023 Lake Havasu Classic Outboard Championships Tentative Schedule \nFriday \n12p Testing Formula 1 \n1p Testing Formula Lights \n1:45p Testing Tri Hull \n2p Testing Formula 1 \n4p Friday Night Pit Party Meet and Greet \nSaturday \n9a Tri-Hull Testing \n9:30a Formula Lights – Testing/Qualifying/ 3 min. +1 lap \n10:30a Formula 1 – Testing/Qualifying/ 4 min. + 1 lap \n11:30a Driver’s Meeting All Classes / 2 seater Rides \n12:30p Opening Ceremonies \n1p Tri-Hull – Heat #1 / 7 laps / draw for position \n1:30p Formula 1 – Group A – Heats #1 / 6 min. + 1 lap \n1:50p Formula 1 – Group B – Heats #1 / 6 min. + 1 lap \n2:15p Formula Lights – Heat #1/ 6 min. + 1 lap \n3p Tri-Hull – Heat #2 / 7 laps / reverse order of points \n3:30p Formula Lights – Heat #2 / 6 min. + 1 lap / reverse order of cumulative points \n4p Formula 1 – Group A – Heats #2 / 6 min. + 1 lap/ reverse order of cumulative points \n4:30p Formula 1 – Group B – Heats #2 / 6 min. + 1 lap/ reverse order of cumulative points \n5:30p Reunion Poolside Happy Hour \nSunday \n9a Formula Lights – Heat #3/ 6 min. + 1 lap / reverse order of cumulative points \n10a Tri-Hull – Heat #3/ reverse order of cumulative points \n11a Opening Ceremonies \n11:45a Tri-Hull – Heat #4 / 7 laps / reverse order of cumulative points \n12p Formula 1 – Group A – Heat #3 / 6 min. + 1 lap/ reverse order of cumulative points \n12:30p Formula 1 – Group B – Heat #3 / 6 min. + 1 lap/ reverse order of cumulative points \n1p Formula Lights – Final / 15 min. + 1 lap \n1:30p Tri-Hull Final- APBA North American Champ. / 20 laps \n2:15p Formula 1 Final- APBA North American Champ. / 17 min. + 1 lap \n3:15p Awards immediately following race conclusion
URL:https://murphydeals.com/event/lake-havasu-classic-outboard-championships-at-the-nautical-in-lake-havasu/2023-10-14/
LOCATION:The Nautical Beachfront Resort\, 1000 McCulloch Boulevard North\, Lake Havasu City\, AZ\, 86403\, United States
CATEGORIES:Event
ATTACH;FMTTYPE=image/jpeg:https://murphydeals.com/wp-content/uploads/2023/04/classicoutboard-e1681242377350.jpg
END:VEVENT
BEGIN:VEVENT
DTSTART;TZID=America/Phoenix:20231013T120000
DTEND;TZID=America/Phoenix:20231013T180000
DTSTAMP:20260425T124021
CREATED:20230411T194859Z
LAST-MODIFIED:20230411T194859Z
UID:10007504-1697198400-1697220000@murphydeals.com
SUMMARY:Lake Havasu Classic Outboard Championships at The Nautical in Lake Havasu
DESCRIPTION:The return of this epic powerboat racing event will be conducted by the prestigious Formula 1 Powerboat Championship\, renowned for its heart thumping high-horsepower racing excitement performed by world class international powerboat racing stars! \nThe race headquarters and free fan viewing will be at the Nautical Beachfront Resort at 1000 McCulloch Blvd. N\, overlooking Thompson Bay\, which long-time powerboat fans will remember as being the original location of the championships dating back to 1964. \nRacing fans will enjoy three full days of action-packed excitement featuring three classes each day: Formula 1; Tri-Hull and Formula Lights. \nThe city’s founder\, Robert P. McCulloch\, Jr. was the first to initiate the outboard championships at Lake Havasu in 1964\, and with his visionary skills\, the race soon became a Lake Havasu Thanksgiving weekend tradition\, drawing competitors from every corner of the globe for high stakes cash and prizes. Lake Havasu City continued to host the Lake Havasu Classic Outboard Championships through 1990. \nWhere to Watch by Land:  \nClick here to sign up to volunteer for the event! \nRace headquarters and free “front and center” racetrack spectating areas that allow fans access to the best racecourse viewing at the Nautical Beachfront Resort\, 1000 McCulloch Blvd. N\, overlooking Thompson Bay – which long-time powerboat participants and fans will remember as the original championship event location dating back to 1964. \nOther land-viewing options that will be more distanced from the course (but not optimal viewing of the actual race): \nLondon Bridge Beach \nRotary Community Park \nWhere to Watch by Water: \nLake Havasu’s Thompson Bay offers the perfect location centrally located between the Nautical Beachfront Resort\, Lake Havasu Marina\, the London Bridge Beach\, and Rotary Community Park. This no wake zone allows for non stop racing action with spectator boat parking directly outside the race course safety zone on three sides. \nLive-Streamed racing action will be produced by Live Race Media to air “Live” throughout the race weekend via the F1 Powerboat Championship’s Facebook page\, series website\, and You Tube page. \nVIP Viewing Area \nGet the best seats in the house within the our exclusive VIP Experience. Located at the Lakeside Terrace adjacent to the Turtle Grille at the Nautical Beachfront Resort\, the VIP Experience is situated between the official judges stand and turn one under 500 feet from the racing action. See the Formula 1 boats come roaring to life as the Le Mans dead engine start is just to your right. Keep cool in the shaded tent area while enjoying catered food and drinks. Includes VIP Parking Area\, Official Merchandise Discounts\, Driver Appearances\, Exclusive Seating Area\, Preferred Podium Awards Viewing. \nPit Area Access \nView the teams and their crews in action all weekend long in the cold pit area as they prepare for competition. This unique opportunity is an eye-opening experience for any fan giving them access to the inner workings that go on behind the scenes. \nVintage Boat Display \nThe Vintage boat display at racing headquarters\, the Nautical Beachfront Resort for both Saturday and Sunday’s racing action will allow viewing of these classics for all. Fans and racers alike will have the unique opportunity to view powerboat racings historically significant boats on display during the Friday Night Beach Party. The combination of these boats and the men who drove them will make for an entertaining family fun evening. \nVendor Displays \nPatronize our supporting vendors as they display products onsite for your convenience. Talk directly to the experts at the Nautical Beachfront Resort to answer your specific questions to assist your purchase. We will have event and series memorabilia and apparel available for purchase \nFriday Night Pit Party Meet and Greet \nReunion attendees and race fans will have the opportunity to meet their favorite driver during the Friday Night Pit Party Meet and Greet from 4-8 pm in the pits at the Nautical Beachfront Resort. Everyone will have plenty of time to spend with the drivers and crews to learn more about them and the equipment they race. Autographs\, pictures\, along with fan appreciation memorabilia assures everyone will leave with a smile on their face. Vintage boat display\, food\, refreshments\, vendors\, and more! This special event will be free and open to the public. \nRV Camping \nThis unique view from Lighthouse Point gives campers an elevated vantage point of the entire race course. Have all of your recreational vehicles ammenaties at you finger tips.Note. No Electric or Waste hook ups\, No open flame cooking \n2023 Lake Havasu Classic Outboard Championships Tentative Schedule \nFriday \n12p Testing Formula 1 \n1p Testing Formula Lights \n1:45p Testing Tri Hull \n2p Testing Formula 1 \n4p Friday Night Pit Party Meet and Greet \nSaturday \n9a Tri-Hull Testing \n9:30a Formula Lights – Testing/Qualifying/ 3 min. +1 lap \n10:30a Formula 1 – Testing/Qualifying/ 4 min. + 1 lap \n11:30a Driver’s Meeting All Classes / 2 seater Rides \n12:30p Opening Ceremonies \n1p Tri-Hull – Heat #1 / 7 laps / draw for position \n1:30p Formula 1 – Group A – Heats #1 / 6 min. + 1 lap \n1:50p Formula 1 – Group B – Heats #1 / 6 min. + 1 lap \n2:15p Formula Lights – Heat #1/ 6 min. + 1 lap \n3p Tri-Hull – Heat #2 / 7 laps / reverse order of points \n3:30p Formula Lights – Heat #2 / 6 min. + 1 lap / reverse order of cumulative points \n4p Formula 1 – Group A – Heats #2 / 6 min. + 1 lap/ reverse order of cumulative points \n4:30p Formula 1 – Group B – Heats #2 / 6 min. + 1 lap/ reverse order of cumulative points \n5:30p Reunion Poolside Happy Hour \nSunday \n9a Formula Lights – Heat #3/ 6 min. + 1 lap / reverse order of cumulative points \n10a Tri-Hull – Heat #3/ reverse order of cumulative points \n11a Opening Ceremonies \n11:45a Tri-Hull – Heat #4 / 7 laps / reverse order of cumulative points \n12p Formula 1 – Group A – Heat #3 / 6 min. + 1 lap/ reverse order of cumulative points \n12:30p Formula 1 – Group B – Heat #3 / 6 min. + 1 lap/ reverse order of cumulative points \n1p Formula Lights – Final / 15 min. + 1 lap \n1:30p Tri-Hull Final- APBA North American Champ. / 20 laps \n2:15p Formula 1 Final- APBA North American Champ. / 17 min. + 1 lap \n3:15p Awards immediately following race conclusion
URL:https://murphydeals.com/event/lake-havasu-classic-outboard-championships-at-the-nautical-in-lake-havasu/2023-10-13/
LOCATION:The Nautical Beachfront Resort\, 1000 McCulloch Boulevard North\, Lake Havasu City\, AZ\, 86403\, United States
CATEGORIES:Event
ATTACH;FMTTYPE=image/jpeg:https://murphydeals.com/wp-content/uploads/2023/04/classicoutboard-e1681242377350.jpg
END:VEVENT
BEGIN:VEVENT
DTSTART;TZID=America/Phoenix:20230429T163000
DTEND;TZID=America/Phoenix:20230429T233000
DTSTAMP:20260425T124021
CREATED:20230130T173719Z
LAST-MODIFIED:20230222T235540Z
UID:10007140-1682785800-1682811000@murphydeals.com
SUMMARY:Havasu Meltdown Concert In The Cove
DESCRIPTION:
URL:https://murphydeals.com/event/havasu-meltdown-concert-in-the-cove/
LOCATION:The Nautical Beachfront Resort\, 1000 McCulloch Boulevard North\, Lake Havasu City\, AZ\, 86403\, United States
CATEGORIES:Music | Concerts
ATTACH;FMTTYPE=image/jpeg:https://murphydeals.com/wp-content/uploads/2023/01/Concert-in-the-Cove-1-e1675100191740.jpg
END:VEVENT
BEGIN:VEVENT
DTSTART;TZID=America/Los_Angeles:20230428T150000
DTEND;TZID=America/Los_Angeles:20230430T140000
DTSTAMP:20260425T124021
CREATED:20221129T203723Z
LAST-MODIFIED:20230130T153351Z
UID:10006663-1682694000-1682863200@murphydeals.com
SUMMARY:Havasu Meltdown at The Nautical Beach Front Resort
DESCRIPTION:Coming in HOT!! 🔥🔥🔥\n\n\nThe Hottest show on the west coast!!! \nGET TICKETS\nOpen to anything custom. From Hot Rods to Minitrucks! We want to see the best of the best! \nIn the Spring of 2023 we will bring you all to the most prestigious hidden gem that Lake Havasu City has to offer. The Nautical Beach front Resort is Havasu’s ONLY beach front resort. \nIt’s unique landscape and breath taking views of the Arizona river are not the only perks of this amazing vacation destination. \nThe Resorts Wet Bar\, Beach Bar and Turtle Bar & Grille have some of the best food and drinks Arizona has to offer. It doesn’t just stop there. They have their own Starbucks!!! \nThe rooms are awesome no matter where it’s located\, with views of the river and some views looking into the cove and pool area. \n139 rooms in total here\, so be sure when all the booking info is dropped that you react fast because it’ll sell out fast!! \nMore info to come as we will drop room rates and codes in the coming months and then pre reg sometime this fall. \n$40 Pre Reg \n$60 at the gate \n$80 Indoor Show Parking \n$25 concert tix (Saturday)* \n* does not apply to hotel guests \nLive Concert in the cove!!! \nBands: \nAuthorityZero \nChaser \nTwilight Creeps feat Actor Shane West \nVFMS \n+ more \nClub games throughout the weekend: \nCornhole \nBeach Pong \nTug of War \nFrozen T-shirt \nBikini contest \nDJ \nVendors \nWater park on shore \nFreestyle BMX \nThis will not be just a Custom Car/Truck show. This is built to be a premier destination\, to ensure there is no way possible you can be bored. This is an event. A festival of fun! Will we see you there?!
URL:https://murphydeals.com/event/havasu-meltdown/
LOCATION:The Nautical Beachfront Resort\, 1000 McCulloch Boulevard North\, Lake Havasu City\, AZ\, 86403\, United States
CATEGORIES:Car Show,Festival
ATTACH;FMTTYPE=image/jpeg:https://murphydeals.com/wp-content/uploads/2022/11/Fest-e1670010989839.jpg
END:VEVENT
END:VCALENDAR