BEGIN:VCALENDAR
VERSION:2.0
PRODID:-//Murphy Deals - ECPv6.15.20//NONSGML v1.0//EN
CALSCALE:GREGORIAN
METHOD:PUBLISH
X-WR-CALNAME:Murphy Deals
X-ORIGINAL-URL:https://murphydeals.com
X-WR-CALDESC:Events for Murphy Deals
REFRESH-INTERVAL;VALUE=DURATION:PT1H
X-Robots-Tag:noindex
X-PUBLISHED-TTL:PT1H
BEGIN:VTIMEZONE
TZID:America/Phoenix
BEGIN:STANDARD
TZOFFSETFROM:-0700
TZOFFSETTO:-0700
TZNAME:MST
DTSTART:20210101T000000
END:STANDARD
END:VTIMEZONE
BEGIN:VEVENT
DTSTART;TZID=America/Phoenix:20240831T130000
DTEND;TZID=America/Phoenix:20240831T170000
DTSTAMP:20260425T105035
CREATED:20240827T223825Z
LAST-MODIFIED:20240827T223825Z
UID:10009930-1725109200-1725123600@murphydeals.com
SUMMARY:BRAD JOHNSON & THE KILLIN TIME BAND
DESCRIPTION:Brad Johnson started the band in 1998 on the U.S.S. Tarawa in the Middle East while serving in the United States Marine Corps. He and the band were just “Killin’ Time” until they got to go home.
URL:https://murphydeals.com/event/brad-johnson-the-killin-time-band/
LOCATION:Topock66 Colorado River\, 14999 Historic Rte 66\, Topock\, AZ\, 86436\, United States
CATEGORIES:Boat Meetup,Event,Live On Location,Music | Concerts
ATTACH;FMTTYPE=image/webp:https://murphydeals.com/wp-content/uploads/2024/08/bradjohnson.webp
END:VEVENT
BEGIN:VEVENT
DTSTART;TZID=America/Phoenix:20230528T130000
DTEND;TZID=America/Phoenix:20230528T170000
DTSTAMP:20260425T105035
CREATED:20230501T214104Z
LAST-MODIFIED:20230501T214104Z
UID:10007760-1685278800-1685293200@murphydeals.com
SUMMARY:One Eyed Romeo at Topock 66 in Topock
DESCRIPTION:
URL:https://murphydeals.com/event/one-eyed-romeo-at-topock-66-in-topock/2023-05-28/
LOCATION:Topock66 Colorado River\, 14999 Historic Rte 66\, Topock\, AZ\, 86436\, United States
CATEGORIES:Event,Music | Concerts
ATTACH;FMTTYPE=image/jpeg:https://murphydeals.com/wp-content/uploads/2023/05/topock66-e1682977200495.jpg
END:VEVENT
BEGIN:VEVENT
DTSTART;TZID=America/Phoenix:20230527T130000
DTEND;TZID=America/Phoenix:20230527T170000
DTSTAMP:20260425T105035
CREATED:20230501T214104Z
LAST-MODIFIED:20230501T214104Z
UID:10007759-1685192400-1685206800@murphydeals.com
SUMMARY:One Eyed Romeo at Topock 66 in Topock
DESCRIPTION:
URL:https://murphydeals.com/event/one-eyed-romeo-at-topock-66-in-topock/2023-05-27/
LOCATION:Topock66 Colorado River\, 14999 Historic Rte 66\, Topock\, AZ\, 86436\, United States
CATEGORIES:Event,Music | Concerts
ATTACH;FMTTYPE=image/jpeg:https://murphydeals.com/wp-content/uploads/2023/05/topock66-e1682977200495.jpg
END:VEVENT
BEGIN:VEVENT
DTSTART;TZID=America/Phoenix:20221124T120000
DTEND;TZID=America/Phoenix:20221124T160000
DTSTAMP:20260425T105035
CREATED:20221115T231428Z
LAST-MODIFIED:20221115T231428Z
UID:10006617-1669291200-1669305600@murphydeals.com
SUMMARY:Thanksgiving Dinner at Topock66 Colorado River in Topock
DESCRIPTION:Let Us Do All The Cooking While You Enjoy Your Family and Friends This Thanksgiving! \nJoin us for Thanksgiving\, we will be serving a delicious menu to satisfy your Turkey Day cravings along with a beautiful view of the Colorado River! \nOpen for Breakfast Thanksgiving Day 8am-11am\nThanksgiving Dinner Menu Starts 12pm-4pm\nAdults: $19.99 Kids 12 & under: $12.99\nReservations Recommended (928)768-2325 \nStill time to drop off your Turkey and we will smoke it to perfection. \nwww.Topock66.com
URL:https://murphydeals.com/event/thanksgiving-dinner-at-topock66-colorado-river-in-topock/
LOCATION:Topock66 Colorado River\, 14999 Historic Rte 66\, Topock\, AZ\, 86436\, United States
CATEGORIES:Event
ATTACH;FMTTYPE=image/jpeg:https://murphydeals.com/wp-content/uploads/2022/11/topock-e1668553973835.jpg
END:VEVENT
END:VCALENDAR