BEGIN:VCALENDAR
VERSION:2.0
PRODID:-//Murphy Deals - ECPv6.15.20//NONSGML v1.0//EN
CALSCALE:GREGORIAN
METHOD:PUBLISH
X-ORIGINAL-URL:https://murphydeals.com
X-WR-CALDESC:Events for Murphy Deals
REFRESH-INTERVAL;VALUE=DURATION:PT1H
X-Robots-Tag:noindex
X-PUBLISHED-TTL:PT1H
BEGIN:VTIMEZONE
TZID:America/Phoenix
BEGIN:STANDARD
TZOFFSETFROM:-0700
TZOFFSETTO:-0700
TZNAME:MST
DTSTART:20220101T000000
END:STANDARD
END:VTIMEZONE
BEGIN:VEVENT
DTSTART;TZID=America/Phoenix:20230923T090000
DTEND;TZID=America/Phoenix:20230923T170000
DTSTAMP:20260425T082308
CREATED:20230612T180123Z
LAST-MODIFIED:20230612T180123Z
UID:10008238-1695459600-1695488400@murphydeals.com
SUMMARY:Viva Car Show at The Tropicana Resort
DESCRIPTION:Beautiful cars will be on display at Viva Tropicana Celebration & Car Show. \nCars will be parked outside in the North Lot from 9 AM – 5 PM on Friday & Saturday\, September 22 & 23\, 2023. \nViewing is free and open to the public. \nPresented by Happy Times Events.
URL:https://murphydeals.com/event/viva-car-show-at-the-tropicana-resort/2023-09-23/
LOCATION:Tropicana Laughlin Hotel and Casino\, 2121 S Casino Dr\, Laughlin\, 89029\, United States
CATEGORIES:Car Show,Event
ATTACH;FMTTYPE=image/jpeg:https://murphydeals.com/wp-content/uploads/2023/06/viva.carshow-1-e1686592772538.jpg
END:VEVENT
BEGIN:VEVENT
DTSTART;TZID=America/Phoenix:20230922T090000
DTEND;TZID=America/Phoenix:20230922T170000
DTSTAMP:20260425T082308
CREATED:20230612T180123Z
LAST-MODIFIED:20230612T180123Z
UID:10008237-1695373200-1695402000@murphydeals.com
SUMMARY:Viva Car Show at The Tropicana Resort
DESCRIPTION:Beautiful cars will be on display at Viva Tropicana Celebration & Car Show. \nCars will be parked outside in the North Lot from 9 AM – 5 PM on Friday & Saturday\, September 22 & 23\, 2023. \nViewing is free and open to the public. \nPresented by Happy Times Events.
URL:https://murphydeals.com/event/viva-car-show-at-the-tropicana-resort/2023-09-22/
LOCATION:Tropicana Laughlin Hotel and Casino\, 2121 S Casino Dr\, Laughlin\, 89029\, United States
CATEGORIES:Car Show,Event
ATTACH;FMTTYPE=image/jpeg:https://murphydeals.com/wp-content/uploads/2023/06/viva.carshow-1-e1686592772538.jpg
END:VEVENT
BEGIN:VEVENT
DTSTART;VALUE=DATE:20230504
DTEND;VALUE=DATE:20230507
DTSTAMP:20260425T082308
CREATED:20230410T153304Z
LAST-MODIFIED:20230505T160545Z
UID:10007452-1683158400-1683417599@murphydeals.com
SUMMARY:Cinco De Mayo Weekend at the Tropicana in Laughlin
DESCRIPTION:IT’S A FIESTA WEEKEND\n\n\n\nCelebrate Cinco de Mayo at an event packed weekend at Tropicana Laughlin. Events and live entertainment all weekend long\, big prize drawings\, sombrero contest\, car show\, and more.\n\n\n\nEnjoy traditional sounds from Mariachis Sol De Las Vegas as they stroll through the property enhancing the party. \n\n\nCINCO CELEBRATION CAR SHOW\n\n\n\n9 AM – 5 PM\n\n\n\nFriday\, May 5 and Saturday\, May 6 \nGather with your fellow classic low rider lovers and enjoy two days filled with four wheeled fun in the Tropicana north parking lot. Tunes provided by DJ Pete Nice & MC Loco Leonard. \n\n\n\n\n\n\n\n\nPLAY\, EARN & WIN\n\n\n\nPinata Drawing | May 4\n\n\n\nEarning Period | 4 AM – 5:45 PM \nActivation Period | Noon – 5:45 PM \nDrawings | 5:55 PM \nClink-o de Mayo | May 5 & 6 \nTen Caesars Rewards® members will have the chance to win up to $1\,000 free casino play. Earn a share of $500 Free Casino Play by bringing your own sombrero for our Sombrero Contest. \nEarning Period | 4 AM – 5:45 PM \nActivation Period | Noon – 5:45 PM \nHourly Drawings | 3 PM – 6 PM \nMargarita Glass Play and Earn | May 5 & 6 \nEarn to redeem your commemorative Cinco de Mayo Margarita Glass. \nEarning Period | 4 AM – 5:30 PM \nGift Redemption | Noon – 6 PM | Caesars Rewards \n$5\,000 Cinco de Mayo Hot Seat | May 6 \nCaesars Rewards members actively playing on a slot machine or table game will have the chance to win Free Casino Play every hour. \nEarning Period | 4 AM – 1:45 PM \nDrawing Activation | 8 AM – 1:45 PM | Promotional Kiosk \nDrawing Period | Noon – 2 PM | Casino Floor \nSee Caesars Rewards® for details. \n\n\n\n\n\nLIVE MUSIC & DANCING\n\n\n\nParty all weekend long with live entertainment in Victory Plaza and Tango’s Lounge.\n\n\n\nVictory Plaza Live Entertainment \nFriday 4 PM – 8 PM | Thee Champagne Band \nFriday 9 PM – 1 AM | Smooth Groove \nSaturday 4 PM – 8 PM | Smooth Groove \nSaturday 9 PM – 1 AM | Thee Champagne Band \nTango’s Lounge Live Music \nFriday 4:30 PM – 8:30 PM | Kings of Rythym \nFriday 9 PM – 1 AM | New Beginnings/Frances Rueda \nSaturday 4:30 PM – 8:30 PM | New Beginnings/Frances Rueda \nSaturday 9 PM – 1 AM | Kings of Rythym \n 
URL:https://murphydeals.com/event/cinco-de-mayo-at-the-tropicana-in-laughlin/
LOCATION:Tropicana Laughlin Hotel and Casino\, 2121 S Casino Dr\, Laughlin\, 89029\, United States
CATEGORIES:Event
ATTACH;FMTTYPE=image/jpeg:https://murphydeals.com/wp-content/uploads/2023/04/Cinco-e1683301200920.jpg
END:VEVENT
BEGIN:VEVENT
DTSTART;TZID=America/Phoenix:20230415T130000
DTEND;TZID=America/Phoenix:20230415T210000
DTSTAMP:20260425T082308
CREATED:20230105T172728Z
LAST-MODIFIED:20230105T173331Z
UID:10006886-1681563600-1681592400@murphydeals.com
SUMMARY:1st Annual Brewfest at Tropicana in Laughlin\, NV
DESCRIPTION:Saturday\, April 15\, 2023 \nEnjoy the taste of some of the best beers while listening to music in the beautiful outdoors of Laughlin. \nLive Music | Victory Plaza |  1 PM – 9 PM \nAdmission is free and open to the public.
URL:https://murphydeals.com/event/1st-annual-brewfest-at-tropicana-in-laughlin-nv/
LOCATION:Tropicana Laughlin Hotel and Casino\, 2121 S Casino Dr\, Laughlin\, 89029\, United States
CATEGORIES:Festival,Music | Concerts
ATTACH;FMTTYPE=image/jpeg:https://murphydeals.com/wp-content/uploads/2023/01/brew-e1672939630313.jpg
END:VEVENT
BEGIN:VEVENT
DTSTART;TZID=America/Phoenix:20230113T100000
DTEND;TZID=America/Phoenix:20230122T170000
DTSTAMP:20260425T082308
CREATED:20221114T231829Z
LAST-MODIFIED:20221130T213015Z
UID:10006602-1673604000-1674406800@murphydeals.com
SUMMARY:Gem\, Mineral\, Jewelry and Bead Show at Tropicana in Laughlin
DESCRIPTION:Dealers For This Show\nAnna’s Rock ‘n Shop\nB & C Fine Jewelry\nBeading House\nIndian  Enterprises\nJ & J Jewelry\nL & L Arts & Crafts\nMing’s Treasures\nMountain Air Crystals\nMystical Blue Lace\nO & O Jewelry\nPerfect Gem\nRaymond Zhen\nMore dealers will be added as they confirm
URL:https://murphydeals.com/event/gem-mineral-jewelry-and-bead-show-at-tropicana-hotel-casino-in-laughlin/
LOCATION:Tropicana Laughlin Hotel and Casino\, 2121 S Casino Dr\, Laughlin\, 89029\, United States
CATEGORIES:Event,Tradeshow | Expo
ATTACH;FMTTYPE=image/jpeg:https://murphydeals.com/wp-content/uploads/2022/11/Gems-e1681161847864.jpg
END:VEVENT
END:VCALENDAR