BEGIN:VCALENDAR
VERSION:2.0
PRODID:-//Murphy Deals - ECPv6.15.20//NONSGML v1.0//EN
CALSCALE:GREGORIAN
METHOD:PUBLISH
X-ORIGINAL-URL:https://murphydeals.com
X-WR-CALDESC:Events for Murphy Deals
REFRESH-INTERVAL;VALUE=DURATION:PT1H
X-Robots-Tag:noindex
X-PUBLISHED-TTL:PT1H
BEGIN:VTIMEZONE
TZID:America/Phoenix
BEGIN:STANDARD
TZOFFSETFROM:-0700
TZOFFSETTO:-0700
TZNAME:MST
DTSTART:20220101T000000
END:STANDARD
END:VTIMEZONE
BEGIN:VEVENT
DTSTART;TZID=America/Phoenix:20240824T100000
DTEND;TZID=America/Phoenix:20240824T140000
DTSTAMP:20260425T135552
CREATED:20240809T000550Z
LAST-MODIFIED:20240809T180436Z
UID:10009864-1724493600-1724508000@murphydeals.com
SUMMARY:Tux and Tulips Florist Fall and Halloween Open House!!!
DESCRIPTION:Halloween décor\, Fall treats and décor\, Fresh floral ideas and much more… \nJoin us along with Oh Fudge it Candy and more\, for a kickoff to the holiday season… \nFlowers\, Fudge\, and fun\, with giveaways and raffles … \n“Boo Basket” giveaways\, Raffles\, fresh flowers\, Havasu Cinderella “Miss” and “Tot” winners will be here selling waters\nand raffle tickets for a $50.00 gift card…
URL:https://murphydeals.com/event/tux-and-tulips-florist-fall-and-halloween-open-house/
LOCATION:Tux and Tulips\, 420 El Camino Way Suite 102\, Lake Havasu City\, AZ\, 86403
CATEGORIES:Charity | Benefits,Event
ATTACH;FMTTYPE=image/png:https://murphydeals.com/wp-content/uploads/2024/08/tuxandtulips.png
END:VEVENT
BEGIN:VEVENT
DTSTART;TZID=America/Phoenix:20230825T090000
DTEND;TZID=America/Phoenix:20230825T120000
DTSTAMP:20260425T135552
CREATED:20230120T205817Z
LAST-MODIFIED:20230815T234408Z
UID:10007098-1692954000-1692964800@murphydeals.com
SUMMARY:Tux & Tulips "Pop Up" Candy Day!
DESCRIPTION:
URL:https://murphydeals.com/event/tux-tulips-valentines-day-party/
LOCATION:Tux and Tulips\, 420 El Camino Way Suite 102\, Lake Havasu City\, AZ\, 86403
CATEGORIES:Event
ATTACH;FMTTYPE=image/png:https://murphydeals.com/wp-content/uploads/2023/01/Candy-1-1-e1692142978191.png
END:VEVENT
END:VCALENDAR