BEGIN:VCALENDAR
VERSION:2.0
PRODID:-//Murphy Deals - ECPv6.15.20//NONSGML v1.0//EN
CALSCALE:GREGORIAN
METHOD:PUBLISH
X-ORIGINAL-URL:https://murphydeals.com
X-WR-CALDESC:Events for Murphy Deals
REFRESH-INTERVAL;VALUE=DURATION:PT1H
X-Robots-Tag:noindex
X-PUBLISHED-TTL:PT1H
BEGIN:VTIMEZONE
TZID:America/Phoenix
BEGIN:STANDARD
TZOFFSETFROM:-0700
TZOFFSETTO:-0700
TZNAME:MST
DTSTART:20220101T000000
END:STANDARD
END:VTIMEZONE
BEGIN:VEVENT
DTSTART;TZID=America/Phoenix:20230616T200000
DTEND;TZID=America/Phoenix:20230616T210000
DTSTAMP:20260425T063241
CREATED:20221208T000313Z
LAST-MODIFIED:20230119T221849Z
UID:10007049-1686945600-1686949200@murphydeals.com
SUMMARY:Open Mic Comedy Hour at Visionary
DESCRIPTION:
URL:https://murphydeals.com/event/open-mic-comedy-hour-at-visionary/2023-06-16/
LOCATION:Visionary Healing Arts Gallery\, 2100 McCulloch Blvd\, Lake Havasu City\, AZ\, 86403
CATEGORIES:Comedy | Comedian,Event
ATTACH;FMTTYPE=image/png:https://murphydeals.com/wp-content/uploads/2022/12/openmiccomedyhour-1-e1670457773361.png
END:VEVENT
BEGIN:VEVENT
DTSTART;TZID=America/Phoenix:20230602T200000
DTEND;TZID=America/Phoenix:20230602T210000
DTSTAMP:20260425T063241
CREATED:20230119T202052Z
LAST-MODIFIED:20230119T221837Z
UID:10007060-1685736000-1685739600@murphydeals.com
SUMMARY:Open Mic Comedy Hour at Visionary
DESCRIPTION:
URL:https://murphydeals.com/event/open-mic-comedy-hour-at-visionary-2/2023-06-02/
LOCATION:Visionary Healing Arts Gallery\, 2100 McCulloch Blvd\, Lake Havasu City\, AZ\, 86403
CATEGORIES:Comedy | Comedian,Event
ATTACH;FMTTYPE=image/png:https://murphydeals.com/wp-content/uploads/2022/12/openmiccomedyhour-1-e1670457773361.png
END:VEVENT
BEGIN:VEVENT
DTSTART;TZID=America/Phoenix:20230519T200000
DTEND;TZID=America/Phoenix:20230519T210000
DTSTAMP:20260425T063241
CREATED:20221208T000313Z
LAST-MODIFIED:20230119T221849Z
UID:10007048-1684526400-1684530000@murphydeals.com
SUMMARY:Open Mic Comedy Hour at Visionary
DESCRIPTION:
URL:https://murphydeals.com/event/open-mic-comedy-hour-at-visionary/2023-05-19/
LOCATION:Visionary Healing Arts Gallery\, 2100 McCulloch Blvd\, Lake Havasu City\, AZ\, 86403
CATEGORIES:Comedy | Comedian,Event
ATTACH;FMTTYPE=image/png:https://murphydeals.com/wp-content/uploads/2022/12/openmiccomedyhour-1-e1670457773361.png
END:VEVENT
BEGIN:VEVENT
DTSTART;TZID=America/Phoenix:20230505T200000
DTEND;TZID=America/Phoenix:20230505T210000
DTSTAMP:20260425T063241
CREATED:20230119T202052Z
LAST-MODIFIED:20230119T221837Z
UID:10007059-1683316800-1683320400@murphydeals.com
SUMMARY:Open Mic Comedy Hour at Visionary
DESCRIPTION:
URL:https://murphydeals.com/event/open-mic-comedy-hour-at-visionary-2/2023-05-05/
LOCATION:Visionary Healing Arts Gallery\, 2100 McCulloch Blvd\, Lake Havasu City\, AZ\, 86403
CATEGORIES:Comedy | Comedian,Event
ATTACH;FMTTYPE=image/png:https://murphydeals.com/wp-content/uploads/2022/12/openmiccomedyhour-1-e1670457773361.png
END:VEVENT
BEGIN:VEVENT
DTSTART;TZID=America/Phoenix:20230421T200000
DTEND;TZID=America/Phoenix:20230421T210000
DTSTAMP:20260425T063241
CREATED:20221208T000313Z
LAST-MODIFIED:20230119T221849Z
UID:10007047-1682107200-1682110800@murphydeals.com
SUMMARY:Open Mic Comedy Hour at Visionary
DESCRIPTION:
URL:https://murphydeals.com/event/open-mic-comedy-hour-at-visionary/2023-04-21/
LOCATION:Visionary Healing Arts Gallery\, 2100 McCulloch Blvd\, Lake Havasu City\, AZ\, 86403
CATEGORIES:Comedy | Comedian,Event
ATTACH;FMTTYPE=image/png:https://murphydeals.com/wp-content/uploads/2022/12/openmiccomedyhour-1-e1670457773361.png
END:VEVENT
BEGIN:VEVENT
DTSTART;TZID=America/Phoenix:20230407T200000
DTEND;TZID=America/Phoenix:20230407T210000
DTSTAMP:20260425T063241
CREATED:20230119T202052Z
LAST-MODIFIED:20230119T221837Z
UID:10007058-1680897600-1680901200@murphydeals.com
SUMMARY:Open Mic Comedy Hour at Visionary
DESCRIPTION:
URL:https://murphydeals.com/event/open-mic-comedy-hour-at-visionary-2/2023-04-07/
LOCATION:Visionary Healing Arts Gallery\, 2100 McCulloch Blvd\, Lake Havasu City\, AZ\, 86403
CATEGORIES:Comedy | Comedian,Event
ATTACH;FMTTYPE=image/png:https://murphydeals.com/wp-content/uploads/2022/12/openmiccomedyhour-1-e1670457773361.png
END:VEVENT
BEGIN:VEVENT
DTSTART;TZID=America/Phoenix:20230317T200000
DTEND;TZID=America/Phoenix:20230317T210000
DTSTAMP:20260425T063241
CREATED:20221208T000313Z
LAST-MODIFIED:20230119T221849Z
UID:10007046-1679083200-1679086800@murphydeals.com
SUMMARY:Open Mic Comedy Hour at Visionary
DESCRIPTION:
URL:https://murphydeals.com/event/open-mic-comedy-hour-at-visionary/2023-03-17/
LOCATION:Visionary Healing Arts Gallery\, 2100 McCulloch Blvd\, Lake Havasu City\, AZ\, 86403
CATEGORIES:Comedy | Comedian,Event
ATTACH;FMTTYPE=image/png:https://murphydeals.com/wp-content/uploads/2022/12/openmiccomedyhour-1-e1670457773361.png
END:VEVENT
BEGIN:VEVENT
DTSTART;TZID=America/Phoenix:20230303T200000
DTEND;TZID=America/Phoenix:20230303T210000
DTSTAMP:20260425T063241
CREATED:20230119T202052Z
LAST-MODIFIED:20230119T221837Z
UID:10007057-1677873600-1677877200@murphydeals.com
SUMMARY:Open Mic Comedy Hour at Visionary
DESCRIPTION:
URL:https://murphydeals.com/event/open-mic-comedy-hour-at-visionary-2/2023-03-03/
LOCATION:Visionary Healing Arts Gallery\, 2100 McCulloch Blvd\, Lake Havasu City\, AZ\, 86403
CATEGORIES:Comedy | Comedian,Event
ATTACH;FMTTYPE=image/png:https://murphydeals.com/wp-content/uploads/2022/12/openmiccomedyhour-1-e1670457773361.png
END:VEVENT
BEGIN:VEVENT
DTSTART;TZID=America/Phoenix:20230217T200000
DTEND;TZID=America/Phoenix:20230217T210000
DTSTAMP:20260425T063241
CREATED:20221208T000313Z
LAST-MODIFIED:20230119T221849Z
UID:10007045-1676664000-1676667600@murphydeals.com
SUMMARY:Open Mic Comedy Hour at Visionary
DESCRIPTION:
URL:https://murphydeals.com/event/open-mic-comedy-hour-at-visionary/2023-02-17/
LOCATION:Visionary Healing Arts Gallery\, 2100 McCulloch Blvd\, Lake Havasu City\, AZ\, 86403
CATEGORIES:Comedy | Comedian,Event
ATTACH;FMTTYPE=image/png:https://murphydeals.com/wp-content/uploads/2022/12/openmiccomedyhour-1-e1670457773361.png
END:VEVENT
BEGIN:VEVENT
DTSTART;TZID=America/Phoenix:20230203T200000
DTEND;TZID=America/Phoenix:20230203T210000
DTSTAMP:20260425T063241
CREATED:20230119T202052Z
LAST-MODIFIED:20230119T221837Z
UID:10007056-1675454400-1675458000@murphydeals.com
SUMMARY:Open Mic Comedy Hour at Visionary
DESCRIPTION:
URL:https://murphydeals.com/event/open-mic-comedy-hour-at-visionary-2/2023-02-03/
LOCATION:Visionary Healing Arts Gallery\, 2100 McCulloch Blvd\, Lake Havasu City\, AZ\, 86403
CATEGORIES:Comedy | Comedian,Event
ATTACH;FMTTYPE=image/png:https://murphydeals.com/wp-content/uploads/2022/12/openmiccomedyhour-1-e1670457773361.png
END:VEVENT
BEGIN:VEVENT
DTSTART;TZID=America/Phoenix:20230127T183000
DTEND;TZID=America/Phoenix:20230127T200000
DTSTAMP:20260425T063241
CREATED:20230119T222547Z
LAST-MODIFIED:20230119T231240Z
UID:10007061-1674844200-1674849600@murphydeals.com
SUMMARY:Cleanse Your Soul ~ Vocal Sound Bath
DESCRIPTION:
URL:https://murphydeals.com/event/cleanse-your-soul-vocal-sound-bath/
LOCATION:Visionary Healing Arts Gallery\, 2100 McCulloch Blvd\, Lake Havasu City\, AZ\, 86403
CATEGORIES:Event
ATTACH;FMTTYPE=image/png:https://murphydeals.com/wp-content/uploads/2023/01/Vis1-1-e1674167027326.png
END:VEVENT
BEGIN:VEVENT
DTSTART;TZID=America/Phoenix:20230120T200000
DTEND;TZID=America/Phoenix:20230120T210000
DTSTAMP:20260425T063241
CREATED:20221208T000313Z
LAST-MODIFIED:20230119T221849Z
UID:10007044-1674244800-1674248400@murphydeals.com
SUMMARY:Open Mic Comedy Hour at Visionary
DESCRIPTION:
URL:https://murphydeals.com/event/open-mic-comedy-hour-at-visionary/2023-01-20/
LOCATION:Visionary Healing Arts Gallery\, 2100 McCulloch Blvd\, Lake Havasu City\, AZ\, 86403
CATEGORIES:Comedy | Comedian,Event
ATTACH;FMTTYPE=image/png:https://murphydeals.com/wp-content/uploads/2022/12/openmiccomedyhour-1-e1670457773361.png
END:VEVENT
END:VCALENDAR