BEGIN:VCALENDAR
VERSION:2.0
PRODID:-//Murphy Deals - ECPv6.15.20//NONSGML v1.0//EN
CALSCALE:GREGORIAN
METHOD:PUBLISH
X-ORIGINAL-URL:https://murphydeals.com
X-WR-CALDESC:Events for Murphy Deals
REFRESH-INTERVAL;VALUE=DURATION:PT1H
X-Robots-Tag:noindex
X-PUBLISHED-TTL:PT1H
BEGIN:VTIMEZONE
TZID:America/Phoenix
BEGIN:STANDARD
TZOFFSETFROM:-0700
TZOFFSETTO:-0700
TZNAME:MST
DTSTART:20220101T000000
END:STANDARD
END:VTIMEZONE
BEGIN:VEVENT
DTSTART;TZID=America/Phoenix:20230409T130000
DTEND;TZID=America/Phoenix:20230409T170000
DTSTAMP:20260425T190153
CREATED:20230403T223918Z
LAST-MODIFIED:20230403T223918Z
UID:10007435-1681045200-1681059600@murphydeals.com
SUMMARY:Family Game Day at YardCity in Lake Havasu
DESCRIPTION:April is Child Abuse Prevention Month! \nOn April 9 HAVEN is inviting all families to come to a FREE Family Game Day. There will be games\, activities\, crafts\, a photo booth\, face painting\, light refreshments\, and parenting resources. Come spend time with your family and enjoy a day of fun. The greatest gift you can give your child is your time!
URL:https://murphydeals.com/event/family-game-day-at-yardcity-in-lake-havasu/
LOCATION:YardCity\, 2101 McCulloch Blvd N\, Lake Havasu City\, AZ\, 86403\, United States
CATEGORIES:Event
ATTACH;FMTTYPE=image/jpeg:https://murphydeals.com/wp-content/uploads/2023/04/gameday-1-e1680561344227.jpg
END:VEVENT
END:VCALENDAR